BEGIN:VCALENDAR
VERSION:2.0
PRODID:-//HAUS DER STILLE - ECPv6.15.20//NONSGML v1.0//EN
CALSCALE:GREGORIAN
METHOD:PUBLISH
X-WR-CALNAME:HAUS DER STILLE
X-ORIGINAL-URL:https://www.haus-der-stille.at
X-WR-CALDESC:Veranstaltungen für HAUS DER STILLE
REFRESH-INTERVAL;VALUE=DURATION:PT1H
X-Robots-Tag:noindex
X-PUBLISHED-TTL:PT1H
BEGIN:VTIMEZONE
TZID:Europe/Vienna
BEGIN:DAYLIGHT
TZOFFSETFROM:+0100
TZOFFSETTO:+0200
TZNAME:CEST
DTSTART:20250330T010000
END:DAYLIGHT
BEGIN:STANDARD
TZOFFSETFROM:+0200
TZOFFSETTO:+0100
TZNAME:CET
DTSTART:20251026T010000
END:STANDARD
BEGIN:DAYLIGHT
TZOFFSETFROM:+0100
TZOFFSETTO:+0200
TZNAME:CEST
DTSTART:20260329T010000
END:DAYLIGHT
BEGIN:STANDARD
TZOFFSETFROM:+0200
TZOFFSETTO:+0100
TZNAME:CET
DTSTART:20261025T010000
END:STANDARD
BEGIN:DAYLIGHT
TZOFFSETFROM:+0100
TZOFFSETTO:+0200
TZNAME:CEST
DTSTART:20270328T010000
END:DAYLIGHT
BEGIN:STANDARD
TZOFFSETFROM:+0200
TZOFFSETTO:+0100
TZNAME:CET
DTSTART:20271031T010000
END:STANDARD
END:VTIMEZONE
BEGIN:VEVENT
DTSTART;TZID=Europe/Vienna:20261021T160000
DTEND;TZID=Europe/Vienna:20261021T183000
DTSTAMP:20260423T133104
CREATED:20260414T170218Z
LAST-MODIFIED:20260420T231425Z
UID:10000167-1792598400-1792607400@www.haus-der-stille.at
SUMMARY:Mittwoch-Meditation
DESCRIPTION:„Im Angesicht Gottes meinem Leben Raum geben“\nJeden Mittwoch im Haus der Stille: \n16 Uhr Körper- und Wahrnehmungsübungen \nEinfache Übungen zur Körper- und Atemwahrnehmung\, um gut im Hier und Jetzt anzukommen als Vorbereitung für die Meditation. \n17 bis 18:30 Uhr Meditation in der Stille \nWir beginnen um 17 Uhr im Zendo (Meditationsraum). Dann sitzen wir 3 x 20 Minuten in Stille. Diese Form gibt den verbindenden Rahmen für verschiedene Traditionen der Meditation. Dazwischen gibt es eine Gehmeditation. \nDie jeweilige Meditation wird angeleitet\, erklärt und begleitet. Auch Neueinsteiger:innen sind herzlich willkommen! \nStille ist ein Möglichkeitsraum für Veränderung und Wachstum mitten im Alltag. \n\n    gemeinsam in die Stille gehen\ninnehalten\, zur Ruhe kommen\ndich selbst ganz wahrnehmen\ndich ordnen (lassen)\ndich für das innere Gebet öffnen\n\nKeine Anmeldung erforderlich !
URL:https://www.haus-der-stille.at/veranstaltung/mittwoch-meditation/2026-10-21/
CATEGORIES:Gottesdienst,Sonderveranstaltung
ATTACH;FMTTYPE=image/jpeg:https://www.haus-der-stille.at/wp-content/uploads/2023/10/klangschale-Elisabeth-Fuhrer-Pixabay.jpg
END:VEVENT
BEGIN:VEVENT
DTSTART;TZID=Europe/Vienna:20261025T080000
DTEND;TZID=Europe/Vienna:20261101T200000
DTSTAMP:20260423T133104
CREATED:20260411T001816Z
LAST-MODIFIED:20260417T172234Z
UID:10000080-1792915200-1793563200@www.haus-der-stille.at
SUMMARY:Reise nach Assisi
DESCRIPTION:Eine Reise in Kooperation vom Haus der Stille und von Ofner Reisen. Begleitung durch Maria Grentner \nUnsere Reise führt uns nach Assisi und zu anderen wichtigen franziskanischen Orten. In Assisi begegnen wir den Lebensspuren des Hl. Franziskus und der Hl. Klara. Wir besuchen La Verna\, den Ort\, an dem Franziskus die Stigmata empfangen hat und Greccio\, den Ort der ersten Krippe. \nIn Florenz haben wir die Gelegenheit in der Kirche Santa Croce die älteste Bildbiografie des Hl. Franziskus zu betrachten. \nAm Vormittag sind wir auf den Spuren der beiden großen umbrischen Heiligen\, der hl. Klara und des hl. Franziskus\, unterwegs. An den Nachmittagen gibt es fast immer die Möglichkeit\, ca. 2 – 3 1/2 Stunden zu wandern. Wer nachmittags lieber eine längere Siesta machen möchte\, kann dies gerne tun und/oder die Stadt selbst weiter erkunden. Und natürlich wollen wir auch das italienische Flair genießen! Jeden Abend setzen wir uns kurz zusammen\, um den nächsten Tag zu planen. \n\n\n\n\n\n\n\n\n\nPreis: € 1.100\,- \n\n\n\nIm Preis enthalten: Busfahrt\, 1x NF\, 6x HP\, Eintritte\, Führungen und Begleitung Nicht enthalten sind: Einzelzimmerzuschlag\, Reiseversicherung\, \n\n\n\nNächtigung vor der Abfahrt in Graz ist auf Anfrage möglich. \n\n\n\nWeitere Infos erhälst du bei Maria: maria@haus-der-stille.at Programm Download \n\n\n\nAnmeldung: info@haus-der-stille.at oder office@ofner.at \nGeplantes Programm\n\nSo\, 25.10.       GRAZ – HAUS DER STILLE – PRATO \n\n\n\n\nAbfahrt: in Graz Wetzelsdorf: beim Haus der Stille: beim Park & Ride Graz Webling:\nFahrt bis Prato Art Hotel Museo (mit NF)\n\n\n\n\n\n\n\n\nMo\, 26.10.      FLORENZ – ASSISI \n\n\n\n\nStadtführung in Florenz und Führung in Santa Croce\n\n\n\nWeiterfahrt nach Assisi zum Hotel La Rocca (6x HP mit warmen Abendessen)\n\n\nDi\, 27.10.        ASSISI \n\n\n\n\nVormittag: Besichtigung der Rocca\, der Oberstadt (Klara)\, von San Rufino und des Zentrums (Franziskus)\nNachmittag: frei oder Wanderung am Weg der Klara von Bastia nach Assisi.\n\n\n\n\nMi\, 28.10.        ASSISI \n\n\n\n\nVormittag: Besichtigung von Santa Chiara\, San Damiano\, San Masseo\, S. Stefano\n\n\n\nNachmittag: frei oder Wanderung zur Einsiedelei Carceri\n\n\n\n\nDo\, 29.10.       LA VERNA (Ganztagesausflug) \n\n\n\n\nFahrt mit dem Bus nach La Verna (123km\, ca 2 Std hin und zurück)\n\n\n\nVormittag: Führung durch La Verna\n\n\n\nNachmittag: Verweilen in La Verna oder Wanderung auf den Monte Penna\n\n\n\n\nFr\, 30.10.         GRECCIO & CASCATA DELLE MARMORE (Ganztagesausflug) \n\n\n\n\nVormittag: Fahrt mit dem Bus zur Einsiedelei Greccio im Rietital (91 km\, ca 1 ½ Std hin und zurück)\n\n\n\nNachmittag: Fahrt zu den Wasserfällen Cascata delle Marmore. Verweilen im wunderschönen Gelände oder Wanderung entlang des Wasserfalles.\n\n\n\n\nSa\, 31.10.       ASSISI \n\n\n\n\nVormittags: Führung in San Francesco und Besichtigung\n\n\n\nNachmittags: frei oder Wanderung im Bosco di San Francesco\n\n\n\n\nSo\, 1.11.          RÜCKREISE \n\n\n\n\nAnkunft in Graz / Haus der Stille am Abend\nPause bei der Abbazzia Pomposa
URL:https://www.haus-der-stille.at/veranstaltung/reise-nach-assisi/
CATEGORIES:Kurs
ATTACH;FMTTYPE=image/jpeg:https://www.haus-der-stille.at/wp-content/uploads/2026/02/IMG_9344.jpeg
END:VEVENT
END:VCALENDAR