BEGIN:VCALENDAR
VERSION:2.0
PRODID:-//HAUS DER STILLE - ECPv6.15.20//NONSGML v1.0//EN
CALSCALE:GREGORIAN
METHOD:PUBLISH
X-ORIGINAL-URL:https://www.haus-der-stille.at
X-WR-CALDESC:Veranstaltungen für HAUS DER STILLE
REFRESH-INTERVAL;VALUE=DURATION:PT1H
X-Robots-Tag:noindex
X-PUBLISHED-TTL:PT1H
BEGIN:VTIMEZONE
TZID:Europe/Vienna
BEGIN:DAYLIGHT
TZOFFSETFROM:+0100
TZOFFSETTO:+0200
TZNAME:CEST
DTSTART:20250330T010000
END:DAYLIGHT
BEGIN:STANDARD
TZOFFSETFROM:+0200
TZOFFSETTO:+0100
TZNAME:CET
DTSTART:20251026T010000
END:STANDARD
BEGIN:DAYLIGHT
TZOFFSETFROM:+0100
TZOFFSETTO:+0200
TZNAME:CEST
DTSTART:20260329T010000
END:DAYLIGHT
BEGIN:STANDARD
TZOFFSETFROM:+0200
TZOFFSETTO:+0100
TZNAME:CET
DTSTART:20261025T010000
END:STANDARD
BEGIN:DAYLIGHT
TZOFFSETFROM:+0100
TZOFFSETTO:+0200
TZNAME:CEST
DTSTART:20270328T010000
END:DAYLIGHT
BEGIN:STANDARD
TZOFFSETFROM:+0200
TZOFFSETTO:+0100
TZNAME:CET
DTSTART:20271031T010000
END:STANDARD
END:VTIMEZONE
BEGIN:VEVENT
DTSTART;TZID=Europe/Vienna:20261005T080000
DTEND;TZID=Europe/Vienna:20261013T190000
DTSTAMP:20260423T221418
CREATED:20260411T001240Z
LAST-MODIFIED:20260417T105511Z
UID:10000079-1791187200-1791918000@www.haus-der-stille.at
SUMMARY:stille.foto.reise - Toskana
DESCRIPTION:Die XL-Variante der stillen.foto.reise in die Toskana führt uns diesmal drei Tage länger als sonst und damit noch intensiver in zwei der schönsten Landschaften der Toskana: die Crete Senesi und das Val d’Orcia. Insgesamt acht Nächte werden wir in zwei verschiedenen Quartieren in traumhafter Lage verbringen und uns fast ausschließlich zu Fuß in der Landschaft bewegen\, ca. 6 bis 15 km pro Tag. Grundsätzlich gilt: Wer bereit ist\, mehr zu gehen\, dem eröffnen sich auch andere Perspektiven. Stadtbesichtigungen und kulturelle Events sind nicht vorgesehen\, allerdings werden wir nach dem Fotografieren evtl. auf einen Kaffee einkehren oder auch einmal in einer kleinen Stadt essen gehen. \nWir brechen am Montag\, 5. Oktober 2026\, um 8.30 Uhr beim Haus der Stille auf. Leider kann das Haus der Stille wegen der aktuellen Umbauphase keine Nächtigungsmöglichkeit bieten. Wenn du eine solche brauchst\, können wir dir bei der Suche in der Umgebung behilflich sein. \nUnsere Quartiere bestehen aus Appartements mit jeweils 3 Doppelzimmern und (gemeinsamer) Küche. \nWir werden jeden Morgen und Nachmittag in eine andere Gegend fahren und besonders den Lichtstimmungen rund um den Sonnenaufgang (ca. 7:20 Uhr) und um den Sonnenuntergang (ca. 18:45 Uhr) nachspüren. Darum werden wir immer bereits um ca. 6.30 Uhr in der Früh aufbrechen und bis in den Vormittag hinein (9 – 11 Uhr) unterwegs sein. Nach dem ersten Fotografieren beim Sonnenaufgang halten wir inne für ein Morgenlob/einen spirituellen Tagesimpuls. Das Frühstück haben wir mit und werden danach beim Auto frühstücken. Vor der Rückfahrt ins Quartier gibt es sicher Gelegenheit für eine Kaffeepause in einem Ort. \nDie Mittagszeit werden wir entweder bei unserem Quartier verbringen oder irgendwo essen gehen. Am Nachmittag (ca. 15 Uhr) brechen wir auf zu unserer nächsten Wanderung. \nWie wir es mit dem Essen halten wollen\, werden wir uns in der Gruppe ausmachen. Wir können im Quartier zu Mittag oder am Abend selbst kochen oder auswärts essen gehen. \nEs ist auch möglich\, einen Tag (auch abhängig vom Wetter) zum Ausschlafen zu nützen und zumindest den Vormittag im Quartier zu verbringen.
URL:https://www.haus-der-stille.at/veranstaltung/stille-foto-reise-toskana/
CATEGORIES:Kurs
ATTACH;FMTTYPE=image/jpeg:https://www.haus-der-stille.at/wp-content/uploads/2025/11/2311-4502.jpg
END:VEVENT
BEGIN:VEVENT
DTSTART;TZID=Europe/Vienna:20261014T160000
DTEND;TZID=Europe/Vienna:20261014T183000
DTSTAMP:20260423T221418
CREATED:20260414T170218Z
LAST-MODIFIED:20260420T231425Z
UID:10000166-1791993600-1792002600@www.haus-der-stille.at
SUMMARY:Mittwoch-Meditation
DESCRIPTION:„Im Angesicht Gottes meinem Leben Raum geben“\nJeden Mittwoch im Haus der Stille: \n16 Uhr Körper- und Wahrnehmungsübungen \nEinfache Übungen zur Körper- und Atemwahrnehmung\, um gut im Hier und Jetzt anzukommen als Vorbereitung für die Meditation. \n17 bis 18:30 Uhr Meditation in der Stille \nWir beginnen um 17 Uhr im Zendo (Meditationsraum). Dann sitzen wir 3 x 20 Minuten in Stille. Diese Form gibt den verbindenden Rahmen für verschiedene Traditionen der Meditation. Dazwischen gibt es eine Gehmeditation. \nDie jeweilige Meditation wird angeleitet\, erklärt und begleitet. Auch Neueinsteiger:innen sind herzlich willkommen! \nStille ist ein Möglichkeitsraum für Veränderung und Wachstum mitten im Alltag. \n\n    gemeinsam in die Stille gehen\ninnehalten\, zur Ruhe kommen\ndich selbst ganz wahrnehmen\ndich ordnen (lassen)\ndich für das innere Gebet öffnen\n\nKeine Anmeldung erforderlich !
URL:https://www.haus-der-stille.at/veranstaltung/mittwoch-meditation/2026-10-14/
CATEGORIES:Gottesdienst,Sonderveranstaltung
ATTACH;FMTTYPE=image/jpeg:https://www.haus-der-stille.at/wp-content/uploads/2023/10/klangschale-Elisabeth-Fuhrer-Pixabay.jpg
END:VEVENT
END:VCALENDAR