BEGIN:VCALENDAR
VERSION:2.0
PRODID:-//HAUS DER STILLE - ECPv6.15.20//NONSGML v1.0//EN
CALSCALE:GREGORIAN
METHOD:PUBLISH
X-WR-CALNAME:HAUS DER STILLE
X-ORIGINAL-URL:https://www.haus-der-stille.at
X-WR-CALDESC:Veranstaltungen für HAUS DER STILLE
REFRESH-INTERVAL;VALUE=DURATION:PT1H
X-Robots-Tag:noindex
X-PUBLISHED-TTL:PT1H
BEGIN:VTIMEZONE
TZID:Europe/Vienna
BEGIN:DAYLIGHT
TZOFFSETFROM:+0100
TZOFFSETTO:+0200
TZNAME:CEST
DTSTART:20250330T010000
END:DAYLIGHT
BEGIN:STANDARD
TZOFFSETFROM:+0200
TZOFFSETTO:+0100
TZNAME:CET
DTSTART:20251026T010000
END:STANDARD
BEGIN:DAYLIGHT
TZOFFSETFROM:+0100
TZOFFSETTO:+0200
TZNAME:CEST
DTSTART:20260329T010000
END:DAYLIGHT
BEGIN:STANDARD
TZOFFSETFROM:+0200
TZOFFSETTO:+0100
TZNAME:CET
DTSTART:20261025T010000
END:STANDARD
BEGIN:DAYLIGHT
TZOFFSETFROM:+0100
TZOFFSETTO:+0200
TZNAME:CEST
DTSTART:20270328T010000
END:DAYLIGHT
BEGIN:STANDARD
TZOFFSETFROM:+0200
TZOFFSETTO:+0100
TZNAME:CET
DTSTART:20271031T010000
END:STANDARD
END:VTIMEZONE
BEGIN:VEVENT
DTSTART;TZID=Europe/Vienna:20260222T113000
DTEND;TZID=Europe/Vienna:20260322T170000
DTSTAMP:20260421T105249
CREATED:20260414T160343Z
LAST-MODIFIED:20260420T172841Z
UID:10000103-1771759800-1774198800@www.haus-der-stille.at
SUMMARY:Klimafasten 2026
DESCRIPTION:Wie kann ein bewusster Lebensstil nicht nur dem Klima und der Umwelt helfen\, sondern auch die eigene Gesundheit und die innere Zuversicht stärken?Klimafasten 2026 lädt dich ein\, über die Fastenzeit hinweg – analog und digital verbunden – ein persönliches Fastenziel zu definieren und schrittweise umzusetzen: eine konkrete\, alltagstaugliche Veränderung\, die sowohl deiner Gesundheit als auch dem Klima zugutekommt. \nAuf Basis eines individuellen Life-Style-Checks entwickelst du durch persönliches Handeln neue Routinen in den Bereichen Ernährung\, Mobilität\, Wohnen\, Konsum\, Arbeit oder zivilgesellschaftliches Engagement. Deiner Kreativität für klima- und umweltbezogene Ziele sind dabei keine Grenzen gesetzt. \nBegleitet wirst du von: \n\n\nWöchentlichen fachlichen und wissenschaftlichen Impulsen\n\n\nPraktischen Planetary-Health-Diet-Rezepten zum Selberkochen\n\n\nSpirituellen und empowernden Elementen\, die Zuversicht und Motivation stärken\n\n\nAustausch in der Gruppe – vor Ort und online\n\n\nFür wen ist Klimafasten 2026 geeignet? \nFür alle\, die \n\n\nihren Lebensstil bewusster und klimafreundlicher gestalten möchten\n\n\nkonkrete Schritte statt bloßer Vorsätze suchen\n\n\nWissenschaft\, Praxis und Spiritualität verbinden wollen\n\n\nLust auf Gemeinschaft\, Austausch und Inspiration haben\n\n\nMach mit – für dich\, für andere und für unseren Planeten.Klimafasten 2026 verbindet Kopf\, Herz und Handeln. \nAnmeldung\nEine Anmeldung zu den Online-Terminen (auch zu einzelnen Terminen) ist laufend möglich:info@haus-der-stille.at+43 3135 82625 \nTermine\nPräsenztermine:Sonntag\, 22. Februar 2026\, 11.30-15.00 Uhr im Haus der StilleSonntag\, 22. März 2026\, 14:00-17:00 Uhr im Science-Tower\, Graz \nOnline-Termine:jeweils donnerstags von 18:00-19:00 Uhr am26. Februar05. März12. März19. MärzDas Klimafasten 2026 findet in Kooperation mit JOANNEUM RESEARCH – LIFE statt.
URL:https://www.haus-der-stille.at/veranstaltung/klimafasten-2026/
CATEGORIES:Kurs
ATTACH;FMTTYPE=image/jpeg:https://www.haus-der-stille.at/wp-content/uploads/2024/11/fridays-for-future-4161573_1280.jpg
END:VEVENT
BEGIN:VEVENT
DTSTART;TZID=Europe/Vienna:20260223T090000
DTEND;TZID=Europe/Vienna:20260414T140000
DTSTAMP:20260421T105249
CREATED:20260414T155717Z
LAST-MODIFIED:20260420T172649Z
UID:10000102-1771837200-1776175200@www.haus-der-stille.at
SUMMARY:Studieren und Auszeit
DESCRIPTION:Eine Woche für Studierende\, die in Ruhe und umgeben von Natur für Prüfungen lernen bzw. an Bachelor-Arbeiten\, Master-Arbeiten oder Dissertationen arbeiten wollen. \n\n\ngeregelter Tagesablauf mit Frühstück\, Mittag- und Abendessen\n\n\nMorgenlauf oder Morgenyoga\n\n\ngemeinsame Studierzeiten im Co-Working-Space (wie in der Bib)\n\n\nwunderschöner Garten mit Obstbäumen\, Schafen & ruhigen Ecken zum Durchatmen\n\n\neinmal täglich Möglichkeit zu Austausch über Fortschritte und Herausforderungen mit anderen Studierenden und dem Team vom Haus der Stille\n\n\nhandwerkliches Mitarbeiten in Haus\, Küche oder Garten zum Ausgleich (ca. 1-2h/Tag)\n\n\nabends gemütlicher Tagesausklang in Gemeinschaft\n\n\nVerpflegung: vegetarisch-vegane Vollpension (3x täglich) mit Suppe\, Salat und Hauptspeise \nUnterbringung: Einzelzimmer mit Schrank\, Tisch und Waschbecken\, geteiltes WC und Dusche \nAnfahrt:Von Graz: Bus 500/501 bis Hausmannstätten Hühnerberg (30min) + 26min FußwegWeitere Optionen: www.haus-der-stille.at/kontakt/anreise/ \nZum Haus der Stille\nWir sind ein offener Ort für alle Menschen\, die Ruhe\, Frieden und Begegnung suchen. Aus einer katholisch-franziskanischen Tradition kommend hat sich das Haus der Stille schon früh für Spiritualität und Achtsamkeit verschiedenster Richtungen und Formen auf Augenhöhe geöffnet. Unsere regelmäßigen Angebote (3x täglich Meditationen und kurze Gebete) und weitere Events stehen allen Interessierten offen.
URL:https://www.haus-der-stille.at/veranstaltung/studieren-und-auszeit/
CATEGORIES:Kurs
ATTACH;FMTTYPE=image/jpeg:https://www.haus-der-stille.at/wp-content/uploads/2024/11/Girls_Studybook_anaterate_Wolfgang_Eckert_pixabay-e1737113676179.jpg
END:VEVENT
BEGIN:VEVENT
DTSTART;TZID=Europe/Vienna:20260318T160000
DTEND;TZID=Europe/Vienna:20260318T183000
DTSTAMP:20260421T105249
CREATED:20260414T170218Z
LAST-MODIFIED:20260420T231425Z
UID:10000136-1773849600-1773858600@www.haus-der-stille.at
SUMMARY:Mittwoch-Meditation
DESCRIPTION:„Im Angesicht Gottes meinem Leben Raum geben“\nJeden Mittwoch im Haus der Stille: \n16 Uhr Körper- und Wahrnehmungsübungen \nEinfache Übungen zur Körper- und Atemwahrnehmung\, um gut im Hier und Jetzt anzukommen als Vorbereitung für die Meditation. \n17 bis 18:30 Uhr Meditation in der Stille \nWir beginnen um 17 Uhr im Zendo (Meditationsraum). Dann sitzen wir 3 x 20 Minuten in Stille. Diese Form gibt den verbindenden Rahmen für verschiedene Traditionen der Meditation. Dazwischen gibt es eine Gehmeditation. \nDie jeweilige Meditation wird angeleitet\, erklärt und begleitet. Auch Neueinsteiger:innen sind herzlich willkommen! \nStille ist ein Möglichkeitsraum für Veränderung und Wachstum mitten im Alltag. \n\n    gemeinsam in die Stille gehen\ninnehalten\, zur Ruhe kommen\ndich selbst ganz wahrnehmen\ndich ordnen (lassen)\ndich für das innere Gebet öffnen\n\nKeine Anmeldung erforderlich !
URL:https://www.haus-der-stille.at/veranstaltung/mittwoch-meditation/2026-03-18/
CATEGORIES:Gottesdienst,Sonderveranstaltung
ATTACH;FMTTYPE=image/jpeg:https://www.haus-der-stille.at/wp-content/uploads/2023/10/klangschale-Elisabeth-Fuhrer-Pixabay.jpg
END:VEVENT
BEGIN:VEVENT
DTSTART;TZID=Europe/Vienna:20260319T143000
DTEND;TZID=Europe/Vienna:20260319T190000
DTSTAMP:20260421T105249
CREATED:20260414T153557Z
LAST-MODIFIED:20260420T171836Z
UID:10000094-1773930600-1773946800@www.haus-der-stille.at
SUMMARY:Wenn die Bibel ins Spiel kommt...
DESCRIPTION:Wir werden uns an diesem Nachmittag gemeinsam in Bewegungen und Prozesse begeben\, die es uns ermöglichen\, einen biblischen Text und seine Szenen neu zu entdecken. \n\n\n\nAnhand von Körperarbeit und unterschiedlichen methodischen Zugängen\, werden wir eintauchen in den pluralen Schriftsinn der Bibel. Im gemeinsamen Praktizieren\, im Austausch und der Reflexion soll für jede und jeden wahrnehmbar werden\, welche biografischen Szenen der Text zum Schwingen bringt und welche Ressourcen er für die einzelne/den einzelnen\, sowie die Gruppe als ganze gegenwärtig bereithält. \n\n\n\n\n\nBeitragsfoto © Andreas PasquayPortrait Maria Elisabeth Aigner © Alexandra Neubauer
URL:https://www.haus-der-stille.at/veranstaltung/wenn-die-bibel-ins-spiel-kommt/
CATEGORIES:Kurs
ATTACH;FMTTYPE=image/jpeg:https://www.haus-der-stille.at/wp-content/uploads/2025/11/25-12-Beitragsbild-Andreas-Pasquay-gelnhausen-139-co-1.jpg
END:VEVENT
END:VCALENDAR