BEGIN:VCALENDAR
VERSION:2.0
PRODID:-//HAUS DER STILLE - ECPv6.15.20//NONSGML v1.0//EN
CALSCALE:GREGORIAN
METHOD:PUBLISH
X-ORIGINAL-URL:https://www.haus-der-stille.at
X-WR-CALDESC:Veranstaltungen für HAUS DER STILLE
REFRESH-INTERVAL;VALUE=DURATION:PT1H
X-Robots-Tag:noindex
X-PUBLISHED-TTL:PT1H
BEGIN:VTIMEZONE
TZID:Europe/Vienna
BEGIN:DAYLIGHT
TZOFFSETFROM:+0100
TZOFFSETTO:+0200
TZNAME:CEST
DTSTART:20240331T010000
END:DAYLIGHT
BEGIN:STANDARD
TZOFFSETFROM:+0200
TZOFFSETTO:+0100
TZNAME:CET
DTSTART:20241027T010000
END:STANDARD
BEGIN:DAYLIGHT
TZOFFSETFROM:+0100
TZOFFSETTO:+0200
TZNAME:CEST
DTSTART:20250330T010000
END:DAYLIGHT
BEGIN:STANDARD
TZOFFSETFROM:+0200
TZOFFSETTO:+0100
TZNAME:CET
DTSTART:20251026T010000
END:STANDARD
BEGIN:DAYLIGHT
TZOFFSETFROM:+0100
TZOFFSETTO:+0200
TZNAME:CEST
DTSTART:20260329T010000
END:DAYLIGHT
BEGIN:STANDARD
TZOFFSETFROM:+0200
TZOFFSETTO:+0100
TZNAME:CET
DTSTART:20261025T010000
END:STANDARD
BEGIN:DAYLIGHT
TZOFFSETFROM:+0100
TZOFFSETTO:+0200
TZNAME:CEST
DTSTART:20270328T010000
END:DAYLIGHT
BEGIN:STANDARD
TZOFFSETFROM:+0200
TZOFFSETTO:+0100
TZNAME:CET
DTSTART:20271031T010000
END:STANDARD
END:VTIMEZONE
BEGIN:VEVENT
DTSTART;TZID=Europe/Vienna:20251224T220000
DTEND;TZID=Europe/Vienna:20251224T233000
DTSTAMP:20260423T105105
CREATED:20260414T211955Z
LAST-MODIFIED:20260414T211955Z
UID:10000408-1766613600-1766619000@www.haus-der-stille.at
SUMMARY:Wort-Gottes-Feier zur Heiligen Nacht
DESCRIPTION:mit Hans Waltersdorfer und dem Haus der Stille-Team
URL:https://www.haus-der-stille.at/veranstaltung/wort-gottes-feier-zur-heiligen-nacht/
CATEGORIES:Gottesdienst
ATTACH;FMTTYPE=image/jpeg:https://www.haus-der-stille.at/wp-content/uploads/2022/11/323_012-scaled-scaled.jpg
END:VEVENT
BEGIN:VEVENT
DTSTART;TZID=Europe/Vienna:20251225T113000
DTEND;TZID=Europe/Vienna:20251225T130000
DTSTAMP:20260423T105105
CREATED:20260414T211810Z
LAST-MODIFIED:20260414T211810Z
UID:10000407-1766662200-1766667600@www.haus-der-stille.at
SUMMARY:Wort-Gottes-Feier am Christtag
DESCRIPTION:mit Marlies Prettenthaler-Heckel und dem Haus der Stille-Team
URL:https://www.haus-der-stille.at/veranstaltung/wort-gottes-feier-am-christtag/
CATEGORIES:Gottesdienst
ATTACH;FMTTYPE=image/jpeg:https://www.haus-der-stille.at/wp-content/uploads/2022/11/323_012-scaled-scaled.jpg
END:VEVENT
BEGIN:VEVENT
DTSTART;TZID=Europe/Vienna:20251226T113000
DTEND;TZID=Europe/Vienna:20251226T123000
DTSTAMP:20260423T105105
CREATED:20260414T211637Z
LAST-MODIFIED:20260415T171704Z
UID:10000406-1766748600-1766752200@www.haus-der-stille.at
SUMMARY:kein Gottesdienst am Stefanitag
DESCRIPTION:Wir wünschen euch Gesegnete Weihnachten!\nEuer Team im Haus der Stille
URL:https://www.haus-der-stille.at/veranstaltung/33157/
CATEGORIES:Gottesdienst
ATTACH;FMTTYPE=image/jpeg:https://www.haus-der-stille.at/wp-content/uploads/2022/11/323_012-scaled-scaled.jpg
END:VEVENT
BEGIN:VEVENT
DTSTART;TZID=Europe/Vienna:20251227T180000
DTEND;TZID=Europe/Vienna:20260101T140000
DTSTAMP:20260423T105105
CREATED:20260414T211440Z
LAST-MODIFIED:20260415T171735Z
UID:10000405-1766858400-1767276000@www.haus-der-stille.at
SUMMARY:Abschluss und Aufbruch
DESCRIPTION:Wenn du die letzten Tage des Jahres bewusst und in Stille verbringen möchtest\, sei im Haus der Stille herzlich will kommen. Du hast die Möglichkeit\, ganz in der Stille zu sein\, oder die Gemeinschaft mit anderen zu suchen. In der „Stillen Morgenpost“ bekommst du tägliche Impulse für einen persönlichen Jahresrückblick\, zum Thema Dankbarkeit und Vertrauen\, Neuausrichtung und Entscheidung. Es gibt das Angebot eines persönlichen Begleitgesprächs\, einfache kreative Angebote sowie Körperübungen und natürlich die Gebetszeiten im Haus.\n\n \n\nmit Marlies Prettethaler-Heckel\, Johanna Hogrefe und dem Team im Haus der Stille \n\n \nOnline-Anmeldeschluss: 21.12.2025\n \nvon 23. – 26. Dezember sind der Gästebetrieb und das Büro geschlossen\n \nWenn du noch teilnehmen willst\, schreib bitte eine E-Mail an Marlies Prettenthaler-Heckel: marlies@haus-der-stille.at\n \nKursbeitrag\n \n€ 150\,-/ € 250\,- (Solidaritätsbeitrag)\n \nVollpension\n \n€ 300\,- (inkl. Neujahrsbuffet)\n \nWir freuen uns auf dich.
URL:https://www.haus-der-stille.at/veranstaltung/abschluss-und-aufbruch/
CATEGORIES:Kurs
ATTACH;FMTTYPE=image/jpeg:https://www.haus-der-stille.at/wp-content/uploads/2026/01/winter-InspiredImages-pixabay.jpg
END:VEVENT
END:VCALENDAR