BEGIN:VCALENDAR
VERSION:2.0
PRODID:-//HAUS DER STILLE - ECPv6.15.20//NONSGML v1.0//EN
CALSCALE:GREGORIAN
METHOD:PUBLISH
X-WR-CALNAME:HAUS DER STILLE
X-ORIGINAL-URL:https://www.haus-der-stille.at
X-WR-CALDESC:Veranstaltungen für HAUS DER STILLE
REFRESH-INTERVAL;VALUE=DURATION:PT1H
X-Robots-Tag:noindex
X-PUBLISHED-TTL:PT1H
BEGIN:VTIMEZONE
TZID:Europe/Vienna
BEGIN:DAYLIGHT
TZOFFSETFROM:+0100
TZOFFSETTO:+0200
TZNAME:CEST
DTSTART:20240331T010000
END:DAYLIGHT
BEGIN:STANDARD
TZOFFSETFROM:+0200
TZOFFSETTO:+0100
TZNAME:CET
DTSTART:20241027T010000
END:STANDARD
BEGIN:DAYLIGHT
TZOFFSETFROM:+0100
TZOFFSETTO:+0200
TZNAME:CEST
DTSTART:20250330T010000
END:DAYLIGHT
BEGIN:STANDARD
TZOFFSETFROM:+0200
TZOFFSETTO:+0100
TZNAME:CET
DTSTART:20251026T010000
END:STANDARD
BEGIN:DAYLIGHT
TZOFFSETFROM:+0100
TZOFFSETTO:+0200
TZNAME:CEST
DTSTART:20260329T010000
END:DAYLIGHT
BEGIN:STANDARD
TZOFFSETFROM:+0200
TZOFFSETTO:+0100
TZNAME:CET
DTSTART:20261025T010000
END:STANDARD
END:VTIMEZONE
BEGIN:VEVENT
DTSTART;TZID=Europe/Vienna:20250915T090000
DTEND;TZID=Europe/Vienna:20250919T140000
DTSTAMP:20260423T201802
CREATED:20260415T141844Z
LAST-MODIFIED:20260415T170922Z
UID:10000447-1757926800-1758290400@www.haus-der-stille.at
SUMMARY:Studieren und Auszeit
DESCRIPTION:Hinweis: Der Termin wurde geändert – aktueller Termin: 15.-19. September\n\n \n\nEine Woche für Studierende\, die in Ruhe und umgeben von Natur für Prüfungen lernen bzw. an Bachelor-Arbeiten\, Master-Arbeiten oder Dissertationen arbeiten wollen.\n\n \n\n 	geregelter Tagesablauf mit Frühstück\, Mittag- und Abendessen\n \n 	Morgenlauf oder Morgenyoga\n \n 	gemeinsame Studierzeiten im Co-Working-Space (wie in der Bib)\n \n 	wunderschöner Garten mit Obstbäumen\, Schafen & ruhigen Ecken zum Durchatmen\n \n 	einmal täglich Möglichkeit zu Austausch über Fortschritte und Herausforderungen mit anderen Studierenden und dem Team vom Haus der Stille\n \n 	handwerkliches Mitarbeiten in Haus\, Küche oder Garten zum Ausgleich (ca. 1-2h/Tag)\n \n 	abends gemütlicher Tagesausklang in Gemeinschaft\n\n \n\nVerpflegung: vegetarisch-vegane Vollpension (3x täglich) mit Suppe\, Salat und Hauptspeise\n\n \n\nUnterbringung: Einzelzimmer mit Schrank\, Tisch und Waschbecken\, geteiltes WC und Dusche\n\n \n\nAnfahrt:\nVon Graz: Bus 500/501 bis Hausmannstätten Hühnerberg (30min) + 26min Fußweg\nWeitere Optionen: www.haus-der-stille.at/kontakt/anreise/\n\n \nZum Haus der Stille\n \n\nWir sind ein offener Ort für alle Menschen\, die Ruhe\, Frieden und Begegnung suchen.\nAus einer katholisch-franziskanischen Tradition kommend hat sich das Haus der Stille schon früh für Spiritualität und Achtsamkeit verschiedenster Richtungen und Formen auf Augenhöhe geöffnet.\nUnsere regelmäßigen Angebote (3x täglich Meditationen und kurze Gebete) und weitere Events stehen allen Interessierten offen.\n\n \nLeitung\n \n\nPhil Wilfinger\nKlimawissenschaftler\, Ethikstudent und Experte für innovative Bildungsformate. Fachreferent für Zuversichtskompetenz im Haus der Stille.\n\n \nGesamtkosten\n \n\nAll inclusive-Package von Montag 22. September 9:00 Uhr – Freitag 26. September 2025 14:00 Uhr\n\n(Vollpension mit 3x täglich Mahlzeiten\, Unterkunft\, Betreuung und Angebote)\n\n \n\n€ 200\,-*\n\n \n\n*Solltest du dir diesen Betrag nicht leisten können\, nimm bitte Kontakt mit uns auf!\nWenn du gerne kommen möchtest\, finden wir sicher eine für dich passende Lösung.\nKontakt: phil@haus-der-stille.at
URL:https://www.haus-der-stille.at/veranstaltung/studieren-und-auszeit-2/
CATEGORIES:Kurs
ATTACH;FMTTYPE=image/jpeg:https://www.haus-der-stille.at/wp-content/uploads/2024/11/Girls_Studybook_anaterate_Wolfgang_Eckert_pixabay-e1737113676179.jpg
END:VEVENT
BEGIN:VEVENT
DTSTART;TZID=Europe/Vienna:20250919T160000
DTEND;TZID=Europe/Vienna:20250921T140000
DTSTAMP:20260423T201802
CREATED:20260415T141655Z
LAST-MODIFIED:20260415T170933Z
UID:10000446-1758297600-1758463200@www.haus-der-stille.at
SUMMARY:Frauenkraft-Seminar
DESCRIPTION:Vertraust du deiner Intuition\, deiner natürlichen Feinspürigkeit\, deinem Herzen? Folgst du deinen Träumen und Sehnsüchten? Weißt du\, wie vielschichtig und begabt du als Frau bist?\n\nFrauen haben das Potential liebende Herzenswesen\, Heldinnen\, Rebellinnen\, Feministinnen\, Impulsgeberinnen\, Über-Lebens-Künstlerinnen\, Metamorphosen-Meisterinnen\, kreative Schöpferinnen\, Friedensbotschafterinnen\, weise Heilerinnen und noch vieles mehr zu sein.\n\nAn diesem Wochenende ehren\, stärken und feiern wir unsere Weiblichkeit. Wir laden die Energie unserer Ahninnen und weiblichen Archetypen ein. Achtsam und wohlwollend begegnen wir uns selbst und den anderen Frauen\, spüren die Verbundenheit. Wir nähern uns mit viel Selbstmitgefühl alten Verletzungen/Blockaden\, befrieden\, transformieren. Wir lauschen dem weisen Herzen\, lassen uns freudig inspirieren und spüren Lust auf die pulsierende weibliche Urkraft des Lebens\, die sich durch uns ausdrücken möchte.\n\nDurch das Seminar begleiten uns ressourcenorientierte\, achtsame und meditative Übungen\, kraftvolle Herzenslieder\, Blockaden-lösende Körperübungen\, Tänze\, Naturerleben und Stille\, intuitives Schreiben\, heilsame Rituale und die tragende Kraft und Magie des Frauenkreises.\n\nGrafik ©unterrichtmitspass\n\n\nBitte mitbringen:\n \n\nBequeme Kleidung\, Decke\, ein Lieblingstuch\, 3 persönliche Lieblingsgegenstände\, Stift und Papier.\n\n \nLeitung\n \n\nRomana Ondra\nKlinische und Gesundheitspsychologin\, Trauma-Behandlerin\, Herzensmeditationslehrerin\n\n \nKursbeitrag\n \n\n€ 230\,- \nexkl. Aufenthaltskosten
URL:https://www.haus-der-stille.at/veranstaltung/frauenkraft-seminar-2/
CATEGORIES:Kurs
ATTACH;FMTTYPE=image/png:https://www.haus-der-stille.at/wp-content/uploads/2024/03/Bild.png
END:VEVENT
BEGIN:VEVENT
DTSTART;TZID=Europe/Vienna:20250919T170000
DTEND;TZID=Europe/Vienna:20250921T140000
DTSTAMP:20260423T201802
CREATED:20260415T141443Z
LAST-MODIFIED:20260415T170943Z
UID:10000445-1758301200-1758463200@www.haus-der-stille.at
SUMMARY:Weg in die Mitte des Herzens
DESCRIPTION:In diesen Schweigetagen wollen wir uns in das „Herzensgebet“ einüben\, einen sehr alten Übungsweg in der Tradition der christlichen Spiritualität. Er wurde schon im 3./4. Jh. von den Wüstenvätern und -müttern gepflegt. Diesen Weg vermitteln wir in der Tradition von Franz-Xaver Jans-Scheidegger – Begründer der Via Cordis (viacordis.net)\, einem Verein zur Förderung der christlichen Kontemplation in Europa. Es geht dabei um einen persönlichen Weg in die Kraftquellen des Herzens\, wo wir ein Stück Heilung\, Versöhnung und Frieden berühren\, den unsere Erde und unsere Zeit so dringend braucht.\n\n \n\nDie Schweigezeiten sind bereichert durch Impulse\, Leibarbeit\, kreatives Gestalten und Gesprächsmöglichkeiten.\n\n \nVoraussetzungen\n \n\nBereitschaft zum Sitzen in Stille und zum Schweigen.\nBitte bequeme Kleidung und Farben zum Gestalten mitnehmen.\n\n \nKursbeitrag\n \n\n€ 150\,-\nexkl. Aufenthaltskosten
URL:https://www.haus-der-stille.at/veranstaltung/weg-in-die-mitte-des-herzens-2/
CATEGORIES:Kurs
ATTACH;FMTTYPE=image/jpeg:https://www.haus-der-stille.at/wp-content/uploads/2023/07/Radschema_01.jpg
END:VEVENT
BEGIN:VEVENT
DTSTART;TZID=Europe/Vienna:20250919T180000
DTEND;TZID=Europe/Vienna:20250921T140000
DTSTAMP:20260423T201802
CREATED:20260415T141249Z
LAST-MODIFIED:20260415T170955Z
UID:10000444-1758304800-1758463200@www.haus-der-stille.at
SUMMARY:Stille Tage in Gemeinschaft
DESCRIPTION:Ein Wochenende nur für dich und Gott. Ein geistlicher Impuls zu Beginn\, ruhige Räume und Landschaften zum Beten und Gehen\, Möglichkeiten zum Begleitgespräch – und vor allem: viel Zeit für dich. Gott freut sich auf dich.\n\n \nLeitung\n \n\nSr. Katharina Fuchs\, Musiktherapeutin und Seelsorgerin\n\n \nKursbeitrag\n \n\n€ 30\,- (Mindestbeitrag)\n\n \n\nZuzüglich Vollpension
URL:https://www.haus-der-stille.at/veranstaltung/stille-tage-in-gemeinschaft-3/
CATEGORIES:Kurs
ATTACH;FMTTYPE=image/jpeg:https://www.haus-der-stille.at/wp-content/uploads/2022/05/IMG_4355.jpg
END:VEVENT
END:VCALENDAR