BEGIN:VCALENDAR
VERSION:2.0
PRODID:-//HAUS DER STILLE - ECPv6.15.20//NONSGML v1.0//EN
CALSCALE:GREGORIAN
METHOD:PUBLISH
X-WR-CALNAME:HAUS DER STILLE
X-ORIGINAL-URL:https://www.haus-der-stille.at
X-WR-CALDESC:Veranstaltungen für HAUS DER STILLE
REFRESH-INTERVAL;VALUE=DURATION:PT1H
X-Robots-Tag:noindex
X-PUBLISHED-TTL:PT1H
BEGIN:VTIMEZONE
TZID:Europe/Vienna
BEGIN:DAYLIGHT
TZOFFSETFROM:+0100
TZOFFSETTO:+0200
TZNAME:CEST
DTSTART:20240331T010000
END:DAYLIGHT
BEGIN:STANDARD
TZOFFSETFROM:+0200
TZOFFSETTO:+0100
TZNAME:CET
DTSTART:20241027T010000
END:STANDARD
BEGIN:DAYLIGHT
TZOFFSETFROM:+0100
TZOFFSETTO:+0200
TZNAME:CEST
DTSTART:20250330T010000
END:DAYLIGHT
BEGIN:STANDARD
TZOFFSETFROM:+0200
TZOFFSETTO:+0100
TZNAME:CET
DTSTART:20251026T010000
END:STANDARD
BEGIN:DAYLIGHT
TZOFFSETFROM:+0100
TZOFFSETTO:+0200
TZNAME:CEST
DTSTART:20260329T010000
END:DAYLIGHT
BEGIN:STANDARD
TZOFFSETFROM:+0200
TZOFFSETTO:+0100
TZNAME:CET
DTSTART:20261025T010000
END:STANDARD
END:VTIMEZONE
BEGIN:VEVENT
DTSTART;TZID=Europe/Vienna:20250909T180000
DTEND;TZID=Europe/Vienna:20250913T140000
DTSTAMP:20260423T201757
CREATED:20260415T143012Z
LAST-MODIFIED:20260415T170853Z
UID:10000450-1757440800-1757772000@www.haus-der-stille.at
SUMMARY:Vom Smartphone zur Stille
DESCRIPTION:Einmal wirklich aussteigen aus dem Hamsterrad des Tuns und aus dem Gedankenkarussell im Kopf. Heraustreten aus der Hektik und ein Eintreten in die Stille ist nicht ganz so einfach\, denn die äußere Stille kann einen innerlichen Lärm auslösen.\n\n \n\nHarald Pfohl begleitet dich mit seiner Erfahrung\, Einfühlsamkeit und spirituellen Orientierung auf deinem Weg von der hektischen Außenwelt mit den nahezu immerwährenden Forderungen für Familie\, Job und Freunde hin zu deiner inneren Ruhe und Zufriedenheit.\n\n \n\nDas Haus der Stille bietet dazu den idealen äußeren Rahmen und ist der geeignete Ort\, um Alltag und Spiritualität nachhaltig zu verbinden.\nMit der Stille im Außen gelingt die Hinführung zur Begegnung mit der Stimme in deinem Inneren. Dies zu entdecken\, ist eine wirksamen Entgegnung für die Stimmen des Smartphones\, dem Symbol für immerwährende Erreichbarkeit\, weitreichende Vernetzung mit permanent aktueller Information.\n\n \n\nDu sehnst dich nach einem Innehalten\, Atemholen\, Loslassen\, Entspannen\, einmal nur für dich da sein?\nGönne dir 5 Tage Auszeit und bereichere dein Leben.\nGestaltungselemente:\n\n \n\n 	Meditation\, Stille und Schweigen\n \n 	Systemische Aufstellungsarbeit (mit Symbolen)\n \n 	Impulse mit Weisheitsgeschichten und Zitaten\n \n 	Übungen für das Spürbewusstsein von Atem & Körper\n \n 	Austausch in der Gruppe und Einzelgespräche\n \n 	Impulse aus dem Buch „Vom Smartphone zur Stille“\n\n \nLeitung\n \n\nHarald Pfohl\nEr ist als Coach in Österreich und Kreta tätig. Nach 25 Jahren in führender Position im Bankwesen folgt er seit 2010 seiner Berufung und vertieft seine Ausbildung als Trainer und Coach mit spirituellen und systemischen Elementen. Sein Weg führte ihn dabei nach Kreta\, wo er heute als Gastgeber und Insel-Coach Menschen begleitet. Sein Wirken als Coach wird ergänzt durch Vorträge\, Workshops\, Seminare und Autorenschaft.\n\n \nKursbeitrag\n \n\n€ 240\,-\n\n \n\nzuzüglich Aufenthaltskosten\n\n \n\nDas Impulsbuch kann im HdS gekauft oder beim Kursleiter bestellt werden (harald.pfohl@gmx.at)\n\n \nVoraussetzungen\n \n\nPsychische Stabilität
URL:https://www.haus-der-stille.at/veranstaltung/vom-smartphone-zur-stille/
CATEGORIES:Kurs
ATTACH;FMTTYPE=image/png:https://www.haus-der-stille.at/wp-content/uploads/2025/02/Buchcover-vom-smartphone-zur-stille-Format-Web-Harald-Pfohl.png
END:VEVENT
BEGIN:VEVENT
DTSTART;TZID=Europe/Vienna:20250913T140000
DTEND;TZID=Europe/Vienna:20250914T140000
DTSTAMP:20260423T201757
CREATED:20260415T142730Z
LAST-MODIFIED:20260415T170910Z
UID:10000449-1757772000-1757858400@www.haus-der-stille.at
SUMMARY:WIR TUN UNS GUT(ES)
DESCRIPTION:Möchtest du mit deinem Partner eine Auszeit nehmen? \nMöchtest du mit Menschen Zeit verbringen\, die auch lernen wollen wie sie IHREN ALLTAG mit neuen Ritualen BELEBEN  können? \nDANN BIST DU bei der bewussten Auszeit für Paare IM HAUS DER STILLE richtig. \nWir wollen miteinander \n\n\nVerweilen und Innehalten\n\n\nKörperübungen lernen und üben\, die uns in unsere Mitte führen\n\n\nUnsere Körper harmonisieren (unter anderem durch Heilströmen)\n\n\nPunkte unserer Körper kennenlernen\, die uns unterstützen wahre Seelenfreude kraftvoll zu leben\n\n\nÜben um auch zu Hause für den Alltag und seine Vielfalt vorbereitet zu sein\n\n\nDie Auszeit für Paare ermöglicht dir\, dein Leben mit neuen Ritualen zu bereichern. \nLeitung\nErika PammerRitualbegleitung\, Erwachsenenbildung \nKursbeitrag\n€ 150\,- pro Paar \nzuzüglich Unterkunft und Verpflegung
URL:https://www.haus-der-stille.at/veranstaltung/wir-tun-uns-gutes/
CATEGORIES:Kurs
ATTACH;FMTTYPE=image/jpeg:https://www.haus-der-stille.at/wp-content/uploads/2025/02/Erika-Foto-Seminar-2025.jpg
END:VEVENT
BEGIN:VEVENT
DTSTART;TZID=Europe/Vienna:20250914T090000
DTEND;TZID=Europe/Vienna:20250914T190000
DTSTAMP:20260423T201757
CREATED:20260415T142428Z
LAST-MODIFIED:20260417T113501Z
UID:10000448-1757840400-1757876400@www.haus-der-stille.at
SUMMARY:Heilsame Begegnung mit Körper und Bibel
DESCRIPTION:Was erwartet dich? \n\n\n\n\nKörperwissen verständlich erklärt – Anatomie & Physiologie als Schlüssel zur Heilung\n\n\n\nKörpermeditationen – neue Erfahrungen spüren und verankern\n\n\n\nFocusing & Gruppenarbeit – die eigene Körperweisheit entdecken\n\n\n\nKreative Ausdrucksformen – Verkörperte Erkenntnisse vertiefen\n\n\n\nBibelarbeit –Bedeutung der Bibel für den eigenen Glaubens- und Lebensweg erfahren\n\n\n\n\nWir singen und tanzen\, wir sprechen und sammeln uns. \n\n\n\nIn unseren Workshops geht es darum\, den eigenen Körper neu kennenzulernen und auch eine heilsame Verbindung zu ihm aufzubauen. Wir arbeiten mit biblischen Texten\, die das jeweilige Körperthema aufgreifen und vertiefen. Dabei kommen unterschiedlichste Methoden zum Einsatz. \n\n\n\nLeitung\n\n\n\nTrixi Zotlöterer Pädagogin\, Tanz– u. Bewegungstherapeutin\, Gestalttrainerin IIGS und Paarberaterin VIPP \n\n\n\nIrmi Lenius MSc. Osteopathin\, Lebensberaterin\, Gestaltpädagogin IIGS und Focusingberaterin \n\n\n\nKursbeitrag\n\n\n\n€ 120\,- (inklusive Mittagessen und Abendessen)
URL:https://www.haus-der-stille.at/veranstaltung/heilsame-begegnung-mit-koerper-und-bibel/
CATEGORIES:Kurs
ATTACH;FMTTYPE=image/png:https://www.haus-der-stille.at/wp-content/uploads/2022/10/Heil-werden-Bild-scaled.png
END:VEVENT
END:VCALENDAR