BEGIN:VCALENDAR
VERSION:2.0
PRODID:-//HAUS DER STILLE - ECPv6.15.20//NONSGML v1.0//EN
CALSCALE:GREGORIAN
METHOD:PUBLISH
X-WR-CALNAME:HAUS DER STILLE
X-ORIGINAL-URL:https://www.haus-der-stille.at
X-WR-CALDESC:Veranstaltungen für HAUS DER STILLE
REFRESH-INTERVAL;VALUE=DURATION:PT1H
X-Robots-Tag:noindex
X-PUBLISHED-TTL:PT1H
BEGIN:VTIMEZONE
TZID:Europe/Vienna
BEGIN:DAYLIGHT
TZOFFSETFROM:+0100
TZOFFSETTO:+0200
TZNAME:CEST
DTSTART:20240331T010000
END:DAYLIGHT
BEGIN:STANDARD
TZOFFSETFROM:+0200
TZOFFSETTO:+0100
TZNAME:CET
DTSTART:20241027T010000
END:STANDARD
BEGIN:DAYLIGHT
TZOFFSETFROM:+0100
TZOFFSETTO:+0200
TZNAME:CEST
DTSTART:20250330T010000
END:DAYLIGHT
BEGIN:STANDARD
TZOFFSETFROM:+0200
TZOFFSETTO:+0100
TZNAME:CET
DTSTART:20251026T010000
END:STANDARD
BEGIN:DAYLIGHT
TZOFFSETFROM:+0100
TZOFFSETTO:+0200
TZNAME:CEST
DTSTART:20260329T010000
END:DAYLIGHT
BEGIN:STANDARD
TZOFFSETFROM:+0200
TZOFFSETTO:+0100
TZNAME:CET
DTSTART:20261025T010000
END:STANDARD
END:VTIMEZONE
BEGIN:VEVENT
DTSTART;TZID=Europe/Vienna:20250727T180000
DTEND;TZID=Europe/Vienna:20250801T140000
DTSTAMP:20260423T213858
CREATED:20260415T144931Z
LAST-MODIFIED:20260415T170735Z
UID:10000457-1753639200-1754056800@www.haus-der-stille.at
SUMMARY:Meditatives Gestalten mit Pflanzen
DESCRIPTION:Blumen bringen Farbe und Freude in unser Leben. Sie preisen Gott\, den Schöpfer aller Dinge\, in Stille. Im Wechsel der Jahreszeiten wollen wir dem nachspüren.\nIkebana ist meditatives Üben des Blumenstellens. Wir wollen die Schönheit und Eigenart der Pflanzen zur Geltung bringen.\n\nKurselemente:\n• Demonstration der Arrangements\n• Wir gehen in Garten und Wiese und wählen mit Bedacht Zweige oder Blumen\n• Üben des Arrangierens\n• Korrektur\, wenn erwünscht\n\n \nVoraussetzungen\n \n\nVorerfahrung ist nicht erforderlich\, wohl aber die Bereitschaft\, sich für einige Stunden in Stille darauf einzulassen.\nBitte zeitgerecht anmelden\, damit nähere Informationen zugeschickt werden können.\n\n \nLeitung\n \n\nRenate Kaiblinger\nfreie Mitarbeiterin im Haus der Stille\, Diplompädagogin\, logotherapeutische Beraterin\n\n \nKursbeitrag\n \n\n€ 80\,-
URL:https://www.haus-der-stille.at/veranstaltung/meditatives-gestalten-mit-pflanzen-2/
CATEGORIES:Kurs
ATTACH;FMTTYPE=image/jpeg:https://www.haus-der-stille.at/wp-content/uploads/2022/09/Ikebana-e1708271946661.jpg
END:VEVENT
BEGIN:VEVENT
DTSTART;TZID=Europe/Vienna:20250728T180000
DTEND;TZID=Europe/Vienna:20250801T140000
DTSTAMP:20260423T213858
CREATED:20260415T144746Z
LAST-MODIFIED:20260415T170746Z
UID:10000456-1753725600-1754056800@www.haus-der-stille.at
SUMMARY:achtsam - närrisch - weise
DESCRIPTION:In jedem und jeder von uns steckt ein Clown\, der neugierig die Welt erstaunen möchte.\nIn diesen Sommertagen kommen wir achtsam und spielerisch dem Clown in uns auf die Spur und lassen uns davon inspirieren: im Hier und Jetzt ankommen\, bejahen was ist\, überraschende Blickwinkel entdecken\, absichtslos da sein\, lustvoll scheitern\, Freude und Leichtigkeit erfahren.\nDurch spielerisch-kreatives Tun\, Achtsamkeits- und Körperübungen\, meditative Elemente und biblische Impulse entdecken wir die Haltung des Clowns und spüren der Verbindung zu unserer Spiritualität nach.\n\n \n\nDie Vormittage gestalten wir gemeinsam. Die Nachmittage stehen zur freien Verfügung: zum Nachspüren\, Aufschreiben\, Seele baumeln lassen\, der Stille lauschen\, den Garten genießen. Jede/r nach Lust und Laune.\n\n \nKursleitung\n \n\nConstanze Moritz\, Dipl. Erwachsenenbildnerin und Clownin\, Spielpädagogin\, Coach\, Theologischer Kurs\n\n \nKursbeitrag\n \n\n€ 165\,–\nexkl. Aufenthaltskosten\n\n \n\nWer eine eigene rote Nase mitbringt\, braucht keine Materialkosten von € 3.- zahlen.
URL:https://www.haus-der-stille.at/veranstaltung/achtsam-naerrisch-weise/
CATEGORIES:Kurs
ATTACH;FMTTYPE=image/jpeg:https://www.haus-der-stille.at/wp-content/uploads/2023/07/Clownin.jpg
END:VEVENT
BEGIN:VEVENT
DTSTART;TZID=Europe/Vienna:20250801T160000
DTEND;TZID=Europe/Vienna:20250803T140000
DTSTAMP:20260423T213858
CREATED:20260415T144539Z
LAST-MODIFIED:20260415T170756Z
UID:10000455-1754064000-1754229600@www.haus-der-stille.at
SUMMARY:Achtsames Begegnen und Bewegen
DESCRIPTION:Wir verbinden die beiden Methoden Authentic Movement und Interpersonelle Achtsamkeit. In beiden übst du achtsam und bewusst\, mit dir selbst und einem Gegenüber umzugehen.\n\n \n\nDabei eröffnet dir eine klare Struktur einen geschützten Freiraum\, dir selbst und einander zu begegnen.\n\n \n\nAuthentic Movement ist eine Bewegungspraxis\, ohne Musik und großteils mit geschlossenen Augen. Du öffnest dich dem\, was dich bewegt und lässt dich von inneren und äußeren Impulsen bewegen. Dabei wirst du mit liebevoller Aufmerksamkeit von dir selbst und einem Gegenüber begleitet.\n\n \n\nInterpersonelle Achtsamkeit – Einsichtsdialog\, übt Achtsamkeit im zwischenmenschlichen Dialog. Dies wird vereinfacht\, indem es anfangs eine fixe Sprecherin und eine Zuhörerin gibt. Innezuhalten und sich zu entspannen\, helfen dabei\, die meditative Haltung immer wieder zu finden.\n\n \n\nDer Kern beider Wege ist\, dich freundlich dem zuzuwenden\, was sich von Moment zu Moment in deiner körperlichen\, emotionalen und gedanklichen Bewegtheit zeigt.\n\n \n\nSie ermöglichen so\, dir selbst und einem Gegenüber immer wieder neu zu begegnen. Meditieren im Sitzen\, Körperübungen und freies Bewegen betten diese Praxis ein.\n\n \nLeitung\n \n\nBettina Bergmair\, Tanzpädagogin\, Alexandertechniklehrerin\, Theologin\, Authentic Movement Begleiterin\n\n \n\nHelmut Renger\, Psychiater\, Psychotherapeut und Lehrer für Achtsamkeitsbasierte Interventionen\, Zenpraxis seit 1992\n\n \nKursbeitrag\n \n\n€ 165\,-\nexkl. Aufenthaltskosten
URL:https://www.haus-der-stille.at/veranstaltung/achtsames-begegnen-und-bewegen/
CATEGORIES:Kurs
ATTACH;FMTTYPE=image/jpeg:https://www.haus-der-stille.at/wp-content/uploads/2022/10/HildegardvonBingen.jpg
END:VEVENT
END:VCALENDAR