BEGIN:VCALENDAR
VERSION:2.0
PRODID:-//HAUS DER STILLE - ECPv6.15.20//NONSGML v1.0//EN
CALSCALE:GREGORIAN
METHOD:PUBLISH
X-WR-CALNAME:HAUS DER STILLE
X-ORIGINAL-URL:https://www.haus-der-stille.at
X-WR-CALDESC:Veranstaltungen für HAUS DER STILLE
REFRESH-INTERVAL;VALUE=DURATION:PT1H
X-Robots-Tag:noindex
X-PUBLISHED-TTL:PT1H
BEGIN:VTIMEZONE
TZID:Europe/Vienna
BEGIN:DAYLIGHT
TZOFFSETFROM:+0100
TZOFFSETTO:+0200
TZNAME:CEST
DTSTART:20240331T010000
END:DAYLIGHT
BEGIN:STANDARD
TZOFFSETFROM:+0200
TZOFFSETTO:+0100
TZNAME:CET
DTSTART:20241027T010000
END:STANDARD
BEGIN:DAYLIGHT
TZOFFSETFROM:+0100
TZOFFSETTO:+0200
TZNAME:CEST
DTSTART:20250330T010000
END:DAYLIGHT
BEGIN:STANDARD
TZOFFSETFROM:+0200
TZOFFSETTO:+0100
TZNAME:CET
DTSTART:20251026T010000
END:STANDARD
BEGIN:DAYLIGHT
TZOFFSETFROM:+0100
TZOFFSETTO:+0200
TZNAME:CEST
DTSTART:20260329T010000
END:DAYLIGHT
BEGIN:STANDARD
TZOFFSETFROM:+0200
TZOFFSETTO:+0100
TZNAME:CET
DTSTART:20261025T010000
END:STANDARD
END:VTIMEZONE
BEGIN:VEVENT
DTSTART;TZID=Europe/Vienna:20250530T180000
DTEND;TZID=Europe/Vienna:20250601T140000
DTSTAMP:20260423T232238
CREATED:20260415T153505Z
LAST-MODIFIED:20260415T170259Z
UID:10000478-1748628000-1748786400@www.haus-der-stille.at
SUMMARY:Qi Gong
DESCRIPTION:An diesem Wochenende werden wir tiefer in die Qi Gong Praxis sowie in die Philosophie dieser jahrtausendealten Praxis eintauchen. Du wirst erfahren\, wie positiv und nährend sich einfache Qi Gong Übungen auf dein ganzes Körper-Geist-System auswirken können.\n\n \n\nNeben der Körperlichen Praxis („Lebenspflege Übungen für zwischendurch“) tauchen wir auch in Nei Gong ein (die Stille Praxis).\nDas ist der meditative Teil aus der Qigong Praxis\, die im Sitzen oder Liegen ausgeübt werden kann.\n\n \n\nVoraussetzungen:\nVorerfahrungen in Yoga und Schweigen sind wünschenswert doch nicht erforderlich. Das Wichtigste ist offen für diese Praxis und dennoch so erwartungslos wie möglich zu sein.\nAlle Mahlzeiten werden im Schweigen eingenommen.\n\n \nLeitung\n \n\nParvati Daniela Macheiner\nZert. Yogalehrerin-Yin Yoga-Yoga für Schwangere und Kinder-Qigong\n\n \nKursbeitrag\n \n\n€ 140\,-\n\n \n\nzuzüglich Aufenthaltskosten
URL:https://www.haus-der-stille.at/veranstaltung/qi-gong-2/
CATEGORIES:Kurs
ATTACH;FMTTYPE=image/jpeg:https://www.haus-der-stille.at/wp-content/uploads/2024/01/Foto-Qigong-scaled-e1707904135155.jpg
END:VEVENT
BEGIN:VEVENT
DTSTART;TZID=Europe/Vienna:20250601T170000
DTEND;TZID=Europe/Vienna:20250603T160000
DTSTAMP:20260423T232238
CREATED:20260415T153257Z
LAST-MODIFIED:20260415T170310Z
UID:10000477-1748797200-1748966400@www.haus-der-stille.at
SUMMARY:Brannte nicht unser Herz ...
DESCRIPTION:Der „Lehrgang für biblische Kompetenz in Pastoral und Bildungsarbeit“ ist für alle\, die die Bibel in der Seelsorge und Bildungsarbeit stärker einbinden wollen\, eine ideale Fortbildungsmöglichkeit.\n\n \n\nDie fünf zweieinhalbtägigen Module (November 2024 bis Juni 2025 im Haus der Stille) haben das Ziel\, die tägliche Arbeit biblisch zu fundieren und die Bibel als Fundament und Seele der Pastoral zu erleben.\n\n \n\nAlle Infos:\nhttps://www.katholische-kirche-steiermark.at/portal/glaubenfeiern/glaubenswissen/bibel/bibelveranstaltungenundte/article/51853.html\n\n \nInformation und Anmeldung:\n \n\nÖsterreichisches Katholisches Bibelwerk\nwww.bibelwerk.at\nE-Mail: sekretariat@bibelwerk.at\nTel.: +43 (0)1 516 11 1560
URL:https://www.haus-der-stille.at/veranstaltung/brannte-nicht-unser-herz/
CATEGORIES:Kurs
ATTACH;FMTTYPE=image/jpeg:https://www.haus-der-stille.at/wp-content/uploads/2024/08/Biblische_Kompetenz_in_Pastoral_und_Bildungsarbeit_Pixabay.jpg
END:VEVENT
BEGIN:VEVENT
DTSTART;TZID=Europe/Vienna:20250608T113000
DTEND;TZID=Europe/Vienna:20250608T130000
DTSTAMP:20260423T232238
CREATED:20260415T153114Z
LAST-MODIFIED:20260415T153114Z
UID:10000476-1749382200-1749387600@www.haus-der-stille.at
SUMMARY:Wort-Gottes-Feier zum Pfingstsonntag
DESCRIPTION:mit Marlies Prettenthaler-Heckel
URL:https://www.haus-der-stille.at/veranstaltung/wort-gottes-feier-zum-pfingstsonntag/
CATEGORIES:Gottesdienst
ATTACH;FMTTYPE=image/jpeg:https://www.haus-der-stille.at/wp-content/uploads/2022/02/IMG_7991.jpg
END:VEVENT
BEGIN:VEVENT
DTSTART;TZID=Europe/Vienna:20250613T160000
DTEND;TZID=Europe/Vienna:20250615T140000
DTSTAMP:20260423T232238
CREATED:20260415T152830Z
LAST-MODIFIED:20260415T170324Z
UID:10000475-1749830400-1749996000@www.haus-der-stille.at
SUMMARY:stille.foto+haiku
DESCRIPTION:Haiku ist eine traditionelle Gedichtform aus Japan. In knappen Worten werden ein erlebter Moment und die damit verbundenen Gefühle komprimiert.Reduktion auf Weniges\, Wesentliches ist auch das Stilmittel meditativer Fotografie.Im achtsamen Hinausgehen in die Natur wollen wir in diesem Seminar unsere Sinne schärfen und erlebte Momente und Beobachtungen am Rande des Weges komprimiert in Wort und Bild fassen. \n\n\neinführende Impulse zur Bildgestaltung und zum Verfassen von Haikus\n\n\nVorstellen und Besprechen der Ergebnisse in der Gruppe\n\n\nGebetszeiten und Gottesdienste im Haus der Stille\n\n\nMitzubringen\n\n\nKamera (egal ob analog oder digital\, „Amateur“ oder „Profi “)\n\n\nder Witterung entsprechende Kleidung\n\n\nkleiner Notizblock\, Stift\n\n\nKursbeitrag\n€ 75\,–exkl. Aufenthaltskosten
URL:https://www.haus-der-stille.at/veranstaltung/stille-fotohaiku/
CATEGORIES:Kurs
ATTACH;FMTTYPE=image/png:https://www.haus-der-stille.at/wp-content/uploads/2022/11/stillefototage-e1708271804731.png
END:VEVENT
BEGIN:VEVENT
DTSTART;TZID=Europe/Vienna:20250613T170000
DTEND;TZID=Europe/Vienna:20250615T140000
DTSTAMP:20260423T232238
CREATED:20260415T152617Z
LAST-MODIFIED:20260415T170336Z
UID:10000474-1749834000-1749996000@www.haus-der-stille.at
SUMMARY:Tanz als Gebet
DESCRIPTION:„Tanz als Gebet“ ist die Einladung mit einfachen Kreistänzen um eine Christusikone Schritt für Schritt in die Gegenwart zu kommen um Gott begegnen zu können dem ICH BIN DA. Das GEMEINSAME auf-dem-Weg-Sein um und zu dieser Mitte ist dabei eine wertvolle Bereicherung. \n\n\n\nDer Schwerpunkt des Kurses liegt nicht auf dem Erlernen von Tanzschritten und Tänzen sondern auf dem Berührt-werden von der göttlichen Gegenwart. Kurze Impulse zu den Tänzen und Tanzthemen werden als Unterstützung auf dem Weg angeboten. \n\n\n\nWährend der Tanzeinheiten und in den Pausen bleiben die Teilnehmenden im Schweigen. \n\n\n\n„Ich lobe den Tanz\, denn er befreit den Menschen von der Schwere der Dinge\, bindet den Vereinzelten an die Gemeinschaft. Ich lobe den Tanz\, der alles fordert und fördert\, Gesundheit und klaren Geist und eine beschwingte Seele. Tanz ist Verwandlung des Raumes\, der Zeit\, des Menschen\, der dauernd in Gefahr ist zu zerfallen\, ganz Hirn\, Wille oder Gefühl zu werden. Der Tanz dagegen fordert den ganzen Menschen\, der in seiner Mitte verankert ist\,… ….im Gleichgewicht aller Kräfte. \n\n\n \nAuszug aus einem Text\, der dem Hl. Augustinus zugeschrieben wird \n\n\n \nVoraussetzungen\n\n\n \nEs sind keine tänzerischen Vorkenntnisse notwendig. Bereitschaft zum Schweigen \n\n\n \nKursbeitrag\n\n\n \n€ 100\,- exkl. Aufenthaltskosten
URL:https://www.haus-der-stille.at/veranstaltung/tanz-als-gebet-3/
CATEGORIES:Kurs
ATTACH;FMTTYPE=image/jpeg:https://www.haus-der-stille.at/wp-content/uploads/2022/12/Foto-Ikone-1-e1708271783759.jpg
END:VEVENT
BEGIN:VEVENT
DTSTART;TZID=Europe/Vienna:20250616T180000
DTEND;TZID=Europe/Vienna:20250620T140000
DTSTAMP:20260423T232238
CREATED:20260415T152337Z
LAST-MODIFIED:20260415T170347Z
UID:10000473-1750096800-1750428000@www.haus-der-stille.at
SUMMARY:Achtsamkeit - Aus der Ruhe in die Kraft
DESCRIPTION:Achtsam sein bedeutet\, bewusst im gegenwärtigen Moment zu sein und wahrzunehmen\, was gerade ist.\nWir praktizieren Achtsamkeitsübungen\, wie die Körperwahrnehmung\, die Aufmerksamkeit auf den Atemrhythmus\, Meditationsformen im Sitzen und Gehen.\nDie Übungen führen uns sukzessive aus hartnäckigen Gedankenschleifen und belastenden Emotionsmustern und tragen daher wirksam zum Abbau von Stress bei.\n\n \n\nAchtsamkeit bringt mehr Gelassenheit und Freude in unser Leben\, weil wir lernen unser inneres Erleben bewusst zu steuern.\nDie Theorie und der Austausch in der Gruppe unterstützt das Verständnis in die Achtsamkeitspraxis.\nBei schönem Wetter findet der Kurs zeitweise im Freien statt.\nDie Nachmittage sind kursfrei.\n\n \nLeitung\n \n\nPetra Vogel-Kern\nAchtsamkeitstrainerin\, Yogalehrerin\, Heilpraktikerin für Psychotherapie\n\n \nKursbeitrag\n \n\n€ 235\,–\nexkl. Aufenthaltskosten
URL:https://www.haus-der-stille.at/veranstaltung/achtsamkeit-aus-der-ruhe-in-die-kraft/
CATEGORIES:Kurs
ATTACH;FMTTYPE=image/jpeg:https://www.haus-der-stille.at/wp-content/uploads/2023/07/earth-woman-sunset-Gerd-Altmann-Pixabay.jpg
END:VEVENT
BEGIN:VEVENT
DTSTART;TZID=Europe/Vienna:20250619T084500
DTEND;TZID=Europe/Vienna:20250619T120000
DTSTAMP:20260423T232238
CREATED:20260415T152146Z
LAST-MODIFIED:20260415T152146Z
UID:10000472-1750322700-1750334400@www.haus-der-stille.at
SUMMARY:Mit der Schöpfungsfahne zum Fronleichnamsfest in GRAZ
DESCRIPTION:mit Marlies Prettenthaler-Heckel und dem Haus der Stille-Team\n\n \n\nMiteinander für die Schöpfung\n\n \n\nFronleichnam einmal anders? Wir laden ein\, heuer am 19. Juni zum Fronleichnamsfest in Graz bei der großen Fronleichnamsprozession gemeinsam mit uns hinter der „Schöpfungsfahne“ her zu gehen. In einer großen Prozession setzen wir ein Zeichen\, machen uns in unserer Landeshauptstadt sichtbar als Christ:innen\, die Schöpfungsverantwortung ernst nehmen wollen.\n\n \n\nDie Schöpfungsfahne entstand vor drei Jahren aus der Absicht\, alte und neue Traditionen des Demonstrierens (demonstrare – zeigen) zu verbinden: Demonstrieren für das Klima und Demonstrieren für Jesus\, was in anderen Worten eine Prozession ist: zeigen\, dass wir öffentlich für etwas einstehen\, zeigen\, dass Christus unsere Mitte ist als einer\, der sich für die Welt „hingibt“\, sich für den ganzen Kosmos mit seinem Leben einsetzt. „Wir wollen als Christinnen und Christen Schöpfungsverantwortung in Zeiten des Klimawandels sichtbar machen“\, so Daniela Felber\, Themenverantwortliche für Schöpfung und Nachhaltigkeit in der Stadtkirche Graz\, eine der Initiatorinnen der Schöpfungsfahne.\n\n \n\nMit unserer heurigen Aktion „Klimafasten“ haben wir im Haus der Stille begonnen\, das Thema Schöpfungsverantwortung\, das schon immer zu den wichtigen Säulen unseres Hauses zählt\, wieder neu ins Zentrum unserer Aufmerksamkeit zu rücken. Im „neuen Kleid“ nennen wir es nun „Zuversichtskompetenz“. Phil Wilfinger\, unsere Referent für Zuversichtskompetenz baut eine Communita von jungen Menschen auf\, die sich im Haus der Stille Kraft holen für ihr Engagement im Leben\, im Alltag.\n\n \n\nDie Verantwortung für den gemeinsamen Planeten geht nur in Verbindung mit allen anderen\, die an ihren Orten am selben Ziel arbeiten: das Überleben auf unserem Planeten durch einen klimafreundlichen Lebensstil im Kleinen und im Großen zu sichern. So wollen wir uns zusammenschließen: wir vom Haus der Stille mit allen\, die sich uns anschließen wollen und die Stadtkirche Graz mit ihrem Bereich Schöpfung und Nachhaltigkeit und die Umweltbeauftraget der Diözese stellvertretend für alle\, die in ihren Pfarren und Orten aktiv sind.\n\n \n\nWIR TREFFEN UNS:\n\n \n\nWANN: Donnerstag\, 19. Juni 2025\, 8:45\, 9:00 Gottesdienst im Dom mit Bischof Wilhelm\, ca. 10:00 Prozession zur Passamtswiese\, Predigt\, Segen und Agape\n\n \n\nWO: Graz\, Domkirche\, Treffpunkt vor dem Mausoleum oder nach dem Gottesdienst um ca. 10:00 Möglichkeit zur Gruppe dazuzustoßen für die Prozession.\n\n \n\nAm 19.6. ist also kein Gottesdienst im Haus der Stille!\n\n \n\nSCHÖPFUNGSFAHNE\nMehr zur Entstehung der Schöpfungfahne:\n\n \n\nMarsch mit Christus für die Schöpfung\nEine Fahne als Symbol für die Transformation der Kirche\n\n \n\nFronleichnamsfahne neu gedacht\n\n \n\nFRONLEICHNAM\nFronleichnam ist ein katholische Fest mit langer Tradition. Zu Fronleichnam wird die wirkliche Gegenwart Jesu Christi im Sakrament der Eucharistie gefeiert. Die Katholikinnen und Katholiken glauben\, dass in der heiligen Messe Brot und Wein in den Leib und das Blut Christi verwandelt werden und Christus vor Ort gegenwärtig ist.\n\n \n\nDer Name des Festes leitet sich dabei vom mittelhochdeutschen vrône lîcham „des Herren Leib“\, ab. Liturgisch heißt das Fest „Hochfest des Leibes und Blutes Christi“.
URL:https://www.haus-der-stille.at/veranstaltung/mit-der-schoepfungsfahne-zum-fronleichnamsfest-in-graz/
CATEGORIES:Gottesdienst
ATTACH;FMTTYPE=image/jpeg:https://www.haus-der-stille.at/wp-content/uploads/2025/06/Schoepfungsfahne.jpg
END:VEVENT
BEGIN:VEVENT
DTSTART;TZID=Europe/Vienna:20250620T180000
DTEND;TZID=Europe/Vienna:20250622T140000
DTSTAMP:20260423T232238
CREATED:20260415T151803Z
LAST-MODIFIED:20260415T170406Z
UID:10000470-1750442400-1750600800@www.haus-der-stille.at
SUMMARY:Achtsame Kommunikation als Schlüssel glücklicher Beziehungen
DESCRIPTION:Das Geheimnis glücklicher Kontakte besteht in einer Kommunikation\, die aufmerksam\, wohlwollend und wahrhaftig ist.\nIm geschäftigen Alltag führen Gespräche jedoch häufiger zu Missverständnissen und Konflikten\, die Stressempfinden\, Verletzungen und Unzufriedenheit fördern.\n\n \n\nLiegt ist es dir am Herzen\, deine Begegnungen und Beziehungen wertschätzender\, konfliktfreier und liebevoller zu gestalten?\n\n \n\nIn diesem Workshop erlebst du mit Beispielen und Übungen\, was verbindet und was trennt. Miteinander reden\, ohne Ping-Pong Dialoge\, „gute“ Ratschläge\, Beschuldigungen und Verurteilungen. Die innere Haltung des Sich-Verstehen-Wollens öffnet das Herz und führt zu Nähe\, Harmonie und Verbundenheit.\n\n \nLeitung\n \n\nPetra Vogel-Kern\, Achtsamkeitstrainerin\, Yogalehrerin\, Heilpraktikerin für Psychotherapie\n\n \nKursbeitrag\n \n\n€ 170\,-\nexkl. Aufenthaltskosten
URL:https://www.haus-der-stille.at/veranstaltung/achtsame-kommunikation-als-schluessel-gluecklicher-beziehungen/
CATEGORIES:Kurs
ATTACH;FMTTYPE=image/jpeg:https://www.haus-der-stille.at/wp-content/uploads/2023/11/YingYang.jpg
END:VEVENT
BEGIN:VEVENT
DTSTART;TZID=Europe/Vienna:20250620T180000
DTEND;TZID=Europe/Vienna:20250622T140000
DTSTAMP:20260423T232238
CREATED:20260415T151933Z
LAST-MODIFIED:20260415T170417Z
UID:10000471-1750442400-1750600800@www.haus-der-stille.at
SUMMARY:Stille Tage in Gemeinschaft
DESCRIPTION:Ein begleitetes Wochenende mit Impulsen\, Zeiten der Stille\, gemeinsamem Gebet\, Zeit zum Genießen der Natur – ein Geschenk nur für dich.\n\n \nLeitung\n \n\nHaus der Stille-Team\n\n \nKursbeitrag\n \n\n€ 30\,- (Mindestbeitrag)\n\n \n\nZuzüglich Vollpension
URL:https://www.haus-der-stille.at/veranstaltung/stille-tage-in-gemeinschaft-4/
CATEGORIES:Kurs
ATTACH;FMTTYPE=image/jpeg:https://www.haus-der-stille.at/wp-content/uploads/2022/05/IMG_4355.jpg
END:VEVENT
BEGIN:VEVENT
DTSTART;TZID=Europe/Vienna:20250627T180000
DTEND;TZID=Europe/Vienna:20250629T140000
DTSTAMP:20260423T232238
CREATED:20260415T151340Z
LAST-MODIFIED:20260415T170509Z
UID:10000468-1751047200-1751205600@www.haus-der-stille.at
SUMMARY:Mein Leben stellen
DESCRIPTION:Entdecke die Kraft des Loslassens und die Magie der Veränderung durch systemische Aufstellungsarbeit.\n\n \n\nDu möchtest dich persönlich weiterentwickeln\, von alten unliebsamen Gegebenheiten in deinem Leben verabschieden oder eine wichtige Entscheidung treffen? Du willst emotionale oder mentale Blockaden erkennen und überwinden oder neue Perspektiven für dein Leben entwickeln?\n\n \n\nAn diesem Wochenende begleitet uns die Methode der systemischen Aufstellungs- und Ritualarbeit. Systemische Aufstellungsarbeit ermöglicht uns\, unseren guten Platz im System zu erkennen und eine innere Ordnung wiederherzustellen. Du kannst erfahren\, was z.B. hilfreich und förderlich ist zur Heilung alter Verletzungen\, für eine erfüllte Partnerschaft oder eine gute Zusammenarbeit in Teams. Wir arbeiten einzeln oder in Kleingruppen und es können auch ganze (Familien-) Systeme in der Großgruppe mit den individuellen Fragen der Teilnehmenden aufgestellt werden. Themen können sowohl private als auch berufliche Anliegen sein.\n\n \nVoraussetzungen\n \n\nEs ist kein Vorwissen erforderlich\, nur deine Bereitschaft\, dich auf den Prozess einzulassen. Psychische Gesundheit wird vorausgesetzt.\n\n \n\nBitte gib bei der Anmeldung bekannt\, ob du selber ein Anliegen aufstellen möchtest.\n\n \nLeitung\n \n\n\n\nChristine Bärnthaler\nPsychosoziale Beraterin (LSB)\, Erwachsenenbildnern\, ÖVS zertifizierte Supervisorin und Coach\, systemische Aufstellungsleiterin (DsA)\n\n \n\nGabriela Karall\nMaster of Science in Ayurveda Medizin\, Diplomierte Gesundheits- & Krankenschwester\, Yogatherapeutin\, Diplomierte Mentaltrainerin\, Systemische Aufstellungsleiterin (DsA)\n\n \nKursbeitrag\n \n\n€ 220\,- \nexkl. Aufenthaltskosten
URL:https://www.haus-der-stille.at/veranstaltung/mein-leben-stellen/
CATEGORIES:Kurs
ATTACH;FMTTYPE=image/jpeg:https://www.haus-der-stille.at/wp-content/uploads/2023/12/Aufstellungsarbeit-scaled-e1708251113872.jpg
END:VEVENT
BEGIN:VEVENT
DTSTART;TZID=Europe/Vienna:20250627T180000
DTEND;TZID=Europe/Vienna:20250629T140000
DTSTAMP:20260423T232238
CREATED:20260415T151537Z
LAST-MODIFIED:20260415T170519Z
UID:10000469-1751047200-1751205600@www.haus-der-stille.at
SUMMARY:Meditation in Anlehnung an Zen
DESCRIPTION:Durchgängiges Schweigen\n \n 	Sitzmeditationen à 25 Min. (insgesamt ca. 10 Einheiten am Samstag\, teilweise angeleitet nach den vier Schritten der Friedensmeditation von Master Shin Tao) und Gehmeditation im Freien\n \n 	Körperübungen nach Feldenkrais\n \n 	Gelegenheit zur Teilnahme an der Liturgie im Haus der Stille\n\n \n\nStille\, Schweigen und die Kraft des gemeinsamen Meditierens helfen uns zur Ruhe zu kommen\, unser wahres Wesen zu erfahren und in Harmonie mit uns selbst\, den anderen und der ganzen Welt zu kommen.\n\n \n\nDurchgängige Teilnahme an allen Tagen wird erwartet.\n\n \nVoraussetzungen\n \n\n 	Bereitschaft sich auf intensives Üben und Schweigen einzulassen und an allen Einheiten teilzunehmen.\n \n 	Psychische und physische Stabilität.  Bei Unklarheiten bitte telefonische Kontaktaufnahme mit dem Kursleiter.\n \n 	Vorerfahrungen mit intensiver Sitzmeditation z.B. durch Teilnahme an Sesshins\, Übungswochenenden\, Einführungskurs(e) in Zen.\n\n \nLeitung\n \n\nReinhard Mendler\nErziehungswissenschafter\, Lebensberater\, Supervisor\, Erwachsenenbildner\, Zenpraxis seit 1981\n\n \n\nAssistenz: Petra Wolf\nFeldenkrais®-Lehrerin und Sportwissenschafterin\, Zen-Praktizierende\n\n \nKursbeitrag\n \n\n€ 50\,00\nexkl. Aufenthaltskosten
URL:https://www.haus-der-stille.at/veranstaltung/meditation-in-anlehnung-an-zen-5/
CATEGORIES:Kurs
ATTACH;FMTTYPE=image/jpeg:https://www.haus-der-stille.at/wp-content/uploads/2021/10/ZEN.jpg
END:VEVENT
END:VCALENDAR