BEGIN:VCALENDAR
VERSION:2.0
PRODID:-//HAUS DER STILLE - ECPv6.15.20//NONSGML v1.0//EN
CALSCALE:GREGORIAN
METHOD:PUBLISH
X-WR-CALNAME:HAUS DER STILLE
X-ORIGINAL-URL:https://www.haus-der-stille.at
X-WR-CALDESC:Veranstaltungen für HAUS DER STILLE
REFRESH-INTERVAL;VALUE=DURATION:PT1H
X-Robots-Tag:noindex
X-PUBLISHED-TTL:PT1H
BEGIN:VTIMEZONE
TZID:Europe/Vienna
BEGIN:DAYLIGHT
TZOFFSETFROM:+0100
TZOFFSETTO:+0200
TZNAME:CEST
DTSTART:20240331T010000
END:DAYLIGHT
BEGIN:STANDARD
TZOFFSETFROM:+0200
TZOFFSETTO:+0100
TZNAME:CET
DTSTART:20241027T010000
END:STANDARD
BEGIN:DAYLIGHT
TZOFFSETFROM:+0100
TZOFFSETTO:+0200
TZNAME:CEST
DTSTART:20250330T010000
END:DAYLIGHT
BEGIN:STANDARD
TZOFFSETFROM:+0200
TZOFFSETTO:+0100
TZNAME:CET
DTSTART:20251026T010000
END:STANDARD
BEGIN:DAYLIGHT
TZOFFSETFROM:+0100
TZOFFSETTO:+0200
TZNAME:CEST
DTSTART:20260329T010000
END:DAYLIGHT
BEGIN:STANDARD
TZOFFSETFROM:+0200
TZOFFSETTO:+0100
TZNAME:CET
DTSTART:20261025T010000
END:STANDARD
END:VTIMEZONE
BEGIN:VEVENT
DTSTART;TZID=Europe/Vienna:20250501T100000
DTEND;TZID=Europe/Vienna:20250501T170000
DTSTAMP:20260424T022728
CREATED:20260415T154618Z
LAST-MODIFIED:20260415T170203Z
UID:10000484-1746093600-1746118800@www.haus-der-stille.at
SUMMARY:Einfach singen
DESCRIPTION:Eingeladen sind alle\, die gerne singen oder es einmal probieren möchten. Gemeinsam singen wir heilsame und spirituelle Lieder. \n\n\n\nEinfache Melodien und Liedtexte können helfen\, leichter vom Kopf ins Herz zu kommen. \n\n\n\nBesonders empfehlenswert bei Stressbelastung als Ausgleich. \n\n\n\nSingen ist ein wunderbares Lebenselixier für Körper\, Geist und Seele! \n\n\n\nKursbeitrag\n\n\n\n€ 40\,00 exkl. Aufenthaltskosten
URL:https://www.haus-der-stille.at/veranstaltung/einfach-singen-2/
CATEGORIES:Kurs
ATTACH;FMTTYPE=image/jpeg:https://www.haus-der-stille.at/wp-content/uploads/2024/10/notenschluessel-rot-pixabay-geralt2.jpg
END:VEVENT
BEGIN:VEVENT
DTSTART;TZID=Europe/Vienna:20250502T170000
DTEND;TZID=Europe/Vienna:20250504T140000
DTSTAMP:20260424T022728
CREATED:20260415T154436Z
LAST-MODIFIED:20260415T170214Z
UID:10000483-1746205200-1746367200@www.haus-der-stille.at
SUMMARY:Zen-Meditation
DESCRIPTION:Kurselemente:\n\n\nMeditation im Schweigen 6x20min/Tag und Gehmeditation\n\n\nKörperübungen\n\n\nEinführung zum Übungsweg und kurze Impulse zur Einstimmung\n\n\nPersönliche Gesprächsmöglichkeit mit dem Übungsleiter\,sonst durchgängiges Schweigen\n\n\nGelegenheit zur Teilnahme am Gottesdienst\n\n\nVoraussetzungen\nDer Kurs ist für Anfänger:innen geeignet\, körperliche und psychische Stabilität vorausgesetzt.Bereitschaft\, sich auf durchgängiges Schweigen und das Üben des “Stillwerdens” einzulassen.Bei Unsicherheit oder Unklarheiten bitte beim Kursleiter melden.Durchgängige Teilnahme am Wochenende wird erwartet. \nLeitung\nJohann Scherzer (Rufname Hans\, Lehrername ÔU’UN-KEN)Zenlehrer der Sanbo-Zen Schule\, Supervisor\, Paarbeziehungs-Coach\, früher HTL-Lehrer in Elektronik und IT. Zenpraxis seit 1977 \nAssistenz: Helmut Renger Psychiater\, Psychotherapeut und Lehrer für Achtsamkeitsbasierte Interventionen\, Zenpraxis seit 1992 \nKursbeitrag:\n€ 70\,-\nexkl. Aufenthaltskosten \nReduzierte Kursgebühr auf Anfrage bei den Kursleitern möglich
URL:https://www.haus-der-stille.at/veranstaltung/zen-meditation-2/
CATEGORIES:Kurs
ATTACH;FMTTYPE=image/jpeg:https://www.haus-der-stille.at/wp-content/uploads/2023/06/Zencircle.jpg
END:VEVENT
BEGIN:VEVENT
DTSTART;TZID=Europe/Vienna:20250509T180000
DTEND;TZID=Europe/Vienna:20250511T140000
DTSTAMP:20260424T022728
CREATED:20260415T154032Z
LAST-MODIFIED:20260415T170225Z
UID:10000481-1746813600-1746972000@www.haus-der-stille.at
SUMMARY:Klara
DESCRIPTION:Niklaus Kuster und Martina Kreidler-Kos\, beide führend in der Klara-Forschung\, haben uns bewegende Einblicke in das Leben der Hl. Klara eröffnet. Wir möchten dazu einladen\, mit uns ein Stück auf diesem Weg der Begegnung mit Klara und ihrer Gemeinschaft aber auch mit unserem eigenen Lebensweg zu gehen.\n\n \n\nIm Oktober findet eine Reise auf den Spuren der Hl. Klara nach Assisi statt.\n\n \nLeitung\n \n\nMaria Grentner\nMitarbeiterin im Haus der Stille\, Schneiderin\, Familienhelferin\n\n \n\nHedi Mislik\nPädagogische Mitarbeiterin i. R.\, Hort- und Heimerzieherin\, Schule für Gymnastik und Tanz Grete Bieberbach\, ChoRa Kreistanzleiterin. Tanz- und Ausdruckspädagogin\n\n \nKursbeitrag\n \n\n€ 50\,- \nexkl. Aufenthaltskosten
URL:https://www.haus-der-stille.at/veranstaltung/klara-2/
CATEGORIES:Kurs
ATTACH;FMTTYPE=image/jpeg:https://www.haus-der-stille.at/wp-content/uploads/2025/12/26-01-Klara-Tafelbild-klein-e1767793108875.jpg
END:VEVENT
BEGIN:VEVENT
DTSTART;TZID=Europe/Vienna:20250525T170000
DTEND;TZID=Europe/Vienna:20250525T190000
DTSTAMP:20260424T022728
CREATED:20260415T153837Z
LAST-MODIFIED:20260415T170235Z
UID:10000480-1748192400-1748199600@www.haus-der-stille.at
SUMMARY:Konzertreihe: Musik der Stille
DESCRIPTION:Benefizkonzert mit dem Chorlabor am Augustinum\n\n \n\nmit Werken von Mozart\, Bruckner\, Brahms\, Rheinberger\, Stanford\, Simon & Garfunkel\, Polay\, Moore\, Gjeilo.\n\n \n\nEintritt: freiwillige Spende für den geplanten Umbau + Sanierung des Hauses\n\n \n\n18.30 Abendbuffet und Begegnung mit dem Chor: 15\,- Euro\n\n \n\nAnmeldung zum Abendbuffet bis 22. Mai\n\n \n\ninfo@haus-der-stille.at\n\n \n\n+43 3135 82625
URL:https://www.haus-der-stille.at/veranstaltung/konzertreihe-musik-der-stille-3/
CATEGORIES:Sonderveranstaltung
ATTACH;FMTTYPE=image/jpeg:https://www.haus-der-stille.at/wp-content/uploads/2025/03/Screenshot_20250411_135424_LinkedIn.jpg
END:VEVENT
BEGIN:VEVENT
DTSTART;TZID=Europe/Vienna:20250526T090000
DTEND;TZID=Europe/Vienna:20250530T140000
DTSTAMP:20260424T022728
CREATED:20260415T153655Z
LAST-MODIFIED:20260415T170247Z
UID:10000479-1748250000-1748613600@www.haus-der-stille.at
SUMMARY:Arbeiten und Innehalten
DESCRIPTION:Im gemeinsamen Tun werden wir notwendige Arbeiten durchführen.Im gemeinsamen Gebet halten wir inne. \n\n\n \nBitte melde dich bei Manfred um abzusprechen\, welche Arbeiten in dieser Woche anfallen. Email: manfred@haus-der-stille.at \n\n\n \nVoraussetzungen\n\n\n \nFreude am gemeinsamen Arbeiten.Nehmt bitte Kleidung für jedes Wetter mit. \n\n\n \nLeitung\n\n\n \nManfred und Natalie Kamper und das Haus der Stille Team \n\n\n \nKein Kursbeitragkostenlose Unterbringung in Einzelzimmern
URL:https://www.haus-der-stille.at/veranstaltung/arbeiten-und-innehalten-3/
CATEGORIES:Kurs
ATTACH;FMTTYPE=image/jpeg:https://www.haus-der-stille.at/wp-content/uploads/2022/07/IMG_2632.jpg
END:VEVENT
BEGIN:VEVENT
DTSTART;TZID=Europe/Vienna:20250530T180000
DTEND;TZID=Europe/Vienna:20250601T140000
DTSTAMP:20260424T022728
CREATED:20260415T153505Z
LAST-MODIFIED:20260415T170259Z
UID:10000478-1748628000-1748786400@www.haus-der-stille.at
SUMMARY:Qi Gong
DESCRIPTION:An diesem Wochenende werden wir tiefer in die Qi Gong Praxis sowie in die Philosophie dieser jahrtausendealten Praxis eintauchen. Du wirst erfahren\, wie positiv und nährend sich einfache Qi Gong Übungen auf dein ganzes Körper-Geist-System auswirken können.\n\n \n\nNeben der Körperlichen Praxis („Lebenspflege Übungen für zwischendurch“) tauchen wir auch in Nei Gong ein (die Stille Praxis).\nDas ist der meditative Teil aus der Qigong Praxis\, die im Sitzen oder Liegen ausgeübt werden kann.\n\n \n\nVoraussetzungen:\nVorerfahrungen in Yoga und Schweigen sind wünschenswert doch nicht erforderlich. Das Wichtigste ist offen für diese Praxis und dennoch so erwartungslos wie möglich zu sein.\nAlle Mahlzeiten werden im Schweigen eingenommen.\n\n \nLeitung\n \n\nParvati Daniela Macheiner\nZert. Yogalehrerin-Yin Yoga-Yoga für Schwangere und Kinder-Qigong\n\n \nKursbeitrag\n \n\n€ 140\,-\n\n \n\nzuzüglich Aufenthaltskosten
URL:https://www.haus-der-stille.at/veranstaltung/qi-gong-2/
CATEGORIES:Kurs
ATTACH;FMTTYPE=image/jpeg:https://www.haus-der-stille.at/wp-content/uploads/2024/01/Foto-Qigong-scaled-e1707904135155.jpg
END:VEVENT
END:VCALENDAR