BEGIN:VCALENDAR
VERSION:2.0
PRODID:-//HAUS DER STILLE - ECPv6.15.20//NONSGML v1.0//EN
CALSCALE:GREGORIAN
METHOD:PUBLISH
X-WR-CALNAME:HAUS DER STILLE
X-ORIGINAL-URL:https://www.haus-der-stille.at
X-WR-CALDESC:Veranstaltungen für HAUS DER STILLE
REFRESH-INTERVAL;VALUE=DURATION:PT1H
X-Robots-Tag:noindex
X-PUBLISHED-TTL:PT1H
BEGIN:VTIMEZONE
TZID:Europe/Vienna
BEGIN:DAYLIGHT
TZOFFSETFROM:+0100
TZOFFSETTO:+0200
TZNAME:CEST
DTSTART:20240331T010000
END:DAYLIGHT
BEGIN:STANDARD
TZOFFSETFROM:+0200
TZOFFSETTO:+0100
TZNAME:CET
DTSTART:20241027T010000
END:STANDARD
BEGIN:DAYLIGHT
TZOFFSETFROM:+0100
TZOFFSETTO:+0200
TZNAME:CEST
DTSTART:20250330T010000
END:DAYLIGHT
BEGIN:STANDARD
TZOFFSETFROM:+0200
TZOFFSETTO:+0100
TZNAME:CET
DTSTART:20251026T010000
END:STANDARD
BEGIN:DAYLIGHT
TZOFFSETFROM:+0100
TZOFFSETTO:+0200
TZNAME:CEST
DTSTART:20260329T010000
END:DAYLIGHT
BEGIN:STANDARD
TZOFFSETFROM:+0200
TZOFFSETTO:+0100
TZNAME:CET
DTSTART:20261025T010000
END:STANDARD
END:VTIMEZONE
BEGIN:VEVENT
DTSTART;TZID=Europe/Vienna:20250404T180000
DTEND;TZID=Europe/Vienna:20250406T140000
DTSTAMP:20260424T035309
CREATED:20260415T155617Z
LAST-MODIFIED:20260415T170105Z
UID:10000489-1743789600-1743948000@www.haus-der-stille.at
SUMMARY:Ruhe in Bewegung
DESCRIPTION:Yoga heißt auch Vereinigung / Einheit und bedeutet die schrittweise Öffnung unseres Bewusstseins für das Göttliche. Diese Yoga Tage laden dich ein\, dir der universellen Verbindung und deiner spirituellen Kraft\, die uns allen innewohnt\, bewusst zu werden. Achtsames\, sanftes und fließendes Yoga\, ohne Leistungsdruck\, fördert deine Beweglichkeit und Wohlergehen\, auch bei körperlichen Einschränkungen. Bewusster Atem\, Tiefenentspannung\, Mudras\, Mantren und Meditation wirken wohltuend auf Körper\, Geist und Seele. Tages-Impulse unterstützen deine spirituelle Yoga-Praxis.\n\n \nVoraussetzung\n \n\nDer Kurs ist unabhängig vom Alter und körperlicher Fitness.\n\n \nLeitung\n \n\nPetra Vogel-Kern \nAchtsamkeitstrainerin\, Yogalehrerin\, Heilpraktikerin für Psychotherapie\n\n \nKursbeitrag\n \n\n€ 150\,-\nexkl. Aufenthaltskosten
URL:https://www.haus-der-stille.at/veranstaltung/ruhe-in-bewegung/
CATEGORIES:Kurs
ATTACH;FMTTYPE=image/png:https://www.haus-der-stille.at/wp-content/uploads/2023/07/Bild-Yoga_Quelle-unbekannt-e1708271444183.png
END:VEVENT
BEGIN:VEVENT
DTSTART;TZID=Europe/Vienna:20250406T180000
DTEND;TZID=Europe/Vienna:20250410T140000
DTSTAMP:20260424T035309
CREATED:20260415T155421Z
LAST-MODIFIED:20260415T170118Z
UID:10000488-1743962400-1744293600@www.haus-der-stille.at
SUMMARY:Ignatianische Exerzitien
DESCRIPTION:Auf der Pilgerschaft des Lebens Stationen und Wegkreuzungen bedenken\,\nzur Ruhe kommen und das Leben ordnen\,\nden Sinn des Lebens jetzt neu entdecken – im Gespräch mit Gott.\n\n \n\n 	ein täglicher Impuls\n \n 	Möglichkeit zum Begleitgespräch\n \n 	durchgängiges Schweigen\n\n \nLeitung\n \n\nBrigitte Proksch\nTheologin und Exerzitienbegleiterin\, Päpstliche Konsultorin\n\n \nKursbeitrag\n \n\n€ 150\,-\nexkl. Aufenthaltskosten
URL:https://www.haus-der-stille.at/veranstaltung/ignatianische-exerzitien/
CATEGORIES:Kurs
ATTACH;FMTTYPE=image/png:https://www.haus-der-stille.at/wp-content/uploads/2023/03/Sanduhr-Pitiphothivichit-Getty-Images-e1708271351775.png
END:VEVENT
BEGIN:VEVENT
DTSTART;TZID=Europe/Vienna:20250410T150000
DTEND;TZID=Europe/Vienna:20250410T193000
DTSTAMP:20260424T035309
CREATED:20260415T155212Z
LAST-MODIFIED:20260415T170129Z
UID:10000487-1744297200-1744313400@www.haus-der-stille.at
SUMMARY:Mein eigenes Begräbnis planen
DESCRIPTION:Eine ungewöhnliche „Reisevorbereitung“ für ein würdevolles und persönliches Abschiednehmen.\n\n \n\nGemeinsam wird über die großen Rahmenbedingungen eines Begräbnisses bis hin zu den kleinen Details nachgedacht und diskutiert werden. Dies dient zu einer bewussten Klärung letzter Fragen\, ist ein „Geschenk“ für die Hinterbliebenen und letztlich ein Bedenken der letzten großen Fragen des Lebens.\n\n \nLeitung\n \n\nMag. Bernhard Pletz\n\n \n\nTheologe\, Diakon\, Seelsorger der Ständigen Diakone Steiermark und in der Pflegeheimseelsorge\, bietet Trauergruppen\, Trauerspaziergänge und unterschiedliche Workshops zum Thema Trauer an\n\n \nKursbeitrag\n \n\n€ 34\,00 (inkl. Abendessen)\n\n \n\nEs besteht die Möglichkeit\, danach den Gottesdienst im Haus der Stille zu besuchen.
URL:https://www.haus-der-stille.at/veranstaltung/mein-eigenes-begraebnis-planen/
CATEGORIES:Kurs
END:VEVENT
BEGIN:VEVENT
DTSTART;TZID=Europe/Vienna:20250416T180000
DTEND;TZID=Europe/Vienna:20250420T140000
DTSTAMP:20260424T035310
CREATED:20260415T155046Z
LAST-MODIFIED:20260415T170140Z
UID:10000486-1744826400-1745157600@www.haus-der-stille.at
SUMMARY:Ostertreffen
DESCRIPTION:Im Zentrum des Ostertreffens steht die Vorbereitung und intensive Feier der Liturgie dieser Tage. In den täglichen Impulsen möchte ich einladen\, in Bewegung\, Tanz und Leibübungen das Geheimnis der Botschaft des Evangeliums zu erspüren\, zu ertasten und sich davon bewegen zu lassen.\n\n \n\nEs gibt auch die Möglichkeit\, ganz in die Stille zu gehen (einschließlich der Essenszeiten im Extrazimmer).\n\n \n\nAusklingen lassen bis Ostermontag möglich!\n\n \nLeitung\n \n\nHedi Mislik: Impulse zum Tag\n\n \n\nund das Team vom Haus der Stille\n\n \nGesamtkosten\n \n\n€ 260\,- (€ 380\,- Solidaritätsbeitrag)
URL:https://www.haus-der-stille.at/veranstaltung/ostertreffen/
CATEGORIES:Kurs
ATTACH;FMTTYPE=image/jpeg:https://www.haus-der-stille.at/wp-content/uploads/2024/10/DSC03286-scaled.jpg
END:VEVENT
BEGIN:VEVENT
DTSTART;TZID=Europe/Vienna:20250428T090000
DTEND;TZID=Europe/Vienna:20250430T130000
DTSTAMP:20260424T035310
CREATED:20260415T154837Z
LAST-MODIFIED:20260415T170152Z
UID:10000485-1745830800-1746018000@www.haus-der-stille.at
SUMMARY:Gemeinsam geistlich leben
DESCRIPTION:Fortbildung zur Weltsynode für Seelsorger:innen\, Multiplikator:innen\, diözesane Verantwortungsträger:innen und alle Interessierten\n\n\n\nWohin geht die Kirche im 3. Jahrtausend?Die Weltsynode (2021-2024) hat gezeigt\, dass die wesentlichste Veränderung hin zu einer synodaleren Kirche darin besteht\, uns als geistliche Gemeinschaft zu verstehen\, also von Gottes Geist geführt. Das zeigt sich in einer vertieften Sehnsucht nach Spiritualität im individuellen Glauben\, aber auch in einer neuen Sehnsucht nach gemeinsamen Glaubensvollzügen\, die oft nicht mehr in denselben Strukturen und Abläufen gesucht werden wie bisher. \nUm auch als Gruppe Entscheidungen geistlich treffen zu können\, hat sich die  Methode des “Synodalen Gesprächs” bewährt\, die bei allen Versammlungen im Rahmen der Weltsynode angewendet wurde. \nDiese Grundlagen dieser Methode werden aus der ignatianischen Spiritualität hergeleitet und in Gruppengesprächen eingeübt. \n \nDie gemeinsamen Tage sind sowohl eine persönliche geistliche Bereicherung als auch ein Erlernen und Einüben in die Methode\, die sich in der eigenen pastoralen Arbeit gut einsetzen lässt und zu einer gemeinsam verantworteteten Kirche führen kann. \n\n\n \nWie bereits in den letzten zwei Jahren begleiten Martina Patenge (Mainz) und Christoph Maaß (Berlin) in bewährter Weise diese Fortbildungs-Reise. \n\n\n \nLeitung\n\n\n \nMartina Patenge (Mainz)\, Pastoralreferentin\, Geistliche Begleiterin\, Exerzitienleiterin\, Gestaltberaterin \n\n\n \nChristopher Maaß (Berlin)\, Kirchlicher Organisationsberater und Mediator im Erzbistum Berlin\, Prozessbegleiter im Pastoralen Prozess „Wo Glaube Raum gewinnt“ \n\n\n \nEine Kooperation mit dem Fachbereich Pastoral&Theologie \n\n\n \nKursbeitrag\n\n\n \n€ 200\,-exkl. Aufenthaltskosten \n \n\n\n\n 
URL:https://www.haus-der-stille.at/veranstaltung/gemeinsam-geistlich-leben-2/
CATEGORIES:Kurs
ATTACH;FMTTYPE=image/png:https://www.haus-der-stille.at/wp-content/uploads/2024/10/Synode-Grafik-ohen-Schrift.png
END:VEVENT
END:VCALENDAR