BEGIN:VCALENDAR
VERSION:2.0
PRODID:-//HAUS DER STILLE - ECPv6.15.20//NONSGML v1.0//EN
CALSCALE:GREGORIAN
METHOD:PUBLISH
X-ORIGINAL-URL:https://www.haus-der-stille.at
X-WR-CALDESC:Veranstaltungen für HAUS DER STILLE
REFRESH-INTERVAL;VALUE=DURATION:PT1H
X-Robots-Tag:noindex
X-PUBLISHED-TTL:PT1H
BEGIN:VTIMEZONE
TZID:Europe/Vienna
BEGIN:DAYLIGHT
TZOFFSETFROM:+0100
TZOFFSETTO:+0200
TZNAME:CEST
DTSTART:20240331T010000
END:DAYLIGHT
BEGIN:STANDARD
TZOFFSETFROM:+0200
TZOFFSETTO:+0100
TZNAME:CET
DTSTART:20241027T010000
END:STANDARD
BEGIN:DAYLIGHT
TZOFFSETFROM:+0100
TZOFFSETTO:+0200
TZNAME:CEST
DTSTART:20250330T010000
END:DAYLIGHT
BEGIN:STANDARD
TZOFFSETFROM:+0200
TZOFFSETTO:+0100
TZNAME:CET
DTSTART:20251026T010000
END:STANDARD
BEGIN:DAYLIGHT
TZOFFSETFROM:+0100
TZOFFSETTO:+0200
TZNAME:CEST
DTSTART:20260329T010000
END:DAYLIGHT
BEGIN:STANDARD
TZOFFSETFROM:+0200
TZOFFSETTO:+0100
TZNAME:CET
DTSTART:20261025T010000
END:STANDARD
END:VTIMEZONE
BEGIN:VEVENT
DTSTART;TZID=Europe/Vienna:20250131T180000
DTEND;TZID=Europe/Vienna:20250202T140000
DTSTAMP:20260424T065725
CREATED:20260415T161950Z
LAST-MODIFIED:20260415T165903Z
UID:10000498-1738346400-1738504800@www.haus-der-stille.at
SUMMARY:Lebens-Muster: "Ge-WOLL-te Transformation"
DESCRIPTION:Der Prozess des Filzens lässt uns erleben\, wie sich zarte Wollfasern nur mithilfe von Wasser\, Seife und der Arbeit unserer Hände miteinander verbinden\, an Festigkeit gewinnen\, zu neuer Form und Struktur werden: Transformation\, Umwandlung geschieht. Angeregt durch diesen Prozess gehen wir der Frage nach: wann und wie geschieht Verwandlung\, Transformation in unserem Leben? Textimpulse\, Elemente aus der Biografiearbeit sowie persönlicher Austausch begleiten uns dabei. Es können Sesselauflagen oder einfache Gefässe in Nassfilztechnik gefilzt werden.\n\n \n\nEinen Bericht über den Kurs im Jahr 2022 findest du hier.\n\n \nVoraussetzungen\n \n\nFreude am gestalterischen Tun\nHandwerkliche Vorkenntnisse sind nicht nötig\nBereitschaft\, sich auf die Impulse und den persönlichen Austausch einzulassen\n\n \nLeitung\n \n\nIrmgard Moldaschl\nErwachsenenbildnerin (wba)\, Ausbildungen in Biografiearbeit (Lebensmutig)\, Poesie- und Bibliotherapie (eag/fpi)\, Textilkünstlerin\n\n \n\nMaria Grentner\nMitarbeiterin im Haus der Stille\, Schneiderin\, Schneiderin\, Familienhelferin\n\n \nKursbeitrag\n \n\n€ 100\,-\nMaterialkosten werden extra verrechnet: ca. € 10\,- bis 20\,- je nach Verbrauch
URL:https://www.haus-der-stille.at/veranstaltung/lebens-muster-ge-woll-te-transformation/
CATEGORIES:Kurs
ATTACH;FMTTYPE=image/jpeg:https://www.haus-der-stille.at/wp-content/uploads/2022/09/IMG_8680-e1708271933776.jpeg
END:VEVENT
BEGIN:VEVENT
DTSTART;TZID=Europe/Vienna:20250207T124500
DTEND;TZID=Europe/Vienna:20250209T140000
DTSTAMP:20260424T065725
CREATED:20260415T161723Z
LAST-MODIFIED:20260415T165914Z
UID:10000497-1738932300-1739109600@www.haus-der-stille.at
SUMMARY:Zen und Korbflechten
DESCRIPTION:An diesem Wochenende lernen wir mit dem Naturmaterial Weide einen kleinen Korb zu fertigen. Wir üben uns auch in die Stille ein mittels der Zen Meditation. So kommen wir durch den Wechsel von Aktion und Kontemplation in Balance – in unsere Mitte. \n\n\n\nLeitung\n\n\n\nHorst Strasser\, Biobauer\, in der Zen-Meditation beheimatet \n\n\n\nClaudia Stolzer\, Korbflechterin und Referentin für Weidenflechtkurse (Körbe und Dekorationen) Ausbildung bei der Natur- und Wildnisschule der Alpen in Tirol und andere Workshops Autorin „Korbflechten leicht gemacht“ \n\n\n\nKursbeitrag\n\n\n\n€ 100\,- exkl. Aufenthaltskosten
URL:https://www.haus-der-stille.at/veranstaltung/zen-und-korbflechten/
CATEGORIES:Kurs
ATTACH;FMTTYPE=image/jpeg:https://www.haus-der-stille.at/wp-content/uploads/2024/08/Foto-Zen-und-Korbflechten-pixabay-Peter-Bodensee.jpg
END:VEVENT
BEGIN:VEVENT
DTSTART;TZID=Europe/Vienna:20250214T180000
DTEND;TZID=Europe/Vienna:20250216T140000
DTSTAMP:20260424T065725
CREATED:20260415T161316Z
LAST-MODIFIED:20260415T165923Z
UID:10000496-1739556000-1739714400@www.haus-der-stille.at
SUMMARY:Mit Yoga zu Vitalität und innerer Ruhe
DESCRIPTION:Kundalini Yoga beruht auf einer alten indischen Tradition und wird auch das Yoga des Bewusstseins genannt. Dynamische\, fließende und sanfte Übungsreihen\, bewusster Atem\, Tiefenentspannung\, Meditation und Mantras wirken wohltuend und ausgleichend auf Körper\, Geist und Seele. Kundalini Yoga aktiviert unsere Lebenskraft und ist auf innere Heilung\, geistiges Wachstum und Lebensfreude ausgerichtet. Wir führen die Übungen mit viel Achtsamkeit und Bewusstheit durch\, und das wirkt sich stärkend und harmonisierend auf unser Sein aus.\n\n \n\nDer Kurs ist für Beginner und auch Fortgeschrittene\, unabhängig vom Alter.\n\n \nKursbeitrag\n \n\n€ 150\,-\nexkl. Aufenthaltskosten
URL:https://www.haus-der-stille.at/veranstaltung/mit-yoga-zu-vitalitaet-und-innerer-ruhe-3/
CATEGORIES:Kurs
ATTACH;FMTTYPE=image/png:https://www.haus-der-stille.at/wp-content/uploads/2023/07/Bild-Yoga_Quelle-unbekannt-e1708271444183.png
END:VEVENT
BEGIN:VEVENT
DTSTART;TZID=Europe/Vienna:20250228T180000
DTEND;TZID=Europe/Vienna:20250302T140000
DTSTAMP:20260424T065725
CREATED:20260415T160917Z
LAST-MODIFIED:20260415T165933Z
UID:10000494-1740765600-1740924000@www.haus-der-stille.at
SUMMARY:Unsere Herzensverbindung aufblühen lassen
DESCRIPTION:Mache dir und deinem Lieblingsmenschen das Geschenk der bewussten Zweisamkeit. Erlebe mit deiner Partnerin/deinem Partner oder mit deiner besten Freundin/deinem besten Freund oder mit deiner Schwester/deinem Bruder oder mit einem Elternteil oder deinem erwachsenen Kind eine besondere Auszeit\, in der ihr euch auf Herzensebene begegnen und in Resonanz kommen könnt\, und eure kostbare Verbindung stärken\, vertiefen und feiern könnt.\n\n Erlebe an diesem Wochenende\, wie die Samen der Achtsamkeit\, der Wertschätzung\, der Dankbarkeit\, des Mitgefühls und der Vergebung aufgehen und eure Herzensverbindung voller Liebe\, Freude und Leichtigkeit aufblüht.\n\n Inhalte: Reflektierende Herzensgespräche\, achtsame Wahrnehmungs- und Begegnungsübungen\, heilsame Kommunikation\, intuitives Zuhören\, Walk and talk\, Herzensmeditation\, Briefe schreiben\, singen\, tanzen\, Klänge\, Stille\, Naturerleben\, Dankbarkeitsritual.\n\n\n \nBitte mitbringen:\n \n\nBequeme Kleidung\, Decke\, kleinen Blumentopf mit Erde\, Lieblingsblumensamen\, Stift und Papier.\n\n \nLeitung\n \n\nRomana Ondra\nKlinische und Gesundheitspsychologin\, Trauma-Behandlerin\, Herzensmeditationslehrerin\n\n \nKursbeitrag\n \n\n€ 170\,- (pro Person)\n\n \n\nzuzüglich Aufenthaltskosten
URL:https://www.haus-der-stille.at/veranstaltung/unsere-herzensverbindung-aufbluehen-lassen/
CATEGORIES:Kurs
ATTACH;FMTTYPE=image/jpeg:https://www.haus-der-stille.at/wp-content/uploads/2024/08/IMG_9545-rotated.jpeg
END:VEVENT
BEGIN:VEVENT
DTSTART;TZID=Europe/Vienna:20250228T180000
DTEND;TZID=Europe/Vienna:20250302T140000
DTSTAMP:20260424T065725
CREATED:20260415T161035Z
LAST-MODIFIED:20260415T165944Z
UID:10000495-1740765600-1740924000@www.haus-der-stille.at
SUMMARY:Tanzend der Nase nach
DESCRIPTION:Gönn dir ein leichtfüßig-beschwingtes Wochenende\, an dem du authentisch da sein darfst: mit Tanz- und Bewegungsimprovisation\, Körperarbeit sowie Methoden aus der Clownerie. \n\n\n\nAuf leichten Füßen und gut geerdet im Körper kommen wir immer mehr im Hier und Jetzt an. Wir entdecken den Clown in uns\, erleben Spielfreude und Leichtigkeit und erweitern unsere Bewegungs- und Ausdrucksmöglichkeiten. Wie wär‘s\, mit staunendem Blick die Welt neu zu entdecken und ein Tänzchen mit dem Scheitern zu wagen? \n\n\n\nWir freuen uns auf eine kreative\, lustvolle gemeinsame Zeit\, in der wir neue Leichtigkeit für den Alltag auftanken. \n\n\n\nKursleitung\n\n\n\nConstanze Moritz Dipl. Erwachsenenbildnerin und Clownin\, Spielpädagogin\, Coach\, Theologischer Kurs \n\n\n\nSabine Müller Ganzheitliche Tanz- und Bewegungspädagogin\, Dipl. Praktikerin für Körperarbeit \n\n\n\nKursbeitrag\n\n\n\n€ 166\,- \n\n\n\nzuzüglich Aufenthaltskosten \n\n\n\nMaterialkosten\n\n\n\n€ 3\,- (Wer eine eigene rote Nase mitbringt\, braucht keine Materialkosten zu zahlen.)
URL:https://www.haus-der-stille.at/veranstaltung/tanzend-der-nase-nach/
CATEGORIES:Kurs
ATTACH;FMTTYPE=image/jpeg:https://www.haus-der-stille.at/wp-content/uploads/2024/07/Tanzend-der-Nase-nach-2_pixabay.jpg
END:VEVENT
END:VCALENDAR