BEGIN:VCALENDAR
VERSION:2.0
PRODID:-//HAUS DER STILLE - ECPv6.15.20//NONSGML v1.0//EN
CALSCALE:GREGORIAN
METHOD:PUBLISH
X-WR-CALNAME:HAUS DER STILLE
X-ORIGINAL-URL:https://www.haus-der-stille.at
X-WR-CALDESC:Veranstaltungen für HAUS DER STILLE
REFRESH-INTERVAL;VALUE=DURATION:PT1H
X-Robots-Tag:noindex
X-PUBLISHED-TTL:PT1H
BEGIN:VTIMEZONE
TZID:Europe/Vienna
BEGIN:DAYLIGHT
TZOFFSETFROM:+0100
TZOFFSETTO:+0200
TZNAME:CEST
DTSTART:20230326T010000
END:DAYLIGHT
BEGIN:STANDARD
TZOFFSETFROM:+0200
TZOFFSETTO:+0100
TZNAME:CET
DTSTART:20231029T010000
END:STANDARD
BEGIN:DAYLIGHT
TZOFFSETFROM:+0100
TZOFFSETTO:+0200
TZNAME:CEST
DTSTART:20240331T010000
END:DAYLIGHT
BEGIN:STANDARD
TZOFFSETFROM:+0200
TZOFFSETTO:+0100
TZNAME:CET
DTSTART:20241027T010000
END:STANDARD
BEGIN:DAYLIGHT
TZOFFSETFROM:+0100
TZOFFSETTO:+0200
TZNAME:CEST
DTSTART:20250330T010000
END:DAYLIGHT
BEGIN:STANDARD
TZOFFSETFROM:+0200
TZOFFSETTO:+0100
TZNAME:CET
DTSTART:20251026T010000
END:STANDARD
END:VTIMEZONE
BEGIN:VEVENT
DTSTART;TZID=Europe/Vienna:20240531T124500
DTEND;TZID=Europe/Vienna:20240602T140000
DTSTAMP:20260424T231730
CREATED:20260415T164806Z
LAST-MODIFIED:20260415T165707Z
UID:10000508-1717159500-1717336800@www.haus-der-stille.at
SUMMARY:Zen und Sensenmähen
DESCRIPTION:Im Kurs lernen und/oder vertiefen wir das Arbeiten mit der Sense. Im klösterlichen Sinn „ora et labora“ werden wir uns auch bei der Meditation in die Stille einüben.\n\n \n\nVortrag: Inhalte über Biolandwirtschaft nach Wunsch der Gruppe.\n\n \n\nWir werden auch teilweise im Schweigen mähen.\n\n \nVoraussetzungen\n \n\nMitzubringen sind:\n\n \n\n 	Offenheit\, Neugier\, sich Einlassen\n \n 	gutes Schuhwerk\, Sonnenhut\n \n 	eine (eigene) Sense\, Kumpf\, Wetzstein\, wenn vorhanden\n \n 	Outdoor-Kleidung und bequeme Kleidung für Meditation und Dehnungsübungen\n\n \nLeitung\n \n\nHorst Strasser\nBiobauer\, in der Zen-Meditation beheimatet\n\n \nKursbeitrag\n \n\n€ 100\,-
URL:https://www.haus-der-stille.at/veranstaltung/zen-und-sensenmaehen/
CATEGORIES:Kurs
ATTACH;FMTTYPE=image/png:https://www.haus-der-stille.at/wp-content/uploads/2023/01/Grafik-Sensenmaehen.png
END:VEVENT
BEGIN:VEVENT
DTSTART;TZID=Europe/Vienna:20240624T180000
DTEND;TZID=Europe/Vienna:20240626T140000
DTSTAMP:20260424T231730
CREATED:20260415T164540Z
LAST-MODIFIED:20260415T165721Z
UID:10000507-1719252000-1719410400@www.haus-der-stille.at
SUMMARY:stille.foto.tage
DESCRIPTION:• eintauchen in die Stille\, das Licht und die Farben der Jahreszeit\n• achtsam werden für die Zeichen des ruhenden\, aufblühenden\, wachsenden und vergehenden Lebens in der Natur\n• einführende Impulse zur Bildgestaltung und zum Fotografieren in der Natur\n• teilweise allein\, teilweise gemeinsam unterwegs sein (und fotografieren) auf den Wegen der Umgebung\n• Erfahrungsaustausch und Bildbesprechung in der Gruppe\n• Gebetszeiten und Gottesdienste mit der Hausgemeinschaft\n\n \nMitzubringen:\n \n\nKamera (egal ob analog oder digital\, „Amateur“ oder „Profi“)\nder Witterung entsprechende Kleidung\n\n \nLeitung:\n \n\nMag. Hans Waltersdorfer\nTheologe\, christlicher Liedermacher\, Foto-Kunsthandwerker\n\n \nKursbeitrag:\n \n\n€ 55\,-
URL:https://www.haus-der-stille.at/veranstaltung/stille-foto-tage/
CATEGORIES:Kurs
ATTACH;FMTTYPE=image/png:https://www.haus-der-stille.at/wp-content/uploads/2023/07/fototage_06_juni-e1707903976240.png
END:VEVENT
END:VCALENDAR