BEGIN:VCALENDAR
VERSION:2.0
PRODID:-//HAUS DER STILLE - ECPv6.15.20//NONSGML v1.0//EN
CALSCALE:GREGORIAN
METHOD:PUBLISH
X-ORIGINAL-URL:https://www.haus-der-stille.at
X-WR-CALDESC:Veranstaltungen für HAUS DER STILLE
REFRESH-INTERVAL;VALUE=DURATION:PT1H
X-Robots-Tag:noindex
X-PUBLISHED-TTL:PT1H
BEGIN:VTIMEZONE
TZID:Europe/Vienna
BEGIN:DAYLIGHT
TZOFFSETFROM:+0100
TZOFFSETTO:+0200
TZNAME:CEST
DTSTART:20250330T010000
END:DAYLIGHT
BEGIN:STANDARD
TZOFFSETFROM:+0200
TZOFFSETTO:+0100
TZNAME:CET
DTSTART:20251026T010000
END:STANDARD
BEGIN:DAYLIGHT
TZOFFSETFROM:+0100
TZOFFSETTO:+0200
TZNAME:CEST
DTSTART:20260329T010000
END:DAYLIGHT
BEGIN:STANDARD
TZOFFSETFROM:+0200
TZOFFSETTO:+0100
TZNAME:CET
DTSTART:20261025T010000
END:STANDARD
BEGIN:DAYLIGHT
TZOFFSETFROM:+0100
TZOFFSETTO:+0200
TZNAME:CEST
DTSTART:20270328T010000
END:DAYLIGHT
BEGIN:STANDARD
TZOFFSETFROM:+0200
TZOFFSETTO:+0100
TZNAME:CET
DTSTART:20271031T010000
END:STANDARD
END:VTIMEZONE
BEGIN:VEVENT
DTSTART;TZID=Europe/Vienna:20260114T140000
DTEND;TZID=Europe/Vienna:20260118T140000
DTSTAMP:20260421T102020
CREATED:20260414T165225Z
LAST-MODIFIED:20260415T171836Z
UID:10000124-1768399200-1768744800@www.haus-der-stille.at
SUMMARY:Ikonenmalerei
DESCRIPTION:Die Ikone ist die Heilige Schrift in Farben dargestellt\, ein heiliges Buch\, geschrieben mit Pinsel und Farbe. Abseits der Hektik und Geschäftigkeit wollen wir versuchen\, eine Atmosphäre der Vertiefung und Identifikation mit der mehr als 1500 Jahre alten Tradition der Ikonenmalerei zu schaffen.\nDie Ikone ist wundervoll\, wenn sie den Menschen zum Gebet ruft und man die geistige Kraft spürt\, die von ihr ausgeht.\nDie Ikonensegnung ist am Sonntag im Rahmen des Gottesdienstes.\n\n \nLeitung\n \n\nVesna Deskoska\nfrei schaffende Künstlerin\, Ikonenmalerin\n\nSilva Bozinova\nDipl. Kunsthistorikerin und Ikonenmalerin\n\n \nKursbeitrag\n \n\n€ 150\,-\nexkl. Aufenthaltskosten\n\n \nMaterialkosten\n \n\nca. € 70\,- pro Ikone
URL:https://www.haus-der-stille.at/veranstaltung/ikonenmalerei/
CATEGORIES:Kurs
ATTACH;FMTTYPE=image/jpeg:https://www.haus-der-stille.at/wp-content/uploads/2022/09/Bild-e1708271970373.jpg
END:VEVENT
BEGIN:VEVENT
DTSTART;TZID=Europe/Vienna:20260114T160000
DTEND;TZID=Europe/Vienna:20260114T183000
DTSTAMP:20260421T102020
CREATED:20260414T170218Z
LAST-MODIFIED:20260420T231425Z
UID:10000127-1768406400-1768415400@www.haus-der-stille.at
SUMMARY:Mittwoch-Meditation
DESCRIPTION:„Im Angesicht Gottes meinem Leben Raum geben“\nJeden Mittwoch im Haus der Stille: \n16 Uhr Körper- und Wahrnehmungsübungen \nEinfache Übungen zur Körper- und Atemwahrnehmung\, um gut im Hier und Jetzt anzukommen als Vorbereitung für die Meditation. \n17 bis 18:30 Uhr Meditation in der Stille \nWir beginnen um 17 Uhr im Zendo (Meditationsraum). Dann sitzen wir 3 x 20 Minuten in Stille. Diese Form gibt den verbindenden Rahmen für verschiedene Traditionen der Meditation. Dazwischen gibt es eine Gehmeditation. \nDie jeweilige Meditation wird angeleitet\, erklärt und begleitet. Auch Neueinsteiger:innen sind herzlich willkommen! \nStille ist ein Möglichkeitsraum für Veränderung und Wachstum mitten im Alltag. \n\n    gemeinsam in die Stille gehen\ninnehalten\, zur Ruhe kommen\ndich selbst ganz wahrnehmen\ndich ordnen (lassen)\ndich für das innere Gebet öffnen\n\nKeine Anmeldung erforderlich !
URL:https://www.haus-der-stille.at/veranstaltung/mittwoch-meditation/2026-01-14/
CATEGORIES:Gottesdienst,Sonderveranstaltung
ATTACH;FMTTYPE=image/jpeg:https://www.haus-der-stille.at/wp-content/uploads/2023/10/klangschale-Elisabeth-Fuhrer-Pixabay.jpg
END:VEVENT
BEGIN:VEVENT
DTSTART;TZID=Europe/Vienna:20260114T190000
DTEND;TZID=Europe/Vienna:20260114T210000
DTSTAMP:20260421T102020
CREATED:20260410T231357Z
LAST-MODIFIED:20260414T213231Z
UID:10000058-1768417200-1768424400@www.haus-der-stille.at
SUMMARY:Offener Tanzabend
DESCRIPTION:TANZE – soviel du tanzen kannstTANZE – um Begeisterung fürs Leben wieder zu findenTANZE – um deine Seele zu erwecken\, wenn sie schläftTANZE – um zu hoffen\, zu vertrauen\, zu glauben\, zu lieben\, zu heilen. \n\n\n\nKursbeitrag:\n\n\n\nfreiwillige Spende \n\n\n\nTermine 2026\n\n\n\n14. Jänner 25. Februar 25. März 22. April \n\n\n\njeweils Mittwoch 19.00 Uhr bis 21.00 Uhr \n\n\n\nKeine Anmeldung erforderlich !
URL:https://www.haus-der-stille.at/veranstaltung/offener-tanzabend/2026-01-14/
CATEGORIES:Sonderveranstaltung
ATTACH;FMTTYPE=image/jpeg:https://www.haus-der-stille.at/wp-content/uploads/2021/10/hausderstille_Tanzabend00.jpg
END:VEVENT
END:VCALENDAR