BEGIN:VCALENDAR
VERSION:2.0
PRODID:-//HAUS DER STILLE - ECPv6.15.20//NONSGML v1.0//EN
CALSCALE:GREGORIAN
METHOD:PUBLISH
X-ORIGINAL-URL:https://www.haus-der-stille.at
X-WR-CALDESC:Veranstaltungen für HAUS DER STILLE
REFRESH-INTERVAL;VALUE=DURATION:PT1H
X-Robots-Tag:noindex
X-PUBLISHED-TTL:PT1H
BEGIN:VTIMEZONE
TZID:Europe/Vienna
BEGIN:DAYLIGHT
TZOFFSETFROM:+0100
TZOFFSETTO:+0200
TZNAME:CEST
DTSTART:20240331T010000
END:DAYLIGHT
BEGIN:STANDARD
TZOFFSETFROM:+0200
TZOFFSETTO:+0100
TZNAME:CET
DTSTART:20241027T010000
END:STANDARD
BEGIN:DAYLIGHT
TZOFFSETFROM:+0100
TZOFFSETTO:+0200
TZNAME:CEST
DTSTART:20250330T010000
END:DAYLIGHT
BEGIN:STANDARD
TZOFFSETFROM:+0200
TZOFFSETTO:+0100
TZNAME:CET
DTSTART:20251026T010000
END:STANDARD
BEGIN:DAYLIGHT
TZOFFSETFROM:+0100
TZOFFSETTO:+0200
TZNAME:CEST
DTSTART:20260329T010000
END:DAYLIGHT
BEGIN:STANDARD
TZOFFSETFROM:+0200
TZOFFSETTO:+0100
TZNAME:CET
DTSTART:20261025T010000
END:STANDARD
END:VTIMEZONE
BEGIN:VEVENT
DTSTART;TZID=Europe/Vienna:20251218T180000
DTEND;TZID=Europe/Vienna:20251221T140000
DTSTAMP:20260423T103553
CREATED:20260414T212548Z
LAST-MODIFIED:20260415T171608Z
UID:10000410-1766080800-1766325600@www.haus-der-stille.at
SUMMARY:Kontemplatives Gebet aus christlichen Wurzeln
DESCRIPTION:Einübung in schweigendes ganzheitliches Beten – mit Leib und Seele – aus den Quellen der christlichen Mystik – ein Weg in die eigene Tiefe – einüben von Achtsamkeit und Gelassenheit. Möglichkeit zu einem oder mehreren Begleitgesprächen.\n\n \n\nGemeinsame und individuelle Zeiten der Übung.\n\n \nVoraussetzungen\n \n\nSchweigen und Stille aushalten können\n\n \nLeitung\n \n\nBrigitte Proksch\nTheologin\, Exerzitienbegleiterin und Seelsorgerin\n\n \nKursbeitrag\n \n\n€ 80\,-\nexkl. Aufenthaltskosten
URL:https://www.haus-der-stille.at/veranstaltung/kontemplatives-gebet-aus-christlichen-wurzeln/
CATEGORIES:Kurs
ATTACH;FMTTYPE=image/png:https://www.haus-der-stille.at/wp-content/uploads/2023/03/Sanduhr-Pitiphothivichit-Getty-Images-e1708271351775.png
END:VEVENT
END:VCALENDAR