BEGIN:VCALENDAR
VERSION:2.0
PRODID:-//HAUS DER STILLE - ECPv6.15.20//NONSGML v1.0//EN
CALSCALE:GREGORIAN
METHOD:PUBLISH
X-ORIGINAL-URL:https://www.haus-der-stille.at
X-WR-CALDESC:Veranstaltungen für HAUS DER STILLE
REFRESH-INTERVAL;VALUE=DURATION:PT1H
X-Robots-Tag:noindex
X-PUBLISHED-TTL:PT1H
BEGIN:VTIMEZONE
TZID:Europe/Vienna
BEGIN:DAYLIGHT
TZOFFSETFROM:+0100
TZOFFSETTO:+0200
TZNAME:CEST
DTSTART:20240331T010000
END:DAYLIGHT
BEGIN:STANDARD
TZOFFSETFROM:+0200
TZOFFSETTO:+0100
TZNAME:CET
DTSTART:20241027T010000
END:STANDARD
BEGIN:DAYLIGHT
TZOFFSETFROM:+0100
TZOFFSETTO:+0200
TZNAME:CEST
DTSTART:20250330T010000
END:DAYLIGHT
BEGIN:STANDARD
TZOFFSETFROM:+0200
TZOFFSETTO:+0100
TZNAME:CET
DTSTART:20251026T010000
END:STANDARD
BEGIN:DAYLIGHT
TZOFFSETFROM:+0100
TZOFFSETTO:+0200
TZNAME:CEST
DTSTART:20260329T010000
END:DAYLIGHT
BEGIN:STANDARD
TZOFFSETFROM:+0200
TZOFFSETTO:+0100
TZNAME:CET
DTSTART:20261025T010000
END:STANDARD
END:VTIMEZONE
BEGIN:VEVENT
DTSTART;TZID=Europe/Vienna:20251130T000000
DTEND;TZID=Europe/Vienna:20251214T000000
DTSTAMP:20260423T104829
CREATED:20260414T213951Z
LAST-MODIFIED:20260415T171514Z
UID:10000416-1764460800-1765670400@www.haus-der-stille.at
SUMMARY:Adventsexerzitien
DESCRIPTION:„Alles Leben ist Beziehung“ (Martin Buber)\n \n\nTäglich wird ein Impuls per Email zugesandt\, kurz genug\, um ihn in den Tag mitzunehmen.\n\n \n\nMarkante Inhalte in kleinen Einheiten\, leicht lesbar und alltagstauglich.\n\n \n\nJeden Tag eine individuelle Gebetszeit zu Hause einplanen – es besteht die Möglichkeit zum individuellen online-Gespräch oder Email-Austausch.\n\n \nKursbeitrag:\n \n\n€ 30\,- \n\n \n\nBitte mit untenstehendem Link anmelden.\n\n \n\nMit der Überweisung des Beitrages ist deine Anmeldung fixiert.\n\n \n\nEmpfänger: Verein Haus der Stille\nIBAN: AT23 3817 0000 0101 2442\n\n \n\nVerwendungszweck: Adventsexerzitien
URL:https://www.haus-der-stille.at/veranstaltung/adventsexerzitien/
CATEGORIES:Kurs
ATTACH;FMTTYPE=image/png:https://www.haus-der-stille.at/wp-content/uploads/2023/02/Sanduhr-Advent-Philip-Steury-Getty-Images-weniger-gruen-e1708262297572.png
END:VEVENT
BEGIN:VEVENT
DTSTART;TZID=Europe/Vienna:20251212T180000
DTEND;TZID=Europe/Vienna:20251214T140000
DTSTAMP:20260423T104829
CREATED:20260414T213000Z
LAST-MODIFIED:20260415T171557Z
UID:10000412-1765562400-1765720800@www.haus-der-stille.at
SUMMARY:Meditation in Anlehnung an Zen
DESCRIPTION:Kurselemente:\n\n \n\n 	Intensive Übung der Meditation im Sitzen (12 x 25 Minuten) und Gehen\n \n 	Körperübungen\, die die Sitzmeditation unterstützen bzw. intensivieren\n \n 	Durchgängiges Schweigen\n \n 	Gelegenheit zur Teilnahme an den Gebetszeiten im Haus der Stille\n\n \n\nDas gemeinsame Üben kann dabei helfen\, tief in die eigene Übung einzutauchen; es kann sich ein die Übung tragendes Feld entwickeln. Dafür ist es notwendig\, dass sich jede und jeder Einzelne so gut es geht immer wieder in den Augenblick des Übens zurückholt. Dementsprechend wird die durchgängige Anwesenheit bei allen Meditationszeiten und das durchgängige Schweigen vorausgesetzt.\n\n \nVoraussetzungen\n \n\n 	Bereitschaft sich auf intensives Üben und Schweigen einzulassen und entsprechende psychische und physische Stabilität. (Bei Unklarheiten bitten wir um telefonische Kontaktaufnahme mit dem Kursleiter.)\n \n 	Vorerfahrungen mit intensiver Sitzmeditation z.B. durch Teilnahme an Sesshins\, strengen Meditationskursen beim Ehepaar Krebs\, Meditationswochenenden in Anlehnung an Zen.\n\n \nLeitung\n \n\nHorst Strasser\n\n \nKursbeitrag:\n \n\n€ 50\,-\nexkl. Aufenthaltskosten
URL:https://www.haus-der-stille.at/veranstaltung/meditation-in-anlehnung-an-zen-3/
CATEGORIES:Kurs
ATTACH;FMTTYPE=image/jpeg:https://www.haus-der-stille.at/wp-content/uploads/2021/10/ZEN.jpg
END:VEVENT
END:VCALENDAR