BEGIN:VCALENDAR
VERSION:2.0
PRODID:-//HAUS DER STILLE - ECPv6.15.20//NONSGML v1.0//EN
CALSCALE:GREGORIAN
METHOD:PUBLISH
X-WR-CALNAME:HAUS DER STILLE
X-ORIGINAL-URL:https://www.haus-der-stille.at
X-WR-CALDESC:Veranstaltungen für HAUS DER STILLE
REFRESH-INTERVAL;VALUE=DURATION:PT1H
X-Robots-Tag:noindex
X-PUBLISHED-TTL:PT1H
BEGIN:VTIMEZONE
TZID:Europe/Vienna
BEGIN:DAYLIGHT
TZOFFSETFROM:+0100
TZOFFSETTO:+0200
TZNAME:CEST
DTSTART:20240331T010000
END:DAYLIGHT
BEGIN:STANDARD
TZOFFSETFROM:+0200
TZOFFSETTO:+0100
TZNAME:CET
DTSTART:20241027T010000
END:STANDARD
BEGIN:DAYLIGHT
TZOFFSETFROM:+0100
TZOFFSETTO:+0200
TZNAME:CEST
DTSTART:20250330T010000
END:DAYLIGHT
BEGIN:STANDARD
TZOFFSETFROM:+0200
TZOFFSETTO:+0100
TZNAME:CET
DTSTART:20251026T010000
END:STANDARD
BEGIN:DAYLIGHT
TZOFFSETFROM:+0100
TZOFFSETTO:+0200
TZNAME:CEST
DTSTART:20260329T010000
END:DAYLIGHT
BEGIN:STANDARD
TZOFFSETFROM:+0200
TZOFFSETTO:+0100
TZNAME:CET
DTSTART:20261025T010000
END:STANDARD
END:VTIMEZONE
BEGIN:VEVENT
DTSTART;TZID=Europe/Vienna:20251130T000000
DTEND;TZID=Europe/Vienna:20251214T000000
DTSTAMP:20260421T140930
CREATED:20260414T213951Z
LAST-MODIFIED:20260415T171514Z
UID:10000416-1764460800-1765670400@www.haus-der-stille.at
SUMMARY:Adventsexerzitien
DESCRIPTION:„Alles Leben ist Beziehung“ (Martin Buber)\n \n\nTäglich wird ein Impuls per Email zugesandt\, kurz genug\, um ihn in den Tag mitzunehmen.\n\n \n\nMarkante Inhalte in kleinen Einheiten\, leicht lesbar und alltagstauglich.\n\n \n\nJeden Tag eine individuelle Gebetszeit zu Hause einplanen – es besteht die Möglichkeit zum individuellen online-Gespräch oder Email-Austausch.\n\n \nKursbeitrag:\n \n\n€ 30\,- \n\n \n\nBitte mit untenstehendem Link anmelden.\n\n \n\nMit der Überweisung des Beitrages ist deine Anmeldung fixiert.\n\n \n\nEmpfänger: Verein Haus der Stille\nIBAN: AT23 3817 0000 0101 2442\n\n \n\nVerwendungszweck: Adventsexerzitien
URL:https://www.haus-der-stille.at/veranstaltung/adventsexerzitien/
CATEGORIES:Kurs
ATTACH;FMTTYPE=image/png:https://www.haus-der-stille.at/wp-content/uploads/2023/02/Sanduhr-Advent-Philip-Steury-Getty-Images-weniger-gruen-e1708262297572.png
END:VEVENT
BEGIN:VEVENT
DTSTART;TZID=Europe/Vienna:20251205T180000
DTEND;TZID=Europe/Vienna:20251208T140000
DTSTAMP:20260421T140930
CREATED:20260414T213411Z
LAST-MODIFIED:20260415T171523Z
UID:10000413-1764957600-1765202400@www.haus-der-stille.at
SUMMARY:Einfach singen
DESCRIPTION:Eingeladen sind alle\, die gerne singen oder es einmal probieren möchten. Gemeinsam singen wir heilsame und spirituelle Lieder.\n\n \n\nEinfache Melodien und Liedtexte können helfen\, leichter vom Kopf ins Herz zu kommen.\n\n \n\nBesonders empfehlenswert bei Stressbelastung als Ausgleich.\n\n \n\nSingen ist ein wunderbares Lebenselixier für Körper\, Geist und Seele!\n\n \nKursbeitrag\n \n\n€ 65\,00 \nexkl. Aufenthaltskosten
URL:https://www.haus-der-stille.at/veranstaltung/einfach-singen/
CATEGORIES:Kurs
ATTACH;FMTTYPE=image/jpeg:https://www.haus-der-stille.at/wp-content/uploads/2024/10/notenschluessel-rot-pixabay-geralt2.jpg
END:VEVENT
BEGIN:VEVENT
DTSTART;TZID=Europe/Vienna:20251205T180000
DTEND;TZID=Europe/Vienna:20251208T140000
DTSTAMP:20260421T140930
CREATED:20260414T213549Z
LAST-MODIFIED:20260415T171534Z
UID:10000414-1764957600-1765202400@www.haus-der-stille.at
SUMMARY:Stille Tage in Gemeinschaft
DESCRIPTION:Ein begleitetes Wochenende mit Impulsen\, Zeiten der Stille\, gemeinsamem Gebet\, Zeit zum Genießen der Natur – ein Geschenk nur für dich.\n\n \nLeitung\n \n\nHaus der Stille-Team\n\n \nKursbeitrag\n \n\n€ 45\,- (Mindestbeitrag)\n\n \n\nZuzüglich Vollpension
URL:https://www.haus-der-stille.at/veranstaltung/stille-tage-in-gemeinschaft-2/
CATEGORIES:Kurs
ATTACH;FMTTYPE=image/jpeg:https://www.haus-der-stille.at/wp-content/uploads/2022/05/IMG_4355.jpg
END:VEVENT
BEGIN:VEVENT
DTSTART;TZID=Europe/Vienna:20251205T180000
DTEND;TZID=Europe/Vienna:20251208T140000
DTSTAMP:20260421T140930
CREATED:20260414T213754Z
LAST-MODIFIED:20260415T171546Z
UID:10000415-1764957600-1765202400@www.haus-der-stille.at
SUMMARY:Das Licht in dir
DESCRIPTION:Das Jahr neigt sich dem Ende zu. In der Natur erkennen wir deutlich den Kreislauf von Werden und Vergehen. In diesem Seminar wollen wir uns auf die Endlichkeit unseres Lebens bewusst einlassen. Uns mit der Dunkelheit auseinandersetzen und uns befreien von Ängsten. \nIm Entdecken des Lichtes\, das in uns selbst wohnt\, können wir zu mehr Freude und einem Leben in Fülle gelangen.Der Advent ist auch im Christentum die Zeit\, in der Dunkelheit dem Licht zu folgen – hin zum Licht der Geburt Christi. \nGestaltungselemente: \n– Meditation\, Stille und Schweigen \n– Systemischje Aufstellungsarbeit (mit Symbolen) \n– Impulse mit Weisheitsgeschichten und Zitaten \n– Übungen für das Spürbewusstsein von Atem & Körper \n– Austausch in der Gruppe \n– Impulse aus dem Buch „Vom Smartphone zur Stille“ \nLeitung\nHarald PfohlEr ist als Coach in Österreich und Kreta tätig. Nach 25 Jahren in führender Position im Bankwesen folgt er seit 2010 seiner Berufung und vertieft seine Ausbildung als Trainer und Coach mit spirituellen und systemischen Elementen. Sein Weg führte ihn dabei nach Kreta\, wo er heute als Gastgeber und Insel-Coach Menschen begleitet. Sein Wirken als Coach wird ergänzt durch Vorträge\, Workshops\, Seminare und Autorenschaft. \nKursbeitrag\n€ 160\,- \nzuzüglich Aufenthaltskosten \nDas Impulsbuch kann im HdS gekauft oder beim Kursleiter bestellt werden (harald.pfohl@gmx.at) \nVoraussetzungen\nPsychische Stabilität
URL:https://www.haus-der-stille.at/veranstaltung/das-licht-in-dir/
CATEGORIES:Kurs
ATTACH;FMTTYPE=image/png:https://www.haus-der-stille.at/wp-content/uploads/2025/02/das-licht-in-dir-Format-Web-harald-pfohl.png
END:VEVENT
END:VCALENDAR