BEGIN:VCALENDAR
VERSION:2.0
PRODID:-//HAUS DER STILLE - ECPv6.15.20//NONSGML v1.0//EN
CALSCALE:GREGORIAN
METHOD:PUBLISH
X-WR-CALNAME:HAUS DER STILLE
X-ORIGINAL-URL:https://www.haus-der-stille.at
X-WR-CALDESC:Veranstaltungen für HAUS DER STILLE
REFRESH-INTERVAL;VALUE=DURATION:PT1H
X-Robots-Tag:noindex
X-PUBLISHED-TTL:PT1H
BEGIN:VTIMEZONE
TZID:Europe/Vienna
BEGIN:DAYLIGHT
TZOFFSETFROM:+0100
TZOFFSETTO:+0200
TZNAME:CEST
DTSTART:20240331T010000
END:DAYLIGHT
BEGIN:STANDARD
TZOFFSETFROM:+0200
TZOFFSETTO:+0100
TZNAME:CET
DTSTART:20241027T010000
END:STANDARD
BEGIN:DAYLIGHT
TZOFFSETFROM:+0100
TZOFFSETTO:+0200
TZNAME:CEST
DTSTART:20250330T010000
END:DAYLIGHT
BEGIN:STANDARD
TZOFFSETFROM:+0200
TZOFFSETTO:+0100
TZNAME:CET
DTSTART:20251026T010000
END:STANDARD
BEGIN:DAYLIGHT
TZOFFSETFROM:+0100
TZOFFSETTO:+0200
TZNAME:CEST
DTSTART:20260329T010000
END:DAYLIGHT
BEGIN:STANDARD
TZOFFSETFROM:+0200
TZOFFSETTO:+0100
TZNAME:CET
DTSTART:20261025T010000
END:STANDARD
END:VTIMEZONE
BEGIN:VEVENT
DTSTART;TZID=Europe/Vienna:20251114T170000
DTEND;TZID=Europe/Vienna:20251116T140000
DTSTAMP:20260424T013027
CREATED:20260414T215653Z
LAST-MODIFIED:20260415T171411Z
UID:10000424-1763139600-1763301600@www.haus-der-stille.at
SUMMARY:Tanz als Gebet
DESCRIPTION:„Tanz als Gebet“ ist die Einladung mit einfachen Kreistänzen um eine Christusikone Schritt für Schritt in die Gegenwart zu kommen um Gott begegnen zu können dem ICH BIN DA.\nDas GEMEINSAME auf-dem-Weg-Sein um und zu dieser Mitte ist dabei eine wertvolle Bereicherung.\n\n \n\nDer Schwerpunkt des Kurses liegt nicht auf dem Erlernen von Tanzschritten und Tänzen sondern auf dem Berührt-werden von der göttlichen Gegenwart. Kurze Impulse zu den Tänzen und Tanzthemen werden als Unterstützung auf dem Weg angeboten.\n\n \n\nWährend der Tanzeinheiten und in den Pausen bleiben die Teilnehmenden im Schweigen.\n\n \n„Ich lobe den Tanz\,\ndenn er bef \n„Ich lobe den Tanz\,\ndenn er befreit den Menschen von der Schwere der Dinge\,\nbindet den Vereinzelten an die Gemeinschaft.\nIch lobe den Tanz\, der alles fordert und fördert\,\nGesundheit und klaren Geist und eine beschwingte Seele.\nTanz ist Verwandlung des Raumes\, der Zeit\, des Menschen\,\nder dauernd in Gefahr ist zu zerfallen\,\nganz Hirn\, Wille oder Gefühl zu werden.\nDer Tanz dagegen fordert den ganzen Menschen\,\nder in seiner Mitte verankert ist\,…\n….im Gleichgewicht aller Kräfte. \n  \nAuszug aus einem Text\, der dem Hl. Augustinus zugeschrieben wird \n  \n\nVoraussetzungen\n  \nEs sind keine tänzerischen Vorkenntnisse notwendig. Bereitschaft zum Schweigen\n  \n\nKursbeitrag\n  \n€ 100\,-\nexkl. Aufenthaltskosten
URL:https://www.haus-der-stille.at/veranstaltung/tanz-als-gebet-2/
CATEGORIES:Kurs
ATTACH;FMTTYPE=image/jpeg:https://www.haus-der-stille.at/wp-content/uploads/2022/12/Foto-Ikone-1-e1708271783759.jpg
END:VEVENT
BEGIN:VEVENT
DTSTART;TZID=Europe/Vienna:20251116T180000
DTEND;TZID=Europe/Vienna:20251119T140000
DTSTAMP:20260424T013027
CREATED:20260414T215158Z
LAST-MODIFIED:20260415T171425Z
UID:10000422-1763316000-1763560800@www.haus-der-stille.at
SUMMARY:Bei-sich-sein und Kontemplation
DESCRIPTION:Behutsam lernen wir unsere Aufmerksamkeit auf unsere innere Mitte zu richten „bei uns zu sein“\, um damit Raum zu schaffen\, Gott begegnen zu können. Das kontemplative Gebet führt uns zu einer Lebenshaltung\, in der es uns möglich wird unsere „Seins-Räume“ – Körper\, Geist und Herz – zu öffnen und offen zu halten\, um ein Leben im Hier und Jetzt\, in der Gegenwart Gottes zu leben.\n\n \n\nDie Wahrnehmungsschritte dieser Meditationsform und Impulse aus Schriften der christlichen Mystik und moderner Weisheitslehrer geben uns Rahmen und Stütze dabei.\n\n \nVoraussetzungen:\n \n\nMeditationserfahrung nicht erforderlich\, aber Interesse und Sich-Einlassen auf Stille und Zeiten des Schweigens.\n\n \nKursbeitrag:\n \n\n€ 80\,-\n\n \n\nZuzüglich Aufenthaltskosten
URL:https://www.haus-der-stille.at/veranstaltung/bei-sich-sein-und-kontemplation/
CATEGORIES:Kurs
ATTACH;FMTTYPE=image/jpeg:https://www.haus-der-stille.at/wp-content/uploads/2025/04/IMG-20240514-WA0016-002.jpg
END:VEVENT
END:VCALENDAR