BEGIN:VCALENDAR
VERSION:2.0
PRODID:-//HAUS DER STILLE - ECPv6.15.20//NONSGML v1.0//EN
CALSCALE:GREGORIAN
METHOD:PUBLISH
X-ORIGINAL-URL:https://www.haus-der-stille.at
X-WR-CALDESC:Veranstaltungen für HAUS DER STILLE
REFRESH-INTERVAL;VALUE=DURATION:PT1H
X-Robots-Tag:noindex
X-PUBLISHED-TTL:PT1H
BEGIN:VTIMEZONE
TZID:Europe/Vienna
BEGIN:DAYLIGHT
TZOFFSETFROM:+0100
TZOFFSETTO:+0200
TZNAME:CEST
DTSTART:20240331T010000
END:DAYLIGHT
BEGIN:STANDARD
TZOFFSETFROM:+0200
TZOFFSETTO:+0100
TZNAME:CET
DTSTART:20241027T010000
END:STANDARD
BEGIN:DAYLIGHT
TZOFFSETFROM:+0100
TZOFFSETTO:+0200
TZNAME:CEST
DTSTART:20250330T010000
END:DAYLIGHT
BEGIN:STANDARD
TZOFFSETFROM:+0200
TZOFFSETTO:+0100
TZNAME:CET
DTSTART:20251026T010000
END:STANDARD
BEGIN:DAYLIGHT
TZOFFSETFROM:+0100
TZOFFSETTO:+0200
TZNAME:CEST
DTSTART:20260329T010000
END:DAYLIGHT
BEGIN:STANDARD
TZOFFSETFROM:+0200
TZOFFSETTO:+0100
TZNAME:CET
DTSTART:20261025T010000
END:STANDARD
END:VTIMEZONE
BEGIN:VEVENT
DTSTART;TZID=Europe/Vienna:20251110T180000
DTEND;TZID=Europe/Vienna:20251114T140000
DTSTAMP:20260423T134824
CREATED:20260414T220036Z
LAST-MODIFIED:20260415T171347Z
UID:10000425-1762797600-1763128800@www.haus-der-stille.at
SUMMARY:Viva la Vida - Es lebe das Leben
DESCRIPTION:Eine Auszeit für alle\, die am Übergang in den Ruhestand neue Wege entdecken wollen:\nIn inspirierenden Gruppengesprächen heben wir verborgene Schätze – Deine Erfahrungen\, Sehnsüchte und Potenziale.\nRituale helfen Dir\, zu würdigen was war und willkommen zu heißen was kommt.\n\n \n\nIn persönlichen Einzelgesprächen mit den erfahrenen Referentinnen findest Du Klarheit\, Richtung und neue Stärke.\nWir feiern gemeinsam das Leben\, die Veränderung – und genießen bewusst stille Momente zum Innehalten.\n\n \n\nEin Retreat\, das nährt\, bewegt und verbindet – für einen erfüllten Start in den neuen Lebensabschnitt.\n\n \nLeitung\n \n\nMarlies Prettenthaler-Heckel\nSeelsorgerin\, Theologin\, spirituell-theologische Leitung im Haus der Stille\, Musikerin und begeisterte Leserin\n\n \n\nInes Ehrbar\nMediatorin\, Integral Life Consultant\, Trainerin für regenerative Entscheidungs- und Veränderungsprozesse\, Bildungsorganisation Haus der Stille\, ehemalige Lehrerin (Englisch\, Geschichte\, politische Bildung\, Kunstgeschichte\, Medien – mit Schwerpunkt Kommunikation und Präsentation)\n\n \nKursbeitrag\n \n\n€ 480\,-\nexkl. Aufenthaltskosten
URL:https://www.haus-der-stille.at/veranstaltung/viva-la-vida-es-lebe-das-leben/
CATEGORIES:Kurs
ATTACH;FMTTYPE=image/jpeg:https://www.haus-der-stille.at/wp-content/uploads/2025/07/Pensionsretreat-rotated.jpg
END:VEVENT
END:VCALENDAR