BEGIN:VCALENDAR
VERSION:2.0
PRODID:-//HAUS DER STILLE - ECPv6.15.20//NONSGML v1.0//EN
CALSCALE:GREGORIAN
METHOD:PUBLISH
X-WR-CALNAME:HAUS DER STILLE
X-ORIGINAL-URL:https://www.haus-der-stille.at
X-WR-CALDESC:Veranstaltungen für HAUS DER STILLE
REFRESH-INTERVAL;VALUE=DURATION:PT1H
X-Robots-Tag:noindex
X-PUBLISHED-TTL:PT1H
BEGIN:VTIMEZONE
TZID:Europe/Vienna
BEGIN:DAYLIGHT
TZOFFSETFROM:+0100
TZOFFSETTO:+0200
TZNAME:CEST
DTSTART:20240331T010000
END:DAYLIGHT
BEGIN:STANDARD
TZOFFSETFROM:+0200
TZOFFSETTO:+0100
TZNAME:CET
DTSTART:20241027T010000
END:STANDARD
BEGIN:DAYLIGHT
TZOFFSETFROM:+0100
TZOFFSETTO:+0200
TZNAME:CEST
DTSTART:20250330T010000
END:DAYLIGHT
BEGIN:STANDARD
TZOFFSETFROM:+0200
TZOFFSETTO:+0100
TZNAME:CET
DTSTART:20251026T010000
END:STANDARD
BEGIN:DAYLIGHT
TZOFFSETFROM:+0100
TZOFFSETTO:+0200
TZNAME:CEST
DTSTART:20260329T010000
END:DAYLIGHT
BEGIN:STANDARD
TZOFFSETFROM:+0200
TZOFFSETTO:+0100
TZNAME:CET
DTSTART:20261025T010000
END:STANDARD
END:VTIMEZONE
BEGIN:VEVENT
DTSTART;TZID=Europe/Vienna:20251031T180000
DTEND;TZID=Europe/Vienna:20251102T140000
DTSTAMP:20260423T115902
CREATED:20260414T221225Z
LAST-MODIFIED:20260415T171236Z
UID:10000430-1761933600-1762092000@www.haus-der-stille.at
SUMMARY:Mein Leben erneuern
DESCRIPTION:Systemische Aufstellungen & Qi Gong – ein Wochenende der inneren Klärung und Stärkung\n \n\nManchmal ermuntert uns das Leben innezuhalten\, hinzuspüren\, und alten Mustern auf liebevolle Weise zu begegnen. In diesem Seminar laden wir dich ein\, in einem geschützten Raum im Haus der Stille deinen inneren Bewegungen zu folgen und neue Perspektiven zu entdecken. Du erfährst praktische Qi Gong Übungen und nimmst an systemischen Aufstellungen teil oder stellst dein eigenes Thema auf. Systemische Aufstellungsarbeit ermöglicht uns\, unseren guten Platz im System zu erkennen und eine innere Ordnung wiederherzustellen.\n\n \n\nWas dich erwartet:\n\n \n\nSystemische Aufstellungen: In einer wertschätzenden Atmosphäre öffnen wir den Raum für Themen\, die nach Veränderung oder Heilung rufen – sei es familiär\, beruflich oder persönlich. Die Methode der Aufstellung erlaubt es\, tief verborgene Dynamiken sichtbar zu machen und Lösungen intuitiv erfahrbar werden zu lassen.\n\n \n\nQi Gong Übungen: Sanfte\, meditative Bewegungen aus der chinesischen Heilkunst unterstützen dich dabei\, im Jetzt zu sein\, den Atem zu vertiefen und deine Lebensenergie wahrzunehmen. Qi Gong ist eine bewährte Übung\, die dabei helfen kann deine Mitte zu stärken und schwierige Erfahrungen zu integrieren. Diese Körperarbeit ermöglicht\, dass sich das in den Aufstellungen Erlebte gut setzen kann.\n\n \n\nDieses Wochenende bietet dir Zeit für dich\, für Stille\, für Bewegung und für Begegnung – mit dir selbst und mit anderen.\n\n \n\nFür wen ist das Seminar geeignet?\nFür alle Menschen\, die offen sind für körperliche und energetische Erfahrung\, und die sich ein Stück mehr in ihrer Kraft verankern möchten. Vorkenntnisse sind nicht erforderlich.\n\n \n\nVoraussetzungen\n\n \n\nEs ist kein Vorwissen erforderlich\, nur deine Bereitschaft\, dich auf den Prozess einzulassen. Psychische Gesundheit wird vorausgesetzt.\n\n \n\nBitte gib bei der Anmeldung bekannt\, ob du selber ein Anliegen aufstellen möchtest.\n\n \n\nLeitung\n\n \n\nChristine Bärnthaler\nPsychosoziale Beraterin (LSB)\, Erwachsenenbildnern\, ÖVS zertifizierte Supervisorin und Coach\, Aufstellungsleiterin (DsA)\, Systemische Organisationsentwicklerin\n\n \n\nMartin Theilacker\nQi Gong Lehrer\, Ausbildungen in Körper- und Seelenarbeit: Bachblüten Berater\, Reiki Meister/-Lehrer\, spiritueller Sterbebegleiter\, Craniosakral Balancer\, Polizeioffizier i.R.\n\n \n\nKursbeitrag\n\n \n\n€ 240\,- mit eigener Aufstellung € 120\,- ohne Aufstellung (als Repräsentant*in)\n\n \n\nexkl. Aufenthaltskosten
URL:https://www.haus-der-stille.at/veranstaltung/mein-leben-erneuern/
CATEGORIES:Kurs
ATTACH;FMTTYPE=image/jpeg:https://www.haus-der-stille.at/wp-content/uploads/2025/04/Staffelsee-scaled.jpg
END:VEVENT
END:VCALENDAR