BEGIN:VCALENDAR
VERSION:2.0
PRODID:-//HAUS DER STILLE - ECPv6.15.20//NONSGML v1.0//EN
CALSCALE:GREGORIAN
METHOD:PUBLISH
X-ORIGINAL-URL:https://www.haus-der-stille.at
X-WR-CALDESC:Veranstaltungen für HAUS DER STILLE
REFRESH-INTERVAL;VALUE=DURATION:PT1H
X-Robots-Tag:noindex
X-PUBLISHED-TTL:PT1H
BEGIN:VTIMEZONE
TZID:Europe/Vienna
BEGIN:DAYLIGHT
TZOFFSETFROM:+0100
TZOFFSETTO:+0200
TZNAME:CEST
DTSTART:20240331T010000
END:DAYLIGHT
BEGIN:STANDARD
TZOFFSETFROM:+0200
TZOFFSETTO:+0100
TZNAME:CET
DTSTART:20241027T010000
END:STANDARD
BEGIN:DAYLIGHT
TZOFFSETFROM:+0100
TZOFFSETTO:+0200
TZNAME:CEST
DTSTART:20250330T010000
END:DAYLIGHT
BEGIN:STANDARD
TZOFFSETFROM:+0200
TZOFFSETTO:+0100
TZNAME:CET
DTSTART:20251026T010000
END:STANDARD
BEGIN:DAYLIGHT
TZOFFSETFROM:+0100
TZOFFSETTO:+0200
TZNAME:CEST
DTSTART:20260329T010000
END:DAYLIGHT
BEGIN:STANDARD
TZOFFSETFROM:+0200
TZOFFSETTO:+0100
TZNAME:CET
DTSTART:20261025T010000
END:STANDARD
END:VTIMEZONE
BEGIN:VEVENT
DTSTART;TZID=Europe/Vienna:20251017T150000
DTEND;TZID=Europe/Vienna:20251017T170000
DTSTAMP:20260423T221357
CREATED:20260410T235953Z
LAST-MODIFIED:20260415T110554Z
UID:10000119-1760713200-1760720400@www.haus-der-stille.at
SUMMARY:Chor der Stille
DESCRIPTION:mit Marlies Prettenthaler-Heckel und dem Haus der Stille-Team \n\n\n\nEs gibt so viele schöne\, einfache\, mehrstimmige Lieder in unserem Liederbuch und darüber hinaus\, die unsere Liturgie bereichern. Wir nehmen uns Zeit\, einzelne Stimmen zu proben. \n\n\n\nDaher gibt es seit September 2024 den Chor der Stille. Wir sind kein „Auftrittschor“\, sondern wollen eine klangvolle Vielstimmigkeit im Gottesdienst ermöglichen – sowohl für Gebetszeiten als auch in den wochentäglichen und sonntäglichen Feiern. Und das gemeinsame Singen soll auch einfach Spaß machen! \n\n\n\nWir proben einfache Gesänge aus Taizé\, aus dem Haus der Stille und darüber hinaus. An den auf die Chortermine folgenden Sonntagen singen wir (diejenigen\, die Zeit haben) gemeinsam beim Gottesdienst. \n\n\n\nDer Chor der Stille ist von Anfänger:innen bis hin zu geübten Sänger:innen für alle offen. \n\n\n\nTermine Herbst/Winter 2025/2026: 26. September 2517. Oktober 257. November 2512. Dezember 2523. Jänner 26 \nTermine Frühling 2026: \n27. März 268. Mai 26 \n\n\n\n\n\njeweils Freitag\, 15.00 – 17.00 Uhr am folgenden Sonntag singen wir gemeinsam beim Gottesdienst um 11.30 in der Franziskuskapelle \n\n\n\nKomm und singe mit uns! \n\n\n\nKeine Anmeldung erforderlich. \n\n\n\nFreiwillige Spende. \n\n\n\nEs geht darum\, dass Gott durch uns klingen kann. Wir sind die Instrumente und werden gespielt von dieser Musik\, die das Heilige ist. … Martin Schleske
URL:https://www.haus-der-stille.at/veranstaltung/chor-der-stille/2025-10-17/
CATEGORIES:Sonderveranstaltung
ATTACH;FMTTYPE=image/jpeg:https://www.haus-der-stille.at/wp-content/uploads/2024/10/guitar-wal_172619-pixabay.jpg
END:VEVENT
BEGIN:VEVENT
DTSTART;TZID=Europe/Vienna:20251017T180000
DTEND;TZID=Europe/Vienna:20251019T140000
DTSTAMP:20260423T221357
CREATED:20260415T134833Z
LAST-MODIFIED:20260415T171127Z
UID:10000435-1760724000-1760882400@www.haus-der-stille.at
SUMMARY:Heilsamer Umgang mit Trauer
DESCRIPTION:Trauer kennt jeder von uns. Ausgelöst durch Verluste\, Abschiede\, Trennung\, Krankheit\, Krisen\, Tod. Oft bleibt das Gefühl von Trauer in uns eingesperrt\, unausgedrückt\, tut weh\, blockiert\, bindet wertvolle Kraft\, macht Angst und reduziert unsere Lebensfreude.\n\n \n\nWäre es nicht ein Segen\, diese Energie der Trauer bewusst mit der Kraft des Herzens wahrzunehmen\, sie anzuerkennen\, mitfühlend mit ihr umzugehen\, sie zu würdigen\, zu befreien und zu wandeln? Achtsam\, wertschätzend\, voller Mitgefühl\, mit Dankbarkeit und in einer Haltung der Vergebung? Für mehr Lebensfreude\, Lebendigkeit und neue Kraft.\n\n \n\nDieses Wochenend-Seminar bietet wertvolle Integrations-Impulse\, Innenschau und Reflexion\, Herzensmeditation und sanfte Atemarbeit\, Klänge\, Selbstmitgefühlsübungen\, heilsame Kommunikation und Schreiben\, Trauerrituale\, die tragende Kraft der Gruppe\, Stille und Naturerleben.\n\n \nBitte mitbringen:\n \n\nBequeme Kleidung\, Decke\, Stift und Papier\, Lieblingstuch.\n\n \nLeitung\n \n\nRomana Ondra\nKlinische und Gesundheitspsychologin\, Trauma-Behandlerin\, Herzensmeditationslehrerin\n\n \nKursbeitrag\n \n\n€ 210\,- \nexkl. Aufenthaltskosten
URL:https://www.haus-der-stille.at/veranstaltung/heilsamer-umgang-mit-trauer/
CATEGORIES:Kurs
ATTACH;FMTTYPE=image/jpeg:https://www.haus-der-stille.at/wp-content/uploads/2025/01/Wald_Romana-Ondra-rotated.jpeg
END:VEVENT
BEGIN:VEVENT
DTSTART;TZID=Europe/Vienna:20251017T180000
DTEND;TZID=Europe/Vienna:20251019T140000
DTSTAMP:20260423T221357
CREATED:20260415T135056Z
LAST-MODIFIED:20260415T171141Z
UID:10000436-1760724000-1760882400@www.haus-der-stille.at
SUMMARY:Meditation in Anlehnung an Zen
DESCRIPTION:Durchgängiges Schweigen\n \n 	Sitzmeditationen à 25 Min. (insgesamt ca. 10 Einheiten am Samstag\, teilweise angeleitet nach den vier Schritten der Friedensmeditation von Master Shin Tao) und Gehmeditation im Freien\n \n 	Körperübungen nach Feldenkrais\n \n 	Gelegenheit zur Teilnahme an der Liturgie im Haus der Stille\n\n \n\nStille\, Schweigen und die Kraft des gemeinsamen Meditierens helfen uns zur Ruhe zu kommen\, unser wahres Wesen zu erfahren und in Harmonie mit uns selbst\, den anderen und der ganzen Welt zu kommen.\n\n \n\nDurchgängige Teilnahme an allen Tagen wird erwartet.\n\n \nVoraussetzungen\n \n\n 	Bereitschaft sich auf intensives Üben und Schweigen einzulassen und an allen Einheiten teilzunehmen.\n \n 	Psychische und physische Stabilität.  Bei Unklarheiten bitte telefonische Kontaktaufnahme mit dem Kursleiter.\n \n 	Vorerfahrungen mit intensiver Sitzmeditation z.B. durch Teilnahme an Sesshins\, Übungswochenenden\, Einführungskurs(e) in Zen.\n\n \nLeitung\n \n\nReinhard Mendler\nErziehungswissenschafter\, Lebensberater\, Supervisor\, Erwachsenenbildner\, Zenpraxis seit 1981\n\n \n\nAssistenz: Petra Wolf\nFeldenkrais®-Lehrerin und Sportwissenschafterin\, Zen-Praktizierende\n\n \nKursbeitrag\n \n\n€ 50\,00\nexkl. Aufenthaltskosten
URL:https://www.haus-der-stille.at/veranstaltung/meditation-in-anlehnung-an-zen-4/
CATEGORIES:Kurs
ATTACH;FMTTYPE=image/jpeg:https://www.haus-der-stille.at/wp-content/uploads/2021/10/ZEN.jpg
END:VEVENT
END:VCALENDAR