BEGIN:VCALENDAR
VERSION:2.0
PRODID:-//HAUS DER STILLE - ECPv6.15.20//NONSGML v1.0//EN
CALSCALE:GREGORIAN
METHOD:PUBLISH
X-WR-CALNAME:HAUS DER STILLE
X-ORIGINAL-URL:https://www.haus-der-stille.at
X-WR-CALDESC:Veranstaltungen für HAUS DER STILLE
REFRESH-INTERVAL;VALUE=DURATION:PT1H
X-Robots-Tag:noindex
X-PUBLISHED-TTL:PT1H
BEGIN:VTIMEZONE
TZID:Europe/Vienna
BEGIN:DAYLIGHT
TZOFFSETFROM:+0100
TZOFFSETTO:+0200
TZNAME:CEST
DTSTART:20240331T010000
END:DAYLIGHT
BEGIN:STANDARD
TZOFFSETFROM:+0200
TZOFFSETTO:+0100
TZNAME:CET
DTSTART:20241027T010000
END:STANDARD
BEGIN:DAYLIGHT
TZOFFSETFROM:+0100
TZOFFSETTO:+0200
TZNAME:CEST
DTSTART:20250330T010000
END:DAYLIGHT
BEGIN:STANDARD
TZOFFSETFROM:+0200
TZOFFSETTO:+0100
TZNAME:CET
DTSTART:20251026T010000
END:STANDARD
BEGIN:DAYLIGHT
TZOFFSETFROM:+0100
TZOFFSETTO:+0200
TZNAME:CEST
DTSTART:20260329T010000
END:DAYLIGHT
BEGIN:STANDARD
TZOFFSETFROM:+0200
TZOFFSETTO:+0100
TZNAME:CET
DTSTART:20261025T010000
END:STANDARD
END:VTIMEZONE
BEGIN:VEVENT
DTSTART;TZID=Europe/Vienna:20251004T143000
DTEND;TZID=Europe/Vienna:20251005T140000
DTSTAMP:20260424T011254
CREATED:20260415T140230Z
LAST-MODIFIED:20260415T171044Z
UID:10000440-1759588200-1759672800@www.haus-der-stille.at
SUMMARY:Ich tanze vor Freude
DESCRIPTION:Sich im eigenen Leib erspüren\,den Rhythmus der Musik aufnehmen undmiteinander in Bewegung kommen. \nKurselemente:\n\n\nKreistänze\n\n\nGruppentänze\n\n\nMeditative Tänze\n\n\nFreies Tanzen\n\n\nKursbeitrag:\n€ 50\,-exkl. Aufenthaltskosten
URL:https://www.haus-der-stille.at/veranstaltung/ich-tanze-vor-freude/
CATEGORIES:Kurs
ATTACH;FMTTYPE=image/jpeg:https://www.haus-der-stille.at/wp-content/uploads/2022/02/Mirjam-1.jpg
END:VEVENT
BEGIN:VEVENT
DTSTART;TZID=Europe/Vienna:20251005T180000
DTEND;TZID=Europe/Vienna:20251012T090000
DTSTAMP:20260424T011254
CREATED:20260415T135654Z
LAST-MODIFIED:20260415T171101Z
UID:10000438-1759687200-1760259600@www.haus-der-stille.at
SUMMARY:Klara
DESCRIPTION:Nach unserem Einführungswochenende „Klara“ vom 9. – bis 11. Mai 2025 laden wir zu einer vertiefenden Reise auf den Spuren der Hl. Klara nach Assisi ein.\n\n \n\nReise im Nachtzug in 4er Abteilen\n\n \n\nÜbernachtung im Hotel La Rocca in 2 Bett-Zimmern\n\n \nReisekosten\n \n\n€ 850\,– bis € 1.000\,– je nach Teilnehmer:innenzahl\n(inkl. Zugfahrt ab Bruck an der Mur\, 5 Halbpension und Begleitung)\n-> Abreise am Abend; Rückkunft in der Früh\n\n \n\n€ 250\,– Anzahlung an Haus der Stille\n\n \nAnmeldung bis 4. August 2025.\nDie Anmeldung ist mit Überweisung der Anzahlung von € 250\,– fix. \n \nLeitung\n \n\nMaria Grentner\nMitarbeiterin im Haus der Stille\, Schneiderin\, Familienhelferin\n\n \n\nHedi Mislik\nPädagogische Mitarbeiterin i. R.\, Hort- und Heimerzieherin\, Schule für Gymnastik und Tanz Grete Bieberbach\, ChoRa Kreistanzleiterin. Tanz- und Ausdruckspädagogin
URL:https://www.haus-der-stille.at/veranstaltung/klara/
CATEGORIES:Kurs
ATTACH;FMTTYPE=image/jpeg:https://www.haus-der-stille.at/wp-content/uploads/2024/08/klara.jpg
END:VEVENT
END:VCALENDAR