BEGIN:VCALENDAR
VERSION:2.0
PRODID:-//HAUS DER STILLE - ECPv6.15.20//NONSGML v1.0//EN
CALSCALE:GREGORIAN
METHOD:PUBLISH
X-WR-CALNAME:HAUS DER STILLE
X-ORIGINAL-URL:https://www.haus-der-stille.at
X-WR-CALDESC:Veranstaltungen für HAUS DER STILLE
REFRESH-INTERVAL;VALUE=DURATION:PT1H
X-Robots-Tag:noindex
X-PUBLISHED-TTL:PT1H
BEGIN:VTIMEZONE
TZID:Europe/Vienna
BEGIN:DAYLIGHT
TZOFFSETFROM:+0100
TZOFFSETTO:+0200
TZNAME:CEST
DTSTART:20240331T010000
END:DAYLIGHT
BEGIN:STANDARD
TZOFFSETFROM:+0200
TZOFFSETTO:+0100
TZNAME:CET
DTSTART:20241027T010000
END:STANDARD
BEGIN:DAYLIGHT
TZOFFSETFROM:+0100
TZOFFSETTO:+0200
TZNAME:CEST
DTSTART:20250330T010000
END:DAYLIGHT
BEGIN:STANDARD
TZOFFSETFROM:+0200
TZOFFSETTO:+0100
TZNAME:CET
DTSTART:20251026T010000
END:STANDARD
BEGIN:DAYLIGHT
TZOFFSETFROM:+0100
TZOFFSETTO:+0200
TZNAME:CEST
DTSTART:20260329T010000
END:DAYLIGHT
BEGIN:STANDARD
TZOFFSETFROM:+0200
TZOFFSETTO:+0100
TZNAME:CET
DTSTART:20261025T010000
END:STANDARD
END:VTIMEZONE
BEGIN:VEVENT
DTSTART;TZID=Europe/Vienna:20250926T150000
DTEND;TZID=Europe/Vienna:20250926T170000
DTSTAMP:20260423T183659
CREATED:20260410T235953Z
LAST-MODIFIED:20260415T110554Z
UID:10000118-1758898800-1758906000@www.haus-der-stille.at
SUMMARY:Chor der Stille
DESCRIPTION:mit Marlies Prettenthaler-Heckel und dem Haus der Stille-Team \n\n\n\nEs gibt so viele schöne\, einfache\, mehrstimmige Lieder in unserem Liederbuch und darüber hinaus\, die unsere Liturgie bereichern. Wir nehmen uns Zeit\, einzelne Stimmen zu proben. \n\n\n\nDaher gibt es seit September 2024 den Chor der Stille. Wir sind kein „Auftrittschor“\, sondern wollen eine klangvolle Vielstimmigkeit im Gottesdienst ermöglichen – sowohl für Gebetszeiten als auch in den wochentäglichen und sonntäglichen Feiern. Und das gemeinsame Singen soll auch einfach Spaß machen! \n\n\n\nWir proben einfache Gesänge aus Taizé\, aus dem Haus der Stille und darüber hinaus. An den auf die Chortermine folgenden Sonntagen singen wir (diejenigen\, die Zeit haben) gemeinsam beim Gottesdienst. \n\n\n\nDer Chor der Stille ist von Anfänger:innen bis hin zu geübten Sänger:innen für alle offen. \n\n\n\nTermine Herbst/Winter 2025/2026: 26. September 2517. Oktober 257. November 2512. Dezember 2523. Jänner 26 \nTermine Frühling 2026: \n27. März 268. Mai 26 \n\n\n\n\n\njeweils Freitag\, 15.00 – 17.00 Uhr am folgenden Sonntag singen wir gemeinsam beim Gottesdienst um 11.30 in der Franziskuskapelle \n\n\n\nKomm und singe mit uns! \n\n\n\nKeine Anmeldung erforderlich. \n\n\n\nFreiwillige Spende. \n\n\n\nEs geht darum\, dass Gott durch uns klingen kann. Wir sind die Instrumente und werden gespielt von dieser Musik\, die das Heilige ist. … Martin Schleske
URL:https://www.haus-der-stille.at/veranstaltung/chor-der-stille/2025-09-26/
CATEGORIES:Sonderveranstaltung
ATTACH;FMTTYPE=image/jpeg:https://www.haus-der-stille.at/wp-content/uploads/2024/10/guitar-wal_172619-pixabay.jpg
END:VEVENT
BEGIN:VEVENT
DTSTART;TZID=Europe/Vienna:20250926T180000
DTEND;TZID=Europe/Vienna:20250928T140000
DTSTAMP:20260423T183659
CREATED:20260415T140827Z
LAST-MODIFIED:20260415T171009Z
UID:10000442-1758909600-1759068000@www.haus-der-stille.at
SUMMARY:Du bist nicht mehr da. Leben ohne dich.
DESCRIPTION:Der Verlust eines geliebten Menschen hinterlässt eine tiefe Lücke\, die den Alltag und das Leben für immer verändert. Unser Seminar „Du bist nicht mehr da. Leben ohne dich.“ bietet dir ein Wochenende der Besinnung\, des Trostes und der gemeinsamen Bewältigung von Trauer. In einem geschützten Raum möchten wir dir die Möglichkeit geben\, den Verlust zu betrauern\, sich an den gemeinsamen Erinnerungen zu erfreuen und Schritte in eine getröstete Zukunft zu wagen.\n\n \n\nSchwerpunkte des Seminars:\n\n \n\nZeit zum Trauern: Wir schaffen Raum\, um den Schmerz des Verlustes zu fühlen und zu verarbeiten. In gemeinsamen Gesprächen und stillen Momenten erhältst du die Möglichkeit\, deinen Gefühlen Ausdruck zu verleihen.\n\n \n\nFreude an Erinnerungen: Die gemeinsamen Erinnerungen an den geliebten Menschen sind ein wertvoller Schatz. Wir erkunden Wege\, wie du diese Erinnerungen bewahren und in dein Leben integrieren kannst\, um Trost und Freude daraus zu schöpfen.\n\n \n\n\n\nHilfreiche Rituale zur Alltagsbewältigung: Rituale können ein wertvoller Anker in Zeiten der Trauer sein. Gemeinsam entwickeln wir Rituale\, die dir helfen\, den Alltag zu bewältigen und die Zukunft offen und getröstet zu gestalten.\n\n \n\nGestaltung von Familienfeiern ohne den geliebten Menschen: Der Verlust verändert auch familiäre Anlässe und Feiern. Wir tauschen uns darüber aus\, wie du Familienfeiern in einer Weise gestalten kannst\, die sowohl die Abwesenheit als auch die Erinnerung an den Verstorbenen respektiert und ehrt.\n\n \n\nZielgruppe:\n\n \n\nDieses Seminar richtet sich an alle\, die den Verlust eines geliebten Menschen betrauern und nach Wegen suchen\, das Leben ohne ihn oder sie zu bewältigen\, während sie gleichzeitig Trost und neue Perspektiven für die Zukunft finden.\n\n \n\nMindestteilnehmerzahl: 8 Pers.\n\n \n\nGönn dir ein Wochenende der Besinnung und Heilung. In einem geschützten\, verständnisvollen Umfeld kannst du den Verlust bearbeiten\, die Freude an Erinnerungen wiederfinden\, Schweres integrieren und neue Wege für dein Leben ohne den geliebten Menschen entdecken.\n\n \nLeitung\n \n\nMartha Weisböck: Krankenhausseelsorgerin\, Ritualgestalterin\nSebastian Schlöglmann: theologischer Mitarbeiter im Haus der Stille\, Pädagoge\n\n \nKursbeitrag\n \n\n€ 200\,-\nexkl. Aufenthaltskosten
URL:https://www.haus-der-stille.at/veranstaltung/du-bist-nicht-mehr-da-leben-ohne-dich/
CATEGORIES:Kurs
ATTACH;FMTTYPE=image/jpeg:https://www.haus-der-stille.at/wp-content/uploads/2024/12/IMG_7994-scaled.jpg
END:VEVENT
BEGIN:VEVENT
DTSTART;TZID=Europe/Vienna:20250926T180000
DTEND;TZID=Europe/Vienna:20250928T140000
DTSTAMP:20260423T183659
CREATED:20260415T141035Z
LAST-MODIFIED:20260415T171020Z
UID:10000443-1758909600-1759068000@www.haus-der-stille.at
SUMMARY:Veränderungs.Dialoge
DESCRIPTION:Sich einfach frei von der Seele mitteilen und die Leichtigkeit des Lebens fühlen? Ohne Angst\, ohne Zweifel: Darf ich das?\n\n \n\nIn diesem Kurs wird ein Raum geöffnet\, in dem das möglich ist. Niemand der einen verurteilt\, für seine eigenen Gedanken\, Bilder und Wünsche\, die auch ausgesprochen werden dürfen. Klare Struktur und ein wohlwollendes Miteinander sind Voraussetzung für solche Gespräche\, die viel bewirken können.\n\n \n\nUnd die Frage: „Wie gehe ich damit weiter?“ lässt uns miteinander Lösungsansätze finden.\n\n \n\nWir\n\n \n\n 	trainieren und üben Gelassenheit\n \n 	entdecken inneren Frieden und Ruhe\n \n 	erhöhen unsere Umsetzungs- und Entscheidungskompetenz\n \n 	setzen endlosem Grübeln ein Ende\n \n 	entwickeln ein neues Verantwortungsgefühl\n \n 	gewinnen mehr Klarheit und erlauben uns mehr und mehr im Jetzt zu sein\, indem wir gezielt und fokussiert darüber reden\n\n \n\nVoraussetzung: Offenheit für das Arbeiten in der Kleingruppe\, wenn möglich bitte einen kleinen Notizblock oder ein kleines Heft mitbringen.\n\n \n\nPorträtfoto: © Ines Ehrbar\n\n \nLeitung\n \n\nInes Ehrbar\nMediatorin\, Integral Life Consultant\, Trainerin für regenerative Entscheidungs- und Veränderungsprozesse\, Bildungsorganisation Haus der Stille\, ehemalige Lehrerin (Englisch\, Geschichte\, politische Bildung\, Kunstgeschichte\, Medien – mit Schwerpunkt Kommunikation und Präsentation)\n\n \n\nDialog Ehrbar | Bewusste Veränderung für ein erfülltes Leben\n\n \nKursbeitrag\n \n\n€ 190\,-\nexkl. Aufenthaltskosten
URL:https://www.haus-der-stille.at/veranstaltung/veraenderungs-dialoge/
CATEGORIES:Kurs
ATTACH;FMTTYPE=image/jpeg:https://www.haus-der-stille.at/wp-content/uploads/2025/04/25-09-Veraenderungsdialoge-Wahrnehmung-in-Raum-und-Zeit.jpg
END:VEVENT
END:VCALENDAR