BEGIN:VCALENDAR
VERSION:2.0
PRODID:-//HAUS DER STILLE - ECPv6.15.20//NONSGML v1.0//EN
CALSCALE:GREGORIAN
METHOD:PUBLISH
X-WR-CALNAME:HAUS DER STILLE
X-ORIGINAL-URL:https://www.haus-der-stille.at
X-WR-CALDESC:Veranstaltungen für HAUS DER STILLE
REFRESH-INTERVAL;VALUE=DURATION:PT1H
X-Robots-Tag:noindex
X-PUBLISHED-TTL:PT1H
BEGIN:VTIMEZONE
TZID:Europe/Vienna
BEGIN:DAYLIGHT
TZOFFSETFROM:+0100
TZOFFSETTO:+0200
TZNAME:CEST
DTSTART:20240331T010000
END:DAYLIGHT
BEGIN:STANDARD
TZOFFSETFROM:+0200
TZOFFSETTO:+0100
TZNAME:CET
DTSTART:20241027T010000
END:STANDARD
BEGIN:DAYLIGHT
TZOFFSETFROM:+0100
TZOFFSETTO:+0200
TZNAME:CEST
DTSTART:20250330T010000
END:DAYLIGHT
BEGIN:STANDARD
TZOFFSETFROM:+0200
TZOFFSETTO:+0100
TZNAME:CET
DTSTART:20251026T010000
END:STANDARD
BEGIN:DAYLIGHT
TZOFFSETFROM:+0100
TZOFFSETTO:+0200
TZNAME:CEST
DTSTART:20260329T010000
END:DAYLIGHT
BEGIN:STANDARD
TZOFFSETFROM:+0200
TZOFFSETTO:+0100
TZNAME:CET
DTSTART:20261025T010000
END:STANDARD
END:VTIMEZONE
BEGIN:VEVENT
DTSTART;TZID=Europe/Vienna:20250706T180000
DTEND;TZID=Europe/Vienna:20250711T190000
DTSTAMP:20260423T232122
CREATED:20260415T150413Z
LAST-MODIFIED:20260415T170603Z
UID:10000464-1751824800-1752260400@www.haus-der-stille.at
SUMMARY:Einzelexerzitien nach Ignatius von Loyola
DESCRIPTION:Innehalten\, das Leben ordnen\, den eigenen Weg reflektieren und die Ausrichtung suchen oder vergewissern\, eventuell Entscheidungen treffen – Vertiefung und Schriftmeditation in Stille. \n\n\nNach einem gemeinsamen Anfangsimpuls am 1. Tag durchgängiges Schweigen\n\n\nindividuelle Gebetszeiten (etwa 3 Std pro Tag\, wird je persönlich besprochen)\n\n\nTägliches Gespräch mit der Begleitung (als Angebot)\n\n\nMöglichkeit zur Teilnahme an der Liturgie im Haus der Stille\n\n\nGerne kann der Sonntag zum Ausklingen genutzt werden. \nVoraussetzungen\nBereitschaft zu durchgängigem Schweigen. \nLeitung\nBrigitte ProkschTheologin\, Exerzitienbegleiterin und Seelsorgerin \nKursbeitrag\n€ 150\,-exkl. Aufenthaltskosten (5x Vollpension und ein zusätzliches Abendessen)
URL:https://www.haus-der-stille.at/veranstaltung/einzelexerzitien-nach-ignatius-von-loyola/
CATEGORIES:Kurs
ATTACH;FMTTYPE=image/png:https://www.haus-der-stille.at/wp-content/uploads/2023/03/Sanduhr-Pitiphothivichit-Getty-Images-e1708271351775.png
END:VEVENT
BEGIN:VEVENT
DTSTART;TZID=Europe/Vienna:20250707T090000
DTEND;TZID=Europe/Vienna:20250709T140000
DTSTAMP:20260423T232122
CREATED:20260415T150227Z
LAST-MODIFIED:20260415T170621Z
UID:10000463-1751878800-1752069600@www.haus-der-stille.at
SUMMARY:Sommertage mit Biblischen Figuren
DESCRIPTION:Kurselemente:\n\n \n\n 	manuelles Erarbeiten der Figuren unter Anleitung\n \n 	Bibelarbeit mit Hilfe der Figuren\n \n 	Haltungen und Handhabung der Figuren\n \n 	gemeinsame Gebetszeiten\, Teilnahme an der Liturgie im Haus der Stille\n\n \n\nEs können in diesem Sommerkurs gut 2 – 3 Figuren hergestellt werden. Für Menschen\, die diesen Kurs zum ersten Mal besuchen\, empfehle ich zwei Figuren.\nBitte melde  deine Figurenwünsche an mich eva.boehm@gmx.at\, damit ich alles für die gewünschten Figuren mitbringen kann.\n\n \n\nBei Sonderwünschen empfehle ich eigene Stoffe mitzubringen – ich bin für alle Figurenwünsche offen\, habe aber selber vor allem (Stoff)Material für biblische Figuren.\nVorschläge für Figuren: z.B. Hl. Familie\, Hl. 3 Könige\, Engel\, Hl. Nikolaus etc. oder Mann\, Frau\, Kind\, Jugendliche – bitte auch vermerken\, ob du die Figruen mit oder ohne Daumen haben willst.\n\n \n\nIch bereite das ganze Figurenpaket schon vor dem Kurs vor\, um längere Wartezeiten bei Kursbeginn zu vermeiden.\n\n \nKursbeitrag\n \n\n€ 140\,-\nMaterialkosten: pro Figur € 33\,- / König € 38\,- / Kind € 22\,-\n\n \n\nZuzüglich Unterkunft und Verpflegung
URL:https://www.haus-der-stille.at/veranstaltung/sommertage-mit-biblischen-figuren/
CATEGORIES:Kurs
ATTACH;FMTTYPE=image/jpeg:https://www.haus-der-stille.at/wp-content/uploads/2022/02/BiblischeFiguren-e1708272348301.jpg
END:VEVENT
BEGIN:VEVENT
DTSTART;TZID=Europe/Vienna:20250707T124500
DTEND;TZID=Europe/Vienna:20250711T110000
DTSTAMP:20260423T232122
CREATED:20260415T150046Z
LAST-MODIFIED:20260415T170631Z
UID:10000462-1751892300-1752231600@www.haus-der-stille.at
SUMMARY:Zwischen den Zeilen
DESCRIPTION:Der Stapel auf meinem Nachtkästchen wird bald umkippen: So viele Bücher und so wenig Zeit\, sie zu lesen.Vielleicht kennst du diese Erfahrung und hast Lust\, deine Bücher einzupacken und bei uns im Haus der Stille gemeinsam mit anderen deiner Leidenschaft Raum zu geben: Einfach lesen. \nGeschichten\, Romane\, Sachbücher – was du selber mitbringst. Eine schöne Sammlung spiritueller Literatur findest du auch in unserem Lesezimmer im Haus der Stille. \nDazu unser spirituelles Angebot in den Gebetszeiten\, gutes Essen\, um das du dich nicht selber kümmern musst und einmal am Tag die Möglichkeit\, deine Leseerfahrungen in einem Austausch mit anderen zu teilen. \nUnser Garten der Stille bietet wunderschöne Plätze zum Lesen. Schöne Spazierwege gibt es außerdem zu entdecken. \nLeitung\nMarlies Prettenthaler-HeckelSeelsorgerin\, Theologin\, spirituell-theologische Leitung im Haus der Stille\, Musikerin und begeisterte Leserin \nKursbeitrag\n€ 200\,-exkl. Aufenthaltskosten \nIndividuelle Verlängerung des Aufenthalts bis Sonntag ist möglich.
URL:https://www.haus-der-stille.at/veranstaltung/zwischen-den-zeilen/
CATEGORIES:Kurs
ATTACH;FMTTYPE=image/jpeg:https://www.haus-der-stille.at/wp-content/uploads/2025/04/bucher-5990114_640_pixabay.jpg
END:VEVENT
END:VCALENDAR