BEGIN:VCALENDAR
VERSION:2.0
PRODID:-//HAUS DER STILLE - ECPv6.15.20//NONSGML v1.0//EN
CALSCALE:GREGORIAN
METHOD:PUBLISH
X-WR-CALNAME:HAUS DER STILLE
X-ORIGINAL-URL:https://www.haus-der-stille.at
X-WR-CALDESC:Veranstaltungen für HAUS DER STILLE
REFRESH-INTERVAL;VALUE=DURATION:PT1H
X-Robots-Tag:noindex
X-PUBLISHED-TTL:PT1H
BEGIN:VTIMEZONE
TZID:Europe/Vienna
BEGIN:DAYLIGHT
TZOFFSETFROM:+0100
TZOFFSETTO:+0200
TZNAME:CEST
DTSTART:20240331T010000
END:DAYLIGHT
BEGIN:STANDARD
TZOFFSETFROM:+0200
TZOFFSETTO:+0100
TZNAME:CET
DTSTART:20241027T010000
END:STANDARD
BEGIN:DAYLIGHT
TZOFFSETFROM:+0100
TZOFFSETTO:+0200
TZNAME:CEST
DTSTART:20250330T010000
END:DAYLIGHT
BEGIN:STANDARD
TZOFFSETFROM:+0200
TZOFFSETTO:+0100
TZNAME:CET
DTSTART:20251026T010000
END:STANDARD
BEGIN:DAYLIGHT
TZOFFSETFROM:+0100
TZOFFSETTO:+0200
TZNAME:CEST
DTSTART:20260329T010000
END:DAYLIGHT
BEGIN:STANDARD
TZOFFSETFROM:+0200
TZOFFSETTO:+0100
TZNAME:CET
DTSTART:20261025T010000
END:STANDARD
END:VTIMEZONE
BEGIN:VEVENT
DTSTART;TZID=Europe/Vienna:20250616T180000
DTEND;TZID=Europe/Vienna:20250620T140000
DTSTAMP:20260424T004949
CREATED:20260415T152337Z
LAST-MODIFIED:20260415T170347Z
UID:10000473-1750096800-1750428000@www.haus-der-stille.at
SUMMARY:Achtsamkeit - Aus der Ruhe in die Kraft
DESCRIPTION:Achtsam sein bedeutet\, bewusst im gegenwärtigen Moment zu sein und wahrzunehmen\, was gerade ist.\nWir praktizieren Achtsamkeitsübungen\, wie die Körperwahrnehmung\, die Aufmerksamkeit auf den Atemrhythmus\, Meditationsformen im Sitzen und Gehen.\nDie Übungen führen uns sukzessive aus hartnäckigen Gedankenschleifen und belastenden Emotionsmustern und tragen daher wirksam zum Abbau von Stress bei.\n\n \n\nAchtsamkeit bringt mehr Gelassenheit und Freude in unser Leben\, weil wir lernen unser inneres Erleben bewusst zu steuern.\nDie Theorie und der Austausch in der Gruppe unterstützt das Verständnis in die Achtsamkeitspraxis.\nBei schönem Wetter findet der Kurs zeitweise im Freien statt.\nDie Nachmittage sind kursfrei.\n\n \nLeitung\n \n\nPetra Vogel-Kern\nAchtsamkeitstrainerin\, Yogalehrerin\, Heilpraktikerin für Psychotherapie\n\n \nKursbeitrag\n \n\n€ 235\,–\nexkl. Aufenthaltskosten
URL:https://www.haus-der-stille.at/veranstaltung/achtsamkeit-aus-der-ruhe-in-die-kraft/
CATEGORIES:Kurs
ATTACH;FMTTYPE=image/jpeg:https://www.haus-der-stille.at/wp-content/uploads/2023/07/earth-woman-sunset-Gerd-Altmann-Pixabay.jpg
END:VEVENT
BEGIN:VEVENT
DTSTART;TZID=Europe/Vienna:20250620T180000
DTEND;TZID=Europe/Vienna:20250622T140000
DTSTAMP:20260424T004949
CREATED:20260415T151803Z
LAST-MODIFIED:20260415T170406Z
UID:10000470-1750442400-1750600800@www.haus-der-stille.at
SUMMARY:Achtsame Kommunikation als Schlüssel glücklicher Beziehungen
DESCRIPTION:Das Geheimnis glücklicher Kontakte besteht in einer Kommunikation\, die aufmerksam\, wohlwollend und wahrhaftig ist.\nIm geschäftigen Alltag führen Gespräche jedoch häufiger zu Missverständnissen und Konflikten\, die Stressempfinden\, Verletzungen und Unzufriedenheit fördern.\n\n \n\nLiegt ist es dir am Herzen\, deine Begegnungen und Beziehungen wertschätzender\, konfliktfreier und liebevoller zu gestalten?\n\n \n\nIn diesem Workshop erlebst du mit Beispielen und Übungen\, was verbindet und was trennt. Miteinander reden\, ohne Ping-Pong Dialoge\, „gute“ Ratschläge\, Beschuldigungen und Verurteilungen. Die innere Haltung des Sich-Verstehen-Wollens öffnet das Herz und führt zu Nähe\, Harmonie und Verbundenheit.\n\n \nLeitung\n \n\nPetra Vogel-Kern\, Achtsamkeitstrainerin\, Yogalehrerin\, Heilpraktikerin für Psychotherapie\n\n \nKursbeitrag\n \n\n€ 170\,-\nexkl. Aufenthaltskosten
URL:https://www.haus-der-stille.at/veranstaltung/achtsame-kommunikation-als-schluessel-gluecklicher-beziehungen/
CATEGORIES:Kurs
ATTACH;FMTTYPE=image/jpeg:https://www.haus-der-stille.at/wp-content/uploads/2023/11/YingYang.jpg
END:VEVENT
BEGIN:VEVENT
DTSTART;TZID=Europe/Vienna:20250620T180000
DTEND;TZID=Europe/Vienna:20250622T140000
DTSTAMP:20260424T004949
CREATED:20260415T151933Z
LAST-MODIFIED:20260415T170417Z
UID:10000471-1750442400-1750600800@www.haus-der-stille.at
SUMMARY:Stille Tage in Gemeinschaft
DESCRIPTION:Ein begleitetes Wochenende mit Impulsen\, Zeiten der Stille\, gemeinsamem Gebet\, Zeit zum Genießen der Natur – ein Geschenk nur für dich.\n\n \nLeitung\n \n\nHaus der Stille-Team\n\n \nKursbeitrag\n \n\n€ 30\,- (Mindestbeitrag)\n\n \n\nZuzüglich Vollpension
URL:https://www.haus-der-stille.at/veranstaltung/stille-tage-in-gemeinschaft-4/
CATEGORIES:Kurs
ATTACH;FMTTYPE=image/jpeg:https://www.haus-der-stille.at/wp-content/uploads/2022/05/IMG_4355.jpg
END:VEVENT
END:VCALENDAR