BEGIN:VCALENDAR
VERSION:2.0
PRODID:-//HAUS DER STILLE - ECPv6.15.20//NONSGML v1.0//EN
CALSCALE:GREGORIAN
METHOD:PUBLISH
X-WR-CALNAME:HAUS DER STILLE
X-ORIGINAL-URL:https://www.haus-der-stille.at
X-WR-CALDESC:Veranstaltungen für HAUS DER STILLE
REFRESH-INTERVAL;VALUE=DURATION:PT1H
X-Robots-Tag:noindex
X-PUBLISHED-TTL:PT1H
BEGIN:VTIMEZONE
TZID:Europe/Vienna
BEGIN:DAYLIGHT
TZOFFSETFROM:+0100
TZOFFSETTO:+0200
TZNAME:CEST
DTSTART:20230326T010000
END:DAYLIGHT
BEGIN:STANDARD
TZOFFSETFROM:+0200
TZOFFSETTO:+0100
TZNAME:CET
DTSTART:20231029T010000
END:STANDARD
BEGIN:DAYLIGHT
TZOFFSETFROM:+0100
TZOFFSETTO:+0200
TZNAME:CEST
DTSTART:20240331T010000
END:DAYLIGHT
BEGIN:STANDARD
TZOFFSETFROM:+0200
TZOFFSETTO:+0100
TZNAME:CET
DTSTART:20241027T010000
END:STANDARD
BEGIN:DAYLIGHT
TZOFFSETFROM:+0100
TZOFFSETTO:+0200
TZNAME:CEST
DTSTART:20250330T010000
END:DAYLIGHT
BEGIN:STANDARD
TZOFFSETFROM:+0200
TZOFFSETTO:+0100
TZNAME:CET
DTSTART:20251026T010000
END:STANDARD
BEGIN:DAYLIGHT
TZOFFSETFROM:+0100
TZOFFSETTO:+0200
TZNAME:CEST
DTSTART:20260329T010000
END:DAYLIGHT
BEGIN:STANDARD
TZOFFSETFROM:+0200
TZOFFSETTO:+0100
TZNAME:CET
DTSTART:20261025T010000
END:STANDARD
END:VTIMEZONE
BEGIN:VEVENT
DTSTART;TZID=Europe/Vienna:20250131T180000
DTEND;TZID=Europe/Vienna:20250202T140000
DTSTAMP:20260420T065714
CREATED:20260415T161950Z
LAST-MODIFIED:20260415T165903Z
UID:10000498-1738346400-1738504800@www.haus-der-stille.at
SUMMARY:Lebens-Muster: "Ge-WOLL-te Transformation"
DESCRIPTION:Der Prozess des Filzens lässt uns erleben\, wie sich zarte Wollfasern nur mithilfe von Wasser\, Seife und der Arbeit unserer Hände miteinander verbinden\, an Festigkeit gewinnen\, zu neuer Form und Struktur werden: Transformation\, Umwandlung geschieht. Angeregt durch diesen Prozess gehen wir der Frage nach: wann und wie geschieht Verwandlung\, Transformation in unserem Leben? Textimpulse\, Elemente aus der Biografiearbeit sowie persönlicher Austausch begleiten uns dabei. Es können Sesselauflagen oder einfache Gefässe in Nassfilztechnik gefilzt werden.\n\n \n\nEinen Bericht über den Kurs im Jahr 2022 findest du hier.\n\n \nVoraussetzungen\n \n\nFreude am gestalterischen Tun\nHandwerkliche Vorkenntnisse sind nicht nötig\nBereitschaft\, sich auf die Impulse und den persönlichen Austausch einzulassen\n\n \nLeitung\n \n\nIrmgard Moldaschl\nErwachsenenbildnerin (wba)\, Ausbildungen in Biografiearbeit (Lebensmutig)\, Poesie- und Bibliotherapie (eag/fpi)\, Textilkünstlerin\n\n \n\nMaria Grentner\nMitarbeiterin im Haus der Stille\, Schneiderin\, Schneiderin\, Familienhelferin\n\n \nKursbeitrag\n \n\n€ 100\,-\nMaterialkosten werden extra verrechnet: ca. € 10\,- bis 20\,- je nach Verbrauch
URL:https://www.haus-der-stille.at/veranstaltung/lebens-muster-ge-woll-te-transformation/
CATEGORIES:Kurs
ATTACH;FMTTYPE=image/jpeg:https://www.haus-der-stille.at/wp-content/uploads/2022/09/IMG_8680-e1708271933776.jpeg
END:VEVENT
BEGIN:VEVENT
DTSTART;TZID=Europe/Vienna:20250117T180000
DTEND;TZID=Europe/Vienna:20250119T140000
DTSTAMP:20260420T065714
CREATED:20260415T162149Z
LAST-MODIFIED:20260415T165852Z
UID:10000499-1737136800-1737295200@www.haus-der-stille.at
SUMMARY:Tanz-Bewegung-Stimme als Medizin
DESCRIPTION:Durch meinen natürlichen Zugang zur Gesundheit setze ich den Tanz\, die Bewegung\, die\nStimme aber auch Visualisation und Stille als „Medizin“ für mehr Wohlbefinden ein.\n\n \n\n„Den eigenen Lebensrhythmus wieder finden bzw. neu entdecken.“\n\n \n\nGezielte\, energieverbindende Bewegungskombinationen erlernen\, den Tanz als Symbol der\ninneren Freiheit erleben und die Stimme als heilendes Instrument einsetzen\, um das Leben freudvoll tanzen zu können.\n\n \n\nVoraussetzungen: Spaß an der Bewegung & Freude an der Stille\n\n \n\nFoto: © Heike Kreutzer\n\n \nLeitung\n \n\nHeike Kreutzer\, Tanzpädagogik\, Choreografie\, Humanenergetik\, Touch for Health\, Regie\, Redaktion\, Sprechen\n\n \nKursbeitrag\n \n\n€ 111\,-\nexkl. Aufenthaltskosten
URL:https://www.haus-der-stille.at/veranstaltung/tanz-bewegung-stimme-als-medizin/
CATEGORIES:Kurs
ATTACH;FMTTYPE=image/jpeg:https://www.haus-der-stille.at/wp-content/uploads/2024/10/May-the-cracks-002-scaled.jpg
END:VEVENT
BEGIN:VEVENT
DTSTART;TZID=Europe/Vienna:20250110T180000
DTEND;TZID=Europe/Vienna:20250112T140000
DTSTAMP:20260420T065714
CREATED:20260415T162349Z
LAST-MODIFIED:20260415T165843Z
UID:10000500-1736532000-1736690400@www.haus-der-stille.at
SUMMARY:Ich sing dir mein Lied
DESCRIPTION:Unser Liederbuch „du mit uns 2“ enthält viele Lieder\, die noch immer wenig bekannt sind. Der Schwerpunkt an diesem Wochenende wird daher neben dem Kennenlernen einiger neuer Lieder von Hans Waltersdorfer wieder das gemeinsame Singen aus dem Liederbuch sein. Dabei wird auf die Wünsche der Teilnehmer*innen eingegangen.\n\n \n\n-> Nach Möglichkeit bitte gerne eigene Instrumente mitnehmen!\n\n \nLeitung\n \n\nHans Waltersdorfer\nTheologe\, christlicher Liedermacher\, Foto-Kunsthandwerker\n\n \nKursbeitrag\n \n\n€ 40\,-\nexkl. Aufenthaltskosten
URL:https://www.haus-der-stille.at/veranstaltung/ich-sing-dir-mein-lied/
CATEGORIES:Kurs
ATTACH;FMTTYPE=image/jpeg:https://www.haus-der-stille.at/wp-content/uploads/2021/10/Singen-e1708272440139.jpg
END:VEVENT
BEGIN:VEVENT
DTSTART;TZID=Europe/Vienna:20241219T180000
DTEND;TZID=Europe/Vienna:20241222T140000
DTSTAMP:20260420T065714
CREATED:20260415T162617Z
LAST-MODIFIED:20260415T165832Z
UID:10000501-1734631200-1734876000@www.haus-der-stille.at
SUMMARY:Gott in  mir
DESCRIPTION:Zu sich kommen und entdecken\, dass in der eigenen Tiefe das Heilige und Unendliche ist: Gott in mir – Gott immer und überall – eine Annäherung (nach Vinzenz Pallotti).\nUnd ein Blick auf die bekannte mystische Schrift „Die Wolke des Nichtwissens“.\n\n \n\nElemente:\n\n \n\n 	täglich 1 Impuls und Anleitung\n \n 	3 Mal täglich eine halbe (bis ganze) Stunde persönliches\, kontemplatives Gebet (Schweigen)\n \n 	ein Mal pro Tag Möglichkeit zum kontemplativen Gebet in der Gruppe\n \n 	Möglichkeit zur Teilnahme an der Liturgie im Haus der Stille\n \n 	im Wesentlichen durchgängiges Schweigen\n\n \nVoraussetzungen\n \n\nBereitschaft zum Schweigen.\n\n \nKURSBEITRAG\n \n\n€ 85\,-
URL:https://www.haus-der-stille.at/veranstaltung/gott-in-mir/
CATEGORIES:Kurs
ATTACH;FMTTYPE=image/jpeg:https://www.haus-der-stille.at/wp-content/uploads/2024/02/sunset-pixabay_kanenori.jpg
END:VEVENT
BEGIN:VEVENT
DTSTART;TZID=Europe/Vienna:20241215T170000
DTEND;TZID=Europe/Vienna:20241215T190000
DTSTAMP:20260420T065714
CREATED:20260415T162841Z
LAST-MODIFIED:20260415T165821Z
UID:10000502-1734282000-1734289200@www.haus-der-stille.at
SUMMARY:Offenes Adventsingen
DESCRIPTION:mit Marlies Prettenthaler-Heckel und dem Haus der Stille-Team\n\n \n\nHerzlich willkommen zu einem gemütlichen adventlichen Beisammensein im Haus der Stille.\nWir singen gemeinsam traditionelle und neue Adventlieder und stimmen uns mit Texten und Zeit zum Gespräch ein auf das kommende Weihnachtsfest.\n\n \n\nKeine Anmeldung erforderlich.\n\n \n\nTeilnahmebeitrag: Freiwillige Spende.\n\n \nNehmen wir uns Zeit für die kleinen Dinge\, die das Leben so besonders machen – das Lachen\, die Liebe und die Gemeinschaft – und ein Lied\, das Licht in dunkle Abende bringt.
URL:https://www.haus-der-stille.at/veranstaltung/offenes-adventsingen/
CATEGORIES:Sonderveranstaltung
ATTACH;FMTTYPE=image/jpeg:https://www.haus-der-stille.at/wp-content/uploads/2024/10/MyriamsFotos-pixabay2.jpg
END:VEVENT
BEGIN:VEVENT
DTSTART;TZID=Europe/Vienna:20241213T160000
DTEND;TZID=Europe/Vienna:20241215T140000
DTSTAMP:20260420T065714
CREATED:20260415T163229Z
LAST-MODIFIED:20260415T165807Z
UID:10000503-1734105600-1734271200@www.haus-der-stille.at
SUMMARY:Nach Hause kommen zu sich selbst
DESCRIPTION:Wir werden die 4 Schritte der Gewaltfreien Kommunikation (GFK) in ihrer spirituellen Tiefe erforschen \n\n\n\nBeobachtung: Wir üben das Wahrnehmen ohne zu bewerten – so kommen wir der Liebe auf die Spur\n\n\n\nGefühle: Wir erlauben uns zu fühlen\, was gerade in uns lebendig ist und verbinden uns dadurch mit der Quelle allen Lebens.\n\n\n\nBedürfnisse: Wir erforschen die Schönheit der Bedürfnisse und erfahren dabei\, wie Selbstliebe\, Nächstenliebe und Gottesliebe in der Tiefe eins sind.\n\n\n\nBitte: Wir gewinnen Klarheit\, was unser Beitrag ist\, die Bedürfnisqualitäten in die Welt zu bringen und begreifen damit\, dass wir ein einzigartiger Ausdruck der letzten Wirklichkeit sind.\n\n\n\nMethodisch wird vielfältig gearbeitet: Es gibt Inputs\, Übungen für sich selbst und in Kleingruppen\, zum eigenleiblichen Spüren und erforschen der 4 Schritte\, Austausch von Erfahrungen in der Gruppe\, auch die Natur wird uns unterstützen. \n\n\n\nVoraussetzung\n\n\n\nEine absolvierte Einführung in die Gewaltfreie Kommunikation ist hilfreich\, aber nicht notwendig. \n\n\n\nLeitung\n\n\n\nBirgit Schmidt Theologin\, CNVC zertifizierte Trainerin für Gewaltfreie Kommunikation\, Psychotherapeutin in Ausbildung unter Supervision \n\n\n\nAnmeldeschluss: 25.11.2025 \n\n\n\nKursbeitrag\n\n\n\n€ 210\,-
URL:https://www.haus-der-stille.at/veranstaltung/nach-hause-kommen-zu-sich-selbst/
CATEGORIES:Kurs
ATTACH;FMTTYPE=image/jpeg:https://www.haus-der-stille.at/wp-content/uploads/2024/02/Knospen-GFK.jpg
END:VEVENT
BEGIN:VEVENT
DTSTART;TZID=Europe/Vienna:20241206T180000
DTEND;TZID=Europe/Vienna:20241208T140000
DTSTAMP:20260420T065714
CREATED:20260415T163453Z
LAST-MODIFIED:20260415T165756Z
UID:10000504-1733508000-1733666400@www.haus-der-stille.at
SUMMARY:Der natürliche Kreislauf von Kommen und Gehen
DESCRIPTION:Folgen wir dem christlichen Glauben so führt uns der Advent von der Dunkelheit mit Licht hin zur Geburt Christi. Was liegt näher als sich gerade jetzt dem natürlichen Kreislauf von Kommen und Gehen zuzuwenden. Göthes Zitat „Und so lang du das nicht hast\, dieses: Stirb und Werde! Bist du nur ein trüber Gast auf der dunklen Erde“ sollte uns ermuntern sich auf dieses Tabu-Thema\, der Endlichkeit des Lebens\, bewusst einzulassen. Damit befreien wir uns von Ängsten und bringen mehr Freude und Fülle in unser Leben.\n\n \n\nGestaltungselemente:\n\n \n\n 	Impulse mit Zitaten und aus der Literatur\n \n 	systemische Aufstellung\n \n 	Meditation\n \n 	Gruppenarbeit und Reflexion\n\n \n\nImpulse aus dem Buch: „Vom Smartphone zur Stille“ (Autor: Harald Pfohl)\n\n\n\n\n\n\nLeitung\n \n\nHarald Pfohl\nTrainer und Coach mit spirituellen und systemischen Elementen in Österreich und Kreta\, Buchautor\n\n \nKursbeitrag\n \n\n€ 120\,-
URL:https://www.haus-der-stille.at/veranstaltung/der-natuerliche-kreislauf-von-kommen-und-gehen/
CATEGORIES:Kurs
ATTACH;FMTTYPE=image/jpeg:https://www.haus-der-stille.at/wp-content/uploads/2024/07/GrafikBaum_2019.jpg
END:VEVENT
BEGIN:VEVENT
DTSTART;TZID=Europe/Vienna:20241108T180000
DTEND;TZID=Europe/Vienna:20241110T140000
DTSTAMP:20260420T065714
CREATED:20260415T163803Z
LAST-MODIFIED:20260415T165744Z
UID:10000505-1731088800-1731247200@www.haus-der-stille.at
SUMMARY:Heil Werden
DESCRIPTION:Füße + Schöpferkraft (16. – 18. Juni 2023)\nDas Wunder unserer Füße erfahren und erspüren – die Heilkraft der Schöpfung in der Bibel erfahren.\n\n \n\nBauch + Begegnung (29. September – 1. Oktober 2023)\nWarum unser Darm für unser Miteinander wichtig ist – wie Gott uns begegnen will.\n\n \n\nHerz + Begeisterung (16. – 18. Februar 2024)\nWie wir unser Herz verstehen und umsorgen können\, damit es offen sein kann – dem Geist Gottes auf der Spur.\n\n \n\nSinne + Wahrnehmung (08. – 10. November 2024)\nWas heißt: b
URL:https://www.haus-der-stille.at/veranstaltung/heil-werden/
CATEGORIES:Kurs
ATTACH;FMTTYPE=image/png:https://www.haus-der-stille.at/wp-content/uploads/2022/10/Heil-werden-Bild-scaled.png
END:VEVENT
BEGIN:VEVENT
DTSTART;TZID=Europe/Vienna:20241016T150000
DTEND;TZID=Europe/Vienna:20241016T210000
DTSTAMP:20260420T065714
CREATED:20260415T164248Z
LAST-MODIFIED:20260415T165732Z
UID:10000506-1729090800-1729112400@www.haus-der-stille.at
SUMMARY:Unser tägliches Brot
DESCRIPTION:(Jourgebäck.Weckerl.Striezel)\n\n\n\nGemeinsames Zubereiten verschiedener Teige\, Flechten\, Formen\, Verzieren und Backen von Broten\, Feiertags-Striezeln\, Weckerln etc. • Dinkelvollkorn • Roggenbrot (Natursauerteig) • Anregungen und Tipps • Rezepte-Mappe • ca. 2kg Gebäck zum Mitnehmen • gemeinsame Jause (Brot mit Aufstrichen\, Getränk) \n\n\n\nKosten:\n\n\n\n€ 70\,- (inklusive Materialkosten\, Unterlagen\, Jause)
URL:https://www.haus-der-stille.at/veranstaltung/unser-taegliches-brot/
CATEGORIES:Kurs
ATTACH;FMTTYPE=image/jpeg:https://www.haus-der-stille.at/wp-content/uploads/2022/12/Brot_Bild-fuer-Brotbackkurs-Oktober-ab-2024-scaled.jpg
END:VEVENT
BEGIN:VEVENT
DTSTART;TZID=Europe/Vienna:20240624T180000
DTEND;TZID=Europe/Vienna:20240626T140000
DTSTAMP:20260420T065714
CREATED:20260415T164540Z
LAST-MODIFIED:20260415T165721Z
UID:10000507-1719252000-1719410400@www.haus-der-stille.at
SUMMARY:stille.foto.tage
DESCRIPTION:• eintauchen in die Stille\, das Licht und die Farben der Jahreszeit\n• achtsam werden für die Zeichen des ruhenden\, aufblühenden\, wachsenden und vergehenden Lebens in der Natur\n• einführende Impulse zur Bildgestaltung und zum Fotografieren in der Natur\n• teilweise allein\, teilweise gemeinsam unterwegs sein (und fotografieren) auf den Wegen der Umgebung\n• Erfahrungsaustausch und Bildbesprechung in der Gruppe\n• Gebetszeiten und Gottesdienste mit der Hausgemeinschaft\n\n \nMitzubringen:\n \n\nKamera (egal ob analog oder digital\, „Amateur“ oder „Profi“)\nder Witterung entsprechende Kleidung\n\n \nLeitung:\n \n\nMag. Hans Waltersdorfer\nTheologe\, christlicher Liedermacher\, Foto-Kunsthandwerker\n\n \nKursbeitrag:\n \n\n€ 55\,-
URL:https://www.haus-der-stille.at/veranstaltung/stille-foto-tage/
CATEGORIES:Kurs
ATTACH;FMTTYPE=image/png:https://www.haus-der-stille.at/wp-content/uploads/2023/07/fototage_06_juni-e1707903976240.png
END:VEVENT
BEGIN:VEVENT
DTSTART;TZID=Europe/Vienna:20240531T124500
DTEND;TZID=Europe/Vienna:20240602T140000
DTSTAMP:20260420T065714
CREATED:20260415T164806Z
LAST-MODIFIED:20260415T165707Z
UID:10000508-1717159500-1717336800@www.haus-der-stille.at
SUMMARY:Zen und Sensenmähen
DESCRIPTION:Im Kurs lernen und/oder vertiefen wir das Arbeiten mit der Sense. Im klösterlichen Sinn „ora et labora“ werden wir uns auch bei der Meditation in die Stille einüben.\n\n \n\nVortrag: Inhalte über Biolandwirtschaft nach Wunsch der Gruppe.\n\n \n\nWir werden auch teilweise im Schweigen mähen.\n\n \nVoraussetzungen\n \n\nMitzubringen sind:\n\n \n\n 	Offenheit\, Neugier\, sich Einlassen\n \n 	gutes Schuhwerk\, Sonnenhut\n \n 	eine (eigene) Sense\, Kumpf\, Wetzstein\, wenn vorhanden\n \n 	Outdoor-Kleidung und bequeme Kleidung für Meditation und Dehnungsübungen\n\n \nLeitung\n \n\nHorst Strasser\nBiobauer\, in der Zen-Meditation beheimatet\n\n \nKursbeitrag\n \n\n€ 100\,-
URL:https://www.haus-der-stille.at/veranstaltung/zen-und-sensenmaehen/
CATEGORIES:Kurs
ATTACH;FMTTYPE=image/png:https://www.haus-der-stille.at/wp-content/uploads/2023/01/Grafik-Sensenmaehen.png
END:VEVENT
BEGIN:VEVENT
DTSTART;TZID=Europe/Vienna:20240524T150000
DTEND;TZID=Europe/Vienna:20240526T140000
DTSTAMP:20260420T065714
CREATED:20260415T164954Z
LAST-MODIFIED:20260417T113348Z
UID:10000509-1716562800-1716732000@www.haus-der-stille.at
SUMMARY:entrückt – ver-rückt – und zurück
DESCRIPTION:Vor seiner Passion steigt Jesus mit drei Jüngern auf den Berg Tabor. Oben angekommen bricht eine umfassende Licht-Wirklichkeit ein: „Verklärung“ hat das sein Biograf Markus (Mk.9) genannt. Ist es auch in unserer Welt möglich und vielleicht sogar nötig\, Zeit und Raum zu transzendieren? Wie kommt man auf den Gipfel der Erleuchtung? Wie geht man mit solchen Erlebnissen um? Und wie kommt man dann wieder runter? (Lauter offene Fragen\, die wir spielerisch erleben und erkunden werden. Wie immer mit Mitteln des Bibliodrama und der Aufstellungsarbeit.) \n\n\n\nIn unseren Seminaren erinnern wir uns daran\, dass das Wunder: das immer neue Leben die umfassendere Wirklichkeit\, also das eigentlich Normale ist! Wir arbeiten mit Verkörperung in Form von (Wunder-) Aufstellungen und Bibliodrama. \n\n\n\nLeitung\n\n\n\nProf. Dr. Gerhard Marcel Martin Evangelischer Theologe\, Philosoph\, Bibliodramatiker \n\n\n\nSiegfried Essen Dipl. Psychologe & Evangelischer Theologe\, Psychotherapeut mit Schwerpunkt: Spirituell-systemische Verkörperungs- und Aufstellungsarbeit \n\n\n\nKursbeitrag:\n\n\n\n€ 250\,-
URL:https://www.haus-der-stille.at/veranstaltung/entrueckt-ver-rueckt-und-zurueck/
CATEGORIES:Kurs
ATTACH;FMTTYPE=image/jpeg:https://www.haus-der-stille.at/wp-content/uploads/2024/01/Wasserhaus1-e1708250926436.jpg
END:VEVENT
BEGIN:VEVENT
DTSTART;TZID=Europe/Vienna:20240516T180000
DTEND;TZID=Europe/Vienna:20240521T220000
DTSTAMP:20260420T065714
CREATED:20260415T165222Z
LAST-MODIFIED:20260415T165654Z
UID:10000510-1715882400-1716328800@www.haus-der-stille.at
SUMMARY:Pfingsten in Assisi
DESCRIPTION:Wir werden in diesen Tagen die franziskanischen Stätten in und um Assisi großteils zu Fuß erwandern\, uns vor Ort inspirieren lassen von diesen beiden Heiligen\, deren Lebensweise auch heute noch viele fasziniert\, miteinander beten\, singen\, Gottesdienste feiern\, den Frühling in Umbrien genießen …\n\n \n\n 	Anreise nach Assisi in der Nacht von Donnerstag auf Freitag\n \n 	Rückreise am Dienstag tagsüber\n \n 	Quartier mit Vollpension in einem Hotel in der Altstadt von Assisi\n \n 	mitzubringen: gutes Schuhwerk zum Gehen\n\n \n\nPfingsten – die schönste Jahreszeit für eine Reise nach Assisi!\n\n \nLeitung\n \n\nHans Waltersdorfer\nTheologe\, christlicher Liedermacher\, Fotokunsthandwerker\n\n \nKosten\n \n\n€ 680\,- Gesamtkosten\n(Vollpension im Doppelzimmer\, Fahrt\, Eintritte\, Begleitung)
URL:https://www.haus-der-stille.at/veranstaltung/pfingsten-in-assisi/
CATEGORIES:Sonderveranstaltung
ATTACH;FMTTYPE=image/jpeg:https://www.haus-der-stille.at/wp-content/uploads/2023/10/SANDAMIA.jpg
END:VEVENT
END:VCALENDAR