BEGIN:VCALENDAR
VERSION:2.0
PRODID:-//HAUS DER STILLE - ECPv6.15.20//NONSGML v1.0//EN
CALSCALE:GREGORIAN
METHOD:PUBLISH
X-WR-CALNAME:HAUS DER STILLE
X-ORIGINAL-URL:https://www.haus-der-stille.at
X-WR-CALDESC:Veranstaltungen für HAUS DER STILLE
REFRESH-INTERVAL;VALUE=DURATION:PT1H
X-Robots-Tag:noindex
X-PUBLISHED-TTL:PT1H
BEGIN:VTIMEZONE
TZID:Europe/Vienna
BEGIN:DAYLIGHT
TZOFFSETFROM:+0100
TZOFFSETTO:+0200
TZNAME:CEST
DTSTART:20240331T010000
END:DAYLIGHT
BEGIN:STANDARD
TZOFFSETFROM:+0200
TZOFFSETTO:+0100
TZNAME:CET
DTSTART:20241027T010000
END:STANDARD
BEGIN:DAYLIGHT
TZOFFSETFROM:+0100
TZOFFSETTO:+0200
TZNAME:CEST
DTSTART:20250330T010000
END:DAYLIGHT
BEGIN:STANDARD
TZOFFSETFROM:+0200
TZOFFSETTO:+0100
TZNAME:CET
DTSTART:20251026T010000
END:STANDARD
BEGIN:DAYLIGHT
TZOFFSETFROM:+0100
TZOFFSETTO:+0200
TZNAME:CEST
DTSTART:20260329T010000
END:DAYLIGHT
BEGIN:STANDARD
TZOFFSETFROM:+0200
TZOFFSETTO:+0100
TZNAME:CET
DTSTART:20261025T010000
END:STANDARD
END:VTIMEZONE
BEGIN:VEVENT
DTSTART;TZID=Europe/Vienna:20250314T180000
DTEND;TZID=Europe/Vienna:20250316T140000
DTSTAMP:20260420T065620
CREATED:20260415T160310Z
LAST-MODIFIED:20260415T170026Z
UID:33407-1741975200-1742133600@www.haus-der-stille.at
SUMMARY:Vertrau dem Fluss … dann trägt er dich hindurch
DESCRIPTION:„Der Fluss handelt von all den guten Dingen\, die zu dir kommen\, während du in mühelosem Streben vorangehst.“ (Chuck Spezzano) Im Fluss entdecken wir überraschende neue Möglichkeiten\, lassen los\, was vorbei ist\, sind aufmerksam im Augenblick\, überwinden Untiefen und Stromschnellen und erreichen das Meer. Am und im Fluss begegnen wir symbolträchtigen Wesen und Gestalten: Fährmann und Perlenfischerin\, Brückenbauer und Flussgöttin\, Delfin und Krebs …\nIn diesem Seminar erleben wir die Kraft des Wassers\, das seiner Natur in allen Situationen treu bleibt.\n\n \n\nDie Jeux Dramatiques bieten einen von Bewertung freien Raum\, in dem Erwachsene lustvoll spielen können. Eine stressfreie und leichte Art\, Theater zu spielen. Keinerlei Vorkenntnisse sind nötig. Jede/r spielt einfach aus der eigenen Freude heraus.\nDu wählst selbst deine Rolle\, gestaltest Verkleidung und Spielraum mit einfachen Materialien und spielst\, wie es dir im Moment entspricht: Sanft oder kraftvoll\, ganz bei dir oder im anregenden Kontakt mit anderen. Kein Text ist zu lernen\, kein Regisseur gibt Anweisungen\, die Spielleiter sorgen für den sicheren Rahmen.\n\n \nLeitung\n \n\nBirgit Dietze-Mellak\nSeminarleiterin und Ausbilderin für Jeux Dramatiques\, künstlerische Fotografin\n\n \n\nFrederik Mellak\nprofessioneller Märchenerzähler\, Seminarleiter in der kreativen Erwachsenenbildung\n\n \nKursbeitrag\n \n\n€ 160\,-\nexkl. Aufenthaltskosten
URL:https://www.haus-der-stille.at/veranstaltung/vertrau-dem-fluss-dann-traegt-er-dich-hindurch/
CATEGORIES:Kurs
ATTACH;FMTTYPE=image/jpeg:https://www.haus-der-stille.at/wp-content/uploads/2024/10/Raja-Pixabay-Vertrau-dem-Fluss-scaled.jpg
END:VEVENT
END:VCALENDAR