BEGIN:VCALENDAR
VERSION:2.0
PRODID:-//HAUS DER STILLE - ECPv6.15.20//NONSGML v1.0//EN
CALSCALE:GREGORIAN
METHOD:PUBLISH
X-WR-CALNAME:HAUS DER STILLE
X-ORIGINAL-URL:https://www.haus-der-stille.at
X-WR-CALDESC:Veranstaltungen für HAUS DER STILLE
REFRESH-INTERVAL;VALUE=DURATION:PT1H
X-Robots-Tag:noindex
X-PUBLISHED-TTL:PT1H
BEGIN:VTIMEZONE
TZID:Europe/Vienna
BEGIN:DAYLIGHT
TZOFFSETFROM:+0100
TZOFFSETTO:+0200
TZNAME:CEST
DTSTART:20240331T010000
END:DAYLIGHT
BEGIN:STANDARD
TZOFFSETFROM:+0200
TZOFFSETTO:+0100
TZNAME:CET
DTSTART:20241027T010000
END:STANDARD
BEGIN:DAYLIGHT
TZOFFSETFROM:+0100
TZOFFSETTO:+0200
TZNAME:CEST
DTSTART:20250330T010000
END:DAYLIGHT
BEGIN:STANDARD
TZOFFSETFROM:+0200
TZOFFSETTO:+0100
TZNAME:CET
DTSTART:20251026T010000
END:STANDARD
BEGIN:DAYLIGHT
TZOFFSETFROM:+0100
TZOFFSETTO:+0200
TZNAME:CEST
DTSTART:20260329T010000
END:DAYLIGHT
BEGIN:STANDARD
TZOFFSETFROM:+0200
TZOFFSETTO:+0100
TZNAME:CET
DTSTART:20261025T010000
END:STANDARD
END:VTIMEZONE
BEGIN:VEVENT
DTSTART;TZID=Europe/Vienna:20250725T180000
DTEND;TZID=Europe/Vienna:20250726T170000
DTSTAMP:20260420T015827
CREATED:20260415T145145Z
LAST-MODIFIED:20260415T170724Z
UID:33340-1753466400-1753549200@www.haus-der-stille.at
SUMMARY:Veränderungs.Dialoge - Kurzform
DESCRIPTION:Jeder Moment ist wertvoll und möchte bewusst und achtsam wahrgenommen werden. Für uns selbst und ein gutes Miteinander.\n\nWie sprechen wir mit uns? Welche Kanäle nutzen wir um mit uns selbst und anderen in Verbindung zu treten?\n\n\n\nBewusste Wahrnehmung von Dialogen im Innen wie im Außen hilft uns gelassener zu sein. Oft stecken wir in einem inneren Widerstand der uns Kraft kostet. Diesem Widerstand wollen wir entkommen\, behutsam\, wohlwollend und klar.\n\n \n\nAn diesem Wochenende gehen wir durch Kommunikation miteinander in Resonanz. Besonders unsere Sprache steht im Fokus.\n\n \n\nWir\n\n \n\n 	erkennen die Vielfalt des Dialogs\n \n 	befreien uns aus alten Mustern.\n \n 	trainieren und üben miteinander im Gespräch\, reflektieren unsere eigene Sprache und lernen\, wie Kommunikation wirkt.\n \n 	schulen unsere Wahrnehmung und lernen neue Perspektiven und Neues über uns selbst kennen.\n \n 	erhöhen unsere Umsetzungs-\, Entscheidungs- und Sprachkompetenz für den Alltag.\n\n \n\nVoraussetzung: Offenheit für das Arbeiten in der Kleingruppe\, wenn möglich bitte einen kleinen Notizblock oder ein kleines Heft mitbringen. Es besteht auch die Möglichkeit für Einzelgespräche.\n\n \n\nPorträtfoto: © Ines Ehrbar\n\n \nLeitung\n \n\nInes Ehrbar\nMediatorin\, Integral Life Consultant\, Trainerin für regenerative Entscheidungs- und Veränderungsprozesse\, Bildungsorganisation Haus der Stille\, ehemalige Lehrerin (Englisch\, Geschichte\, politische Bildung\, Kunstgeschichte\, Medien – mit Schwerpunkt Kommunikation und Präsentation)\n\n \n\nDialog Ehrbar | Bewusste Veränderung für ein erfülltes Leben\n\n \nKursbeitrag\n \n\n€ 110\,-\nexkl. Aufenthaltskosten
URL:https://www.haus-der-stille.at/veranstaltung/veraenderungs-dialoge-kurzform/
CATEGORIES:Kurs
ATTACH;FMTTYPE=image/jpeg:https://www.haus-der-stille.at/wp-content/uploads/2024/10/25-07-Veraenderungsdialoge-Sprache-Bild-scaled.jpg
END:VEVENT
END:VCALENDAR