BEGIN:VCALENDAR
VERSION:2.0
PRODID:-//HAUS DER STILLE - ECPv6.15.20//NONSGML v1.0//EN
CALSCALE:GREGORIAN
METHOD:PUBLISH
X-WR-CALNAME:HAUS DER STILLE
X-ORIGINAL-URL:https://www.haus-der-stille.at
X-WR-CALDESC:Veranstaltungen für HAUS DER STILLE
REFRESH-INTERVAL;VALUE=DURATION:PT1H
X-Robots-Tag:noindex
X-PUBLISHED-TTL:PT1H
BEGIN:VTIMEZONE
TZID:Europe/Vienna
BEGIN:DAYLIGHT
TZOFFSETFROM:+0100
TZOFFSETTO:+0200
TZNAME:CEST
DTSTART:20240331T010000
END:DAYLIGHT
BEGIN:STANDARD
TZOFFSETFROM:+0200
TZOFFSETTO:+0100
TZNAME:CET
DTSTART:20241027T010000
END:STANDARD
BEGIN:DAYLIGHT
TZOFFSETFROM:+0100
TZOFFSETTO:+0200
TZNAME:CEST
DTSTART:20250330T010000
END:DAYLIGHT
BEGIN:STANDARD
TZOFFSETFROM:+0200
TZOFFSETTO:+0100
TZNAME:CET
DTSTART:20251026T010000
END:STANDARD
BEGIN:DAYLIGHT
TZOFFSETFROM:+0100
TZOFFSETTO:+0200
TZNAME:CEST
DTSTART:20260329T010000
END:DAYLIGHT
BEGIN:STANDARD
TZOFFSETFROM:+0200
TZOFFSETTO:+0100
TZNAME:CET
DTSTART:20261025T010000
END:STANDARD
END:VTIMEZONE
BEGIN:VEVENT
DTSTART;TZID=Europe/Vienna:20251114T170000
DTEND;TZID=Europe/Vienna:20251114T183000
DTSTAMP:20260423T223638
CREATED:20260414T215441Z
LAST-MODIFIED:20260415T171401Z
UID:33193-1763139600-1763145000@www.haus-der-stille.at
SUMMARY:Unsere Lichter für gute Entscheidungen in Belém
DESCRIPTION:Unsere Lichter für gute Entscheidungen in Belém\n\n \n\nAm Abend nach dem Klimastreik von Fridays for Future in Graz\, bei dem auch wieder die Religions For Future vertreten sein werden\, laden wir alle Umweltaktiven und Schöpfungsbewegten sowie Passant:innen dazu ein\, einen Moment inne zu halten und wahr zu nehmen\, dass in diesen Tagen bei der Weltklimakonferenz in Belém\, Brasilien\, wegweisende Entscheidungen für unser aller Zukunft getroffen werden.\n\n \n\nLICHT – TEXTE – STILLE – MUSIK\n\n \n\nWir erleuchten den Brunnenhof der Stadtpfarre Graz mit Kerzen und  senden so ein leuchtendes Symbol in die Welt:\n\n \n\nFür gute Entscheidungen im Sinne aller Menschen\, Nationen\, Religionen und Völker – auch der Armen\, Kranken\, Unterdrückten\, Schwachen und nachfolgenden Generationen\, die am meisten unter der Klimakrise leiden (werden). Für Schöpfungsverantwortung\, für Klima-\, Natur- und Umweltschutz\, für den Frieden!\n\n \n\nWir laden auch Sie ein\, die Hoffnung auf gute Entscheidungen für unsere Erde und ihre Bewohner:innen durch das Entzünden einer Kerze (vor Ort vorhanden) sichtbar zu machen. Es ist ein offenes Kommen und Gehen. Außerdem gibt es heißen Tee. Die Veranstaltung findet bei jedem Wetter statt.\n\n \n\nEinladung zur Mahnwache zur Weltklimakonferenz COP 30\n\n \n\nDiese Veranstaltung wird getragen von:
URL:https://www.haus-der-stille.at/veranstaltung/unsere-lichter-fuer-gute-entscheidungen-in-belem/
CATEGORIES:Sonderveranstaltung
ATTACH;FMTTYPE=image/jpeg:https://www.haus-der-stille.at/wp-content/uploads/2025/11/f1080037368-1.jpg
END:VEVENT
END:VCALENDAR