BEGIN:VCALENDAR
VERSION:2.0
PRODID:-//HAUS DER STILLE - ECPv6.15.20//NONSGML v1.0//EN
CALSCALE:GREGORIAN
METHOD:PUBLISH
X-WR-CALNAME:HAUS DER STILLE
X-ORIGINAL-URL:https://www.haus-der-stille.at
X-WR-CALDESC:Veranstaltungen für HAUS DER STILLE
REFRESH-INTERVAL;VALUE=DURATION:PT1H
X-Robots-Tag:noindex
X-PUBLISHED-TTL:PT1H
BEGIN:VTIMEZONE
TZID:Europe/Vienna
BEGIN:DAYLIGHT
TZOFFSETFROM:+0100
TZOFFSETTO:+0200
TZNAME:CEST
DTSTART:20240331T010000
END:DAYLIGHT
BEGIN:STANDARD
TZOFFSETFROM:+0200
TZOFFSETTO:+0100
TZNAME:CET
DTSTART:20241027T010000
END:STANDARD
BEGIN:DAYLIGHT
TZOFFSETFROM:+0100
TZOFFSETTO:+0200
TZNAME:CEST
DTSTART:20250330T010000
END:DAYLIGHT
BEGIN:STANDARD
TZOFFSETFROM:+0200
TZOFFSETTO:+0100
TZNAME:CET
DTSTART:20251026T010000
END:STANDARD
BEGIN:DAYLIGHT
TZOFFSETFROM:+0100
TZOFFSETTO:+0200
TZNAME:CEST
DTSTART:20260329T010000
END:DAYLIGHT
BEGIN:STANDARD
TZOFFSETFROM:+0200
TZOFFSETTO:+0100
TZNAME:CET
DTSTART:20261025T010000
END:STANDARD
END:VTIMEZONE
BEGIN:VEVENT
DTSTART;TZID=Europe/Vienna:20250704T170000
DTEND;TZID=Europe/Vienna:20250706T140000
DTSTAMP:20260420T034454
CREATED:20260415T150800Z
LAST-MODIFIED:20260415T170541Z
UID:33356-1751648400-1751810400@www.haus-der-stille.at
SUMMARY:Spirituelles Laufen & Meditation
DESCRIPTION:Kennenlernen einer neuen Weise des Laufens\, die Freude\, Entspannung und Wohlgefühl vermittelt. Gleichzeitig tun wir unserem Körper durch leistungsbefreite Bewegung Gutes\, auf dass die Seele Lust hat darin zu wohnen. Die Laufeinheiten verbinden wir mit leichtem Stretching und einfachem Krafttraining in der Natur. Zur Ergänzung und zum Ausgleich werden wir meditieren und das ‚einfache Da-Sein‘ praktizieren.\n\n Dies verbinden wir punktuell mit Körpergebet. Die Kurszeiten verbringen wir überwiegend im Schweigen. Die Umgebung des Hauses eignet sich hervorragend für diese Weise des Laufens.\n\n\n \nVoraussetzungen\n \n\nFreude am Laufen und 15 Minuten langsames Laufen sollte möglich sein;\nHinweis für fortgeschrittene LäuferInnen: du wirst eine neue Dimension erfahren!\n\n \nLeitung\n \n\nWolfgang Klema\nTheologe\, Seelsorger\, Spiritueller Laufcoach und Begleiter\, 3-facher Marathon-Finisher\n\n \nKursbeitrag\n \n\n€ 130\,- \nexkl. Aufenthaltskosten
URL:https://www.haus-der-stille.at/veranstaltung/spirituelles-laufen-meditation/
CATEGORIES:Kurs
ATTACH;FMTTYPE=image/jpeg:https://www.haus-der-stille.at/wp-content/uploads/2024/04/pixabay-vilkass.jpg
END:VEVENT
END:VCALENDAR