BEGIN:VCALENDAR
VERSION:2.0
PRODID:-//HAUS DER STILLE - ECPv6.15.20//NONSGML v1.0//EN
CALSCALE:GREGORIAN
METHOD:PUBLISH
X-WR-CALNAME:HAUS DER STILLE
X-ORIGINAL-URL:https://www.haus-der-stille.at
X-WR-CALDESC:Veranstaltungen für HAUS DER STILLE
REFRESH-INTERVAL;VALUE=DURATION:PT1H
X-Robots-Tag:noindex
X-PUBLISHED-TTL:PT1H
BEGIN:VTIMEZONE
TZID:Europe/Vienna
BEGIN:DAYLIGHT
TZOFFSETFROM:+0100
TZOFFSETTO:+0200
TZNAME:CEST
DTSTART:20240331T010000
END:DAYLIGHT
BEGIN:STANDARD
TZOFFSETFROM:+0200
TZOFFSETTO:+0100
TZNAME:CET
DTSTART:20241027T010000
END:STANDARD
BEGIN:DAYLIGHT
TZOFFSETFROM:+0100
TZOFFSETTO:+0200
TZNAME:CEST
DTSTART:20250330T010000
END:DAYLIGHT
BEGIN:STANDARD
TZOFFSETFROM:+0200
TZOFFSETTO:+0100
TZNAME:CET
DTSTART:20251026T010000
END:STANDARD
BEGIN:DAYLIGHT
TZOFFSETFROM:+0100
TZOFFSETTO:+0200
TZNAME:CEST
DTSTART:20260329T010000
END:DAYLIGHT
BEGIN:STANDARD
TZOFFSETFROM:+0200
TZOFFSETTO:+0100
TZNAME:CET
DTSTART:20261025T010000
END:STANDARD
END:VTIMEZONE
BEGIN:VEVENT
DTSTART;TZID=Europe/Vienna:20250819T180000
DTEND;TZID=Europe/Vienna:20250824T140000
DTSTAMP:20260420T015924
CREATED:20260415T143824Z
LAST-MODIFIED:20260415T170818Z
UID:33329-1755626400-1756044000@www.haus-der-stille.at
SUMMARY:Sommerwoche im Haus der Stille
DESCRIPTION:Du warst noch nie im Haus der Stille\, hast vielleicht schon davon gehört?\nDu liebst das Haus der Stille und warst schon lange nicht mehr da?\nDu sehnst dich nach einer Auszeit und möchtest sie ganz individuell gestalten?\nDu hast Lust auf eine entspannte Zeit mit Gleichgesinnten?\nDann ist die Sommerwoche im Haus der Stille vielleicht das richtige für dich!\n\n \n\nLerne unser Haus (neu) kennen: persönliche Zeit zum Ruhigwerden\, Spazierengehen\, Bewegen\, Schlafen\, Essen\, Lesen\, Schweigen\, Beten …\n\n \n\nIm Haus der Stille haben wir eine einfache Tagesstruktur mit Gebetszeiten und Essenszeiten\, die wir dir als Rahmen anbieten.\n\n\nAngebot an Workshops\naus denen du dir frei dein Wochenprogramm zusammenstellst:Fotospaziergang\, Achtsamkeitsimpulse im Garten der Stille\, gemeinsame Wanderungen\, Schreibworkshop\, Singen mit dem Chor der Stille\, Feuerkreis\, Tanzabend\, kreative Bibelarbeit\, Gespräche über Gott und die WeltNachhaltig leben: Schöpfungsspiritualität und Schöpfungspraxis\, Kreatives Arbeiten mit Holz\, Achtsamkeitsyoga\, Stillespaziergang am Morgen\, Wissenswertes über Hildegard\, uvm. \nUnterbringung in einfachen Zimmern\, Waschbecken im Zimmer\, WC und Dusche am Gang\, Vollpension. \nBeschreibungen der Workshops findest du hier: Workshops Sommerwoche \n\nMitzubringen\nGemütliche Kleidung für jedes Wetter\, Wanderschuhe\, Sportbekleidung\, Hausschuhe\, Schreibzeug\, Lesestoff\, Musikinstrumente (wenn du möchtest).Möglichkeit zum Schwimmen im Wildoner Badesee (18 min mit dem Auto). \n\nLeitung\nMarlies Prettenthaler-Heckel: theologisch-spirituelle Leitung im Haus der Stille\, Theologin\, Geistliche Begleiterin\, Chorleiterin. \nHaus der Stille-Team: Wir sind ein buntes\, vielfältiges Team und wir werden unsere Begabungen in diesen Tagen mit euch teilen und gemeinsam Neues entdecken. \n\nKursbeitrag\n€ 200\,- exkl. AufenthaltskostenUnterstützungs-Kursbeitrag: € 300\,- exkl. AufenthaltskostenMit dem erhöhten Kursbeitrag ermöglichst du anderen Menschen die Teilnahme\, die sich den Kursbeitrag nicht leisten können.
URL:https://www.haus-der-stille.at/veranstaltung/sommerwoche-im-haus-der-stille/
CATEGORIES:Kurs
ATTACH;FMTTYPE=image/jpeg:https://www.haus-der-stille.at/wp-content/uploads/2024/06/Wiese-quadrat-scaled.jpg
END:VEVENT
END:VCALENDAR