BEGIN:VCALENDAR
VERSION:2.0
PRODID:-//HAUS DER STILLE - ECPv6.15.20//NONSGML v1.0//EN
CALSCALE:GREGORIAN
METHOD:PUBLISH
X-WR-CALNAME:HAUS DER STILLE
X-ORIGINAL-URL:https://www.haus-der-stille.at
X-WR-CALDESC:Veranstaltungen für HAUS DER STILLE
REFRESH-INTERVAL;VALUE=DURATION:PT1H
X-Robots-Tag:noindex
X-PUBLISHED-TTL:PT1H
BEGIN:VTIMEZONE
TZID:Europe/Vienna
BEGIN:DAYLIGHT
TZOFFSETFROM:+0100
TZOFFSETTO:+0200
TZNAME:CEST
DTSTART:20240331T010000
END:DAYLIGHT
BEGIN:STANDARD
TZOFFSETFROM:+0200
TZOFFSETTO:+0100
TZNAME:CET
DTSTART:20241027T010000
END:STANDARD
BEGIN:DAYLIGHT
TZOFFSETFROM:+0100
TZOFFSETTO:+0200
TZNAME:CEST
DTSTART:20250330T010000
END:DAYLIGHT
BEGIN:STANDARD
TZOFFSETFROM:+0200
TZOFFSETTO:+0100
TZNAME:CET
DTSTART:20251026T010000
END:STANDARD
BEGIN:DAYLIGHT
TZOFFSETFROM:+0100
TZOFFSETTO:+0200
TZNAME:CEST
DTSTART:20260329T010000
END:DAYLIGHT
BEGIN:STANDARD
TZOFFSETFROM:+0200
TZOFFSETTO:+0100
TZNAME:CET
DTSTART:20261025T010000
END:STANDARD
END:VTIMEZONE
BEGIN:VEVENT
DTSTART;TZID=Europe/Vienna:20250404T180000
DTEND;TZID=Europe/Vienna:20250406T140000
DTSTAMP:20260420T065426
CREATED:20260415T155617Z
LAST-MODIFIED:20260415T170105Z
UID:33401-1743789600-1743948000@www.haus-der-stille.at
SUMMARY:Ruhe in Bewegung
DESCRIPTION:Yoga heißt auch Vereinigung / Einheit und bedeutet die schrittweise Öffnung unseres Bewusstseins für das Göttliche. Diese Yoga Tage laden dich ein\, dir der universellen Verbindung und deiner spirituellen Kraft\, die uns allen innewohnt\, bewusst zu werden. Achtsames\, sanftes und fließendes Yoga\, ohne Leistungsdruck\, fördert deine Beweglichkeit und Wohlergehen\, auch bei körperlichen Einschränkungen. Bewusster Atem\, Tiefenentspannung\, Mudras\, Mantren und Meditation wirken wohltuend auf Körper\, Geist und Seele. Tages-Impulse unterstützen deine spirituelle Yoga-Praxis.\n\n \nVoraussetzung\n \n\nDer Kurs ist unabhängig vom Alter und körperlicher Fitness.\n\n \nLeitung\n \n\nPetra Vogel-Kern \nAchtsamkeitstrainerin\, Yogalehrerin\, Heilpraktikerin für Psychotherapie\n\n \nKursbeitrag\n \n\n€ 150\,-\nexkl. Aufenthaltskosten
URL:https://www.haus-der-stille.at/veranstaltung/ruhe-in-bewegung/
CATEGORIES:Kurs
ATTACH;FMTTYPE=image/png:https://www.haus-der-stille.at/wp-content/uploads/2023/07/Bild-Yoga_Quelle-unbekannt-e1708271444183.png
END:VEVENT
END:VCALENDAR