BEGIN:VCALENDAR
VERSION:2.0
PRODID:-//HAUS DER STILLE - ECPv6.15.20//NONSGML v1.0//EN
CALSCALE:GREGORIAN
METHOD:PUBLISH
X-WR-CALNAME:HAUS DER STILLE
X-ORIGINAL-URL:https://www.haus-der-stille.at
X-WR-CALDESC:Veranstaltungen für HAUS DER STILLE
REFRESH-INTERVAL;VALUE=DURATION:PT1H
X-Robots-Tag:noindex
X-PUBLISHED-TTL:PT1H
BEGIN:VTIMEZONE
TZID:Europe/Vienna
BEGIN:DAYLIGHT
TZOFFSETFROM:+0100
TZOFFSETTO:+0200
TZNAME:CEST
DTSTART:20250330T010000
END:DAYLIGHT
BEGIN:STANDARD
TZOFFSETFROM:+0200
TZOFFSETTO:+0100
TZNAME:CET
DTSTART:20251026T010000
END:STANDARD
BEGIN:DAYLIGHT
TZOFFSETFROM:+0100
TZOFFSETTO:+0200
TZNAME:CEST
DTSTART:20260329T010000
END:DAYLIGHT
BEGIN:STANDARD
TZOFFSETFROM:+0200
TZOFFSETTO:+0100
TZNAME:CET
DTSTART:20261025T010000
END:STANDARD
BEGIN:DAYLIGHT
TZOFFSETFROM:+0100
TZOFFSETTO:+0200
TZNAME:CEST
DTSTART:20270328T010000
END:DAYLIGHT
BEGIN:STANDARD
TZOFFSETFROM:+0200
TZOFFSETTO:+0100
TZNAME:CET
DTSTART:20271031T010000
END:STANDARD
END:VTIMEZONE
BEGIN:VEVENT
DTSTART;TZID=Europe/Vienna:20261028T180000
DTEND;TZID=Europe/Vienna:20261105T090000
DTSTAMP:20260419T193514
CREATED:20260411T002148Z
LAST-MODIFIED:20260417T164001Z
UID:32008-1793210400-1793869200@www.haus-der-stille.at
SUMMARY:Reise nach Rom
DESCRIPTION:Biblisch motivierte Reise in die Stadt der frühen Christen\, zu den Gräbern der Apostel Petrus und Paulus\, zu den Katakomben\, aber auch zu vielen anderen Kirchen und Stätten\, die Rom für Christen zu einem der wichtigsten Pilgerzentren machen. \n\n\n\n(weitere inhaltliche Details folgen) \n\n\n\nBegrenzte Teilnehmerzahl – Die Reise findet grundsätzlich im Rahmen unseres Kurses „Die Bibel für mich entdecken“ statt – es gibt aber noch zusätzliche freie Plätze. \n\n\n\nAnreise und Heimreise mit dem Nachtzug Wien – Rom Quartier (Nächtigung und Frühstück): Suore Missionarie Pallottine (wenige Gehminuten vom Petersdom entfern) \n\n\n\nPreis: € 1.050\,- \n\n\n\nIm Preis enthalten: Fahrt (2x Nachtzug\, Liegewagen)\, Quartier (6x N/F)\, Begleitung \n\n\n\nIm Preis nicht enthalten: Essen tagsüber bzw. abends\, Eintritte
URL:https://www.haus-der-stille.at/veranstaltung/reise-nach-rom/
CATEGORIES:Kurs
ATTACH;FMTTYPE=image/jpeg:https://www.haus-der-stille.at/wp-content/uploads/2022/06/IMG_1679.jpg
END:VEVENT
END:VCALENDAR