BEGIN:VCALENDAR
VERSION:2.0
PRODID:-//HAUS DER STILLE - ECPv6.15.20//NONSGML v1.0//EN
CALSCALE:GREGORIAN
METHOD:PUBLISH
X-WR-CALNAME:HAUS DER STILLE
X-ORIGINAL-URL:https://www.haus-der-stille.at
X-WR-CALDESC:Veranstaltungen für HAUS DER STILLE
REFRESH-INTERVAL;VALUE=DURATION:PT1H
X-Robots-Tag:noindex
X-PUBLISHED-TTL:PT1H
BEGIN:VTIMEZONE
TZID:Europe/Vienna
BEGIN:DAYLIGHT
TZOFFSETFROM:+0100
TZOFFSETTO:+0200
TZNAME:CEST
DTSTART:20230326T010000
END:DAYLIGHT
BEGIN:STANDARD
TZOFFSETFROM:+0200
TZOFFSETTO:+0100
TZNAME:CET
DTSTART:20231029T010000
END:STANDARD
BEGIN:DAYLIGHT
TZOFFSETFROM:+0100
TZOFFSETTO:+0200
TZNAME:CEST
DTSTART:20240331T010000
END:DAYLIGHT
BEGIN:STANDARD
TZOFFSETFROM:+0200
TZOFFSETTO:+0100
TZNAME:CET
DTSTART:20241027T010000
END:STANDARD
BEGIN:DAYLIGHT
TZOFFSETFROM:+0100
TZOFFSETTO:+0200
TZNAME:CEST
DTSTART:20250330T010000
END:DAYLIGHT
BEGIN:STANDARD
TZOFFSETFROM:+0200
TZOFFSETTO:+0100
TZNAME:CET
DTSTART:20251026T010000
END:STANDARD
END:VTIMEZONE
BEGIN:VEVENT
DTSTART;TZID=Europe/Vienna:20241213T160000
DTEND;TZID=Europe/Vienna:20241215T140000
DTSTAMP:20260420T083512
CREATED:20260415T163229Z
LAST-MODIFIED:20260415T165807Z
UID:33435-1734105600-1734271200@www.haus-der-stille.at
SUMMARY:Nach Hause kommen zu sich selbst
DESCRIPTION:Wir werden die 4 Schritte der Gewaltfreien Kommunikation (GFK) in ihrer spirituellen Tiefe erforschen \n\n\n\nBeobachtung: Wir üben das Wahrnehmen ohne zu bewerten – so kommen wir der Liebe auf die Spur\n\n\n\nGefühle: Wir erlauben uns zu fühlen\, was gerade in uns lebendig ist und verbinden uns dadurch mit der Quelle allen Lebens.\n\n\n\nBedürfnisse: Wir erforschen die Schönheit der Bedürfnisse und erfahren dabei\, wie Selbstliebe\, Nächstenliebe und Gottesliebe in der Tiefe eins sind.\n\n\n\nBitte: Wir gewinnen Klarheit\, was unser Beitrag ist\, die Bedürfnisqualitäten in die Welt zu bringen und begreifen damit\, dass wir ein einzigartiger Ausdruck der letzten Wirklichkeit sind.\n\n\n\nMethodisch wird vielfältig gearbeitet: Es gibt Inputs\, Übungen für sich selbst und in Kleingruppen\, zum eigenleiblichen Spüren und erforschen der 4 Schritte\, Austausch von Erfahrungen in der Gruppe\, auch die Natur wird uns unterstützen. \n\n\n\nVoraussetzung\n\n\n\nEine absolvierte Einführung in die Gewaltfreie Kommunikation ist hilfreich\, aber nicht notwendig. \n\n\n\nLeitung\n\n\n\nBirgit Schmidt Theologin\, CNVC zertifizierte Trainerin für Gewaltfreie Kommunikation\, Psychotherapeutin in Ausbildung unter Supervision \n\n\n\nAnmeldeschluss: 25.11.2025 \n\n\n\nKursbeitrag\n\n\n\n€ 210\,-
URL:https://www.haus-der-stille.at/veranstaltung/nach-hause-kommen-zu-sich-selbst/
CATEGORIES:Kurs
ATTACH;FMTTYPE=image/jpeg:https://www.haus-der-stille.at/wp-content/uploads/2024/02/Knospen-GFK.jpg
END:VEVENT
END:VCALENDAR