BEGIN:VCALENDAR
VERSION:2.0
PRODID:-//HAUS DER STILLE - ECPv6.15.20//NONSGML v1.0//EN
CALSCALE:GREGORIAN
METHOD:PUBLISH
X-WR-CALNAME:HAUS DER STILLE
X-ORIGINAL-URL:https://www.haus-der-stille.at
X-WR-CALDESC:Veranstaltungen für HAUS DER STILLE
REFRESH-INTERVAL;VALUE=DURATION:PT1H
X-Robots-Tag:noindex
X-PUBLISHED-TTL:PT1H
BEGIN:VTIMEZONE
TZID:Europe/Vienna
BEGIN:DAYLIGHT
TZOFFSETFROM:+0100
TZOFFSETTO:+0200
TZNAME:CEST
DTSTART:20240331T010000
END:DAYLIGHT
BEGIN:STANDARD
TZOFFSETFROM:+0200
TZOFFSETTO:+0100
TZNAME:CET
DTSTART:20241027T010000
END:STANDARD
BEGIN:DAYLIGHT
TZOFFSETFROM:+0100
TZOFFSETTO:+0200
TZNAME:CEST
DTSTART:20250330T010000
END:DAYLIGHT
BEGIN:STANDARD
TZOFFSETFROM:+0200
TZOFFSETTO:+0100
TZNAME:CET
DTSTART:20251026T010000
END:STANDARD
BEGIN:DAYLIGHT
TZOFFSETFROM:+0100
TZOFFSETTO:+0200
TZNAME:CEST
DTSTART:20260329T010000
END:DAYLIGHT
BEGIN:STANDARD
TZOFFSETFROM:+0200
TZOFFSETTO:+0100
TZNAME:CET
DTSTART:20261025T010000
END:STANDARD
END:VTIMEZONE
BEGIN:VEVENT
DTSTART;TZID=Europe/Vienna:20250627T180000
DTEND;TZID=Europe/Vienna:20250629T140000
DTSTAMP:20260420T033448
CREATED:20260415T151340Z
LAST-MODIFIED:20260415T170509Z
UID:33360-1751047200-1751205600@www.haus-der-stille.at
SUMMARY:Mein Leben stellen
DESCRIPTION:Entdecke die Kraft des Loslassens und die Magie der Veränderung durch systemische Aufstellungsarbeit.\n\n \n\nDu möchtest dich persönlich weiterentwickeln\, von alten unliebsamen Gegebenheiten in deinem Leben verabschieden oder eine wichtige Entscheidung treffen? Du willst emotionale oder mentale Blockaden erkennen und überwinden oder neue Perspektiven für dein Leben entwickeln?\n\n \n\nAn diesem Wochenende begleitet uns die Methode der systemischen Aufstellungs- und Ritualarbeit. Systemische Aufstellungsarbeit ermöglicht uns\, unseren guten Platz im System zu erkennen und eine innere Ordnung wiederherzustellen. Du kannst erfahren\, was z.B. hilfreich und förderlich ist zur Heilung alter Verletzungen\, für eine erfüllte Partnerschaft oder eine gute Zusammenarbeit in Teams. Wir arbeiten einzeln oder in Kleingruppen und es können auch ganze (Familien-) Systeme in der Großgruppe mit den individuellen Fragen der Teilnehmenden aufgestellt werden. Themen können sowohl private als auch berufliche Anliegen sein.\n\n \nVoraussetzungen\n \n\nEs ist kein Vorwissen erforderlich\, nur deine Bereitschaft\, dich auf den Prozess einzulassen. Psychische Gesundheit wird vorausgesetzt.\n\n \n\nBitte gib bei der Anmeldung bekannt\, ob du selber ein Anliegen aufstellen möchtest.\n\n \nLeitung\n \n\n\n\nChristine Bärnthaler\nPsychosoziale Beraterin (LSB)\, Erwachsenenbildnern\, ÖVS zertifizierte Supervisorin und Coach\, systemische Aufstellungsleiterin (DsA)\n\n \n\nGabriela Karall\nMaster of Science in Ayurveda Medizin\, Diplomierte Gesundheits- & Krankenschwester\, Yogatherapeutin\, Diplomierte Mentaltrainerin\, Systemische Aufstellungsleiterin (DsA)\n\n \nKursbeitrag\n \n\n€ 220\,- \nexkl. Aufenthaltskosten
URL:https://www.haus-der-stille.at/veranstaltung/mein-leben-stellen/
CATEGORIES:Kurs
ATTACH;FMTTYPE=image/jpeg:https://www.haus-der-stille.at/wp-content/uploads/2023/12/Aufstellungsarbeit-scaled-e1708251113872.jpg
END:VEVENT
END:VCALENDAR