BEGIN:VCALENDAR
VERSION:2.0
PRODID:-//HAUS DER STILLE - ECPv6.15.20//NONSGML v1.0//EN
CALSCALE:GREGORIAN
METHOD:PUBLISH
X-WR-CALNAME:HAUS DER STILLE
X-ORIGINAL-URL:https://www.haus-der-stille.at
X-WR-CALDESC:Veranstaltungen für HAUS DER STILLE
REFRESH-INTERVAL;VALUE=DURATION:PT1H
X-Robots-Tag:noindex
X-PUBLISHED-TTL:PT1H
BEGIN:VTIMEZONE
TZID:Europe/Vienna
BEGIN:DAYLIGHT
TZOFFSETFROM:+0100
TZOFFSETTO:+0200
TZNAME:CEST
DTSTART:20240331T010000
END:DAYLIGHT
BEGIN:STANDARD
TZOFFSETFROM:+0200
TZOFFSETTO:+0100
TZNAME:CET
DTSTART:20241027T010000
END:STANDARD
BEGIN:DAYLIGHT
TZOFFSETFROM:+0100
TZOFFSETTO:+0200
TZNAME:CEST
DTSTART:20250330T010000
END:DAYLIGHT
BEGIN:STANDARD
TZOFFSETFROM:+0200
TZOFFSETTO:+0100
TZNAME:CET
DTSTART:20251026T010000
END:STANDARD
BEGIN:DAYLIGHT
TZOFFSETFROM:+0100
TZOFFSETTO:+0200
TZNAME:CEST
DTSTART:20260329T010000
END:DAYLIGHT
BEGIN:STANDARD
TZOFFSETFROM:+0200
TZOFFSETTO:+0100
TZNAME:CET
DTSTART:20261025T010000
END:STANDARD
END:VTIMEZONE
BEGIN:VEVENT
DTSTART;TZID=Europe/Vienna:20250721T180000
DTEND;TZID=Europe/Vienna:20250726T100000
DTSTAMP:20260420T020035
CREATED:20260415T145349Z
LAST-MODIFIED:20260415T170713Z
UID:33342-1753120800-1753524000@www.haus-der-stille.at
SUMMARY:Mediation in Anlehnung an Zen
DESCRIPTION:Meditation im Sitzen (ca. 6×25 Minuten) und Gehen\n \n 	Körperübungen\n \n 	Impulse zum tieferen Verständnis des Übungsweges\n \n 	Durchgängiges Schweigen\n \n 	Möglichkeit zu Gesprächen mit den Kursleitern\n \n 	Gelegenheit zur Teilnahme an der Liturgie im Haus der Stille\n\n \nVoraussetzungen\n \n\nDer Kurs ist geeignet für Anfängerinnen und Anfänger\, die auf der Suche nach Stille\, Gelassenheit im Alltag und innerem Frieden sind und bereit sind\, sich auf das Abenteuer des Übens und Schweigens einzulassen (was auch konfrontierend sein kann).\n\n \n\nDurchgängige Teilnahme an allen Tagen wird erwartet.\n\n \n\nBei Unklarheiten bitten wir um telefonische Kontaktaufnahme mit den Kursleitern.\n\n \nLeitung\n \n\nReinhard Mendler\, Erziehungswissenschafter\, Lebensberater\, Supervisor\, Erwachsenenbildner\, Zenpraxis seit 1981\n\n \n\nHelmut Renger\, Psychiater\, Psychotherapeut und Lehrer für Achtsamkeitsbasierte Interventionen\, Zenpraxis seit 1992\n\n \nKursbeitrag\n \n\n€ 150\,00\nexkl. Aufenthaltskosten
URL:https://www.haus-der-stille.at/veranstaltung/mediation-in-anlehnung-an-zen/
CATEGORIES:Kurs
ATTACH;FMTTYPE=image/jpeg:https://www.haus-der-stille.at/wp-content/uploads/2022/02/ZEN.jpg
END:VEVENT
END:VCALENDAR