BEGIN:VCALENDAR
VERSION:2.0
PRODID:-//HAUS DER STILLE - ECPv6.15.20//NONSGML v1.0//EN
CALSCALE:GREGORIAN
METHOD:PUBLISH
X-WR-CALNAME:HAUS DER STILLE
X-ORIGINAL-URL:https://www.haus-der-stille.at
X-WR-CALDESC:Veranstaltungen für HAUS DER STILLE
REFRESH-INTERVAL;VALUE=DURATION:PT1H
X-Robots-Tag:noindex
X-PUBLISHED-TTL:PT1H
BEGIN:VTIMEZONE
TZID:Europe/Vienna
BEGIN:DAYLIGHT
TZOFFSETFROM:+0100
TZOFFSETTO:+0200
TZNAME:CEST
DTSTART:20240331T010000
END:DAYLIGHT
BEGIN:STANDARD
TZOFFSETFROM:+0200
TZOFFSETTO:+0100
TZNAME:CET
DTSTART:20241027T010000
END:STANDARD
BEGIN:DAYLIGHT
TZOFFSETFROM:+0100
TZOFFSETTO:+0200
TZNAME:CEST
DTSTART:20250330T010000
END:DAYLIGHT
BEGIN:STANDARD
TZOFFSETFROM:+0200
TZOFFSETTO:+0100
TZNAME:CET
DTSTART:20251026T010000
END:STANDARD
BEGIN:DAYLIGHT
TZOFFSETFROM:+0100
TZOFFSETTO:+0200
TZNAME:CEST
DTSTART:20260329T010000
END:DAYLIGHT
BEGIN:STANDARD
TZOFFSETFROM:+0200
TZOFFSETTO:+0100
TZNAME:CET
DTSTART:20261025T010000
END:STANDARD
END:VTIMEZONE
BEGIN:VEVENT
DTSTART;TZID=Europe/Vienna:20250828T090000
DTEND;TZID=Europe/Vienna:20250831T140000
DTSTAMP:20260420T020034
CREATED:20260415T143214Z
LAST-MODIFIED:20260415T170842Z
UID:33325-1756371600-1756648800@www.haus-der-stille.at
SUMMARY:Lebens-Muster: Überraschende Geschenke der Natur
DESCRIPTION:Ecoprint ist eine zauberhafte textile Technik mit oft überraschenden Ergebnissen. Achtsam wählen wir Blätter aus dem spätsommerlichen Garten der Stille und drucken sie auf Stoff -nur mit der Farbe\, die das Blatt abgibt\, etwas Alaun- oder Eisenbeize und Wasserdampf. Nach dem Auswickeln der gedämpften und ausgekühlten Stoffrollen dürfen wir staunen und überlegen\, was man daraus gestalten kann.\n\n \n\nMeditative Impulse\, Elemente der Biografiearbeit\, Austausch sowie der achtsame Umgang mit der Natur und uns selbst begleiten unser Tun. Aktive Phasen des Gestaltens am Vormittag\, eine längere Mittagspause und ruhige Phasen des Staunens und Reflektierens am Nachmittag unterstützen uns dabei.\n\n \n\nFür den ersten Vormittag stehen die Stoffe zur Verfügung\, an den weiteren Tagen kann mit eigenen Stoffen\, sowie mit dem Druck mit Eukalyptusblättern experimentiert werden.\n\n \n\nEine Liste mit geeigneten Stoffen wird rechtzeitig zugesandt.\n\n \n\nBericht über den Kurs im Jahr 2023 findest du hier\n\n \nVoraussetzungen\n \n\n 	Freude am gestalterischen Tun – handwerkliche Vorkenntnisse sind nicht nötig\n \n 	Bereitschaft\, sich auf die Impulse und den Austausch einzulassen\n\n \nLeitung\n \n\nIrmgard Moldaschl\nErwachsenenbildnerin (wba)\, Ausbildungen in Biografiearbeit (Lebensmutig)\, Poesie- und Bibliotherapie (eag/fpi)\, Textilkünstlerin\n\n \n\nMaria Grentner\nMitarbeiterin im Haus der Stille\, Schneiderin\, Familienhelferin\n\n \nKursbeitrag\n \n\nKurs ist ausgebucht. Anmeldung auf Warteliste möglich.\n\n \n\n€ 150\,-\nexkl. Aufenthaltskosten\n\n \nMaterialkosten\n \n\nDie Materialkosten werden extra verrechnet – Grundbetrag für Starterpaket: € 15\,-\nWeitere Stoffe aus Naturfasern wie Baumwolle\, Leinen\, Wolle und Seide bitte mitbringen! Eine kleine  Auswahl an geeigneten Stoffen steht im Kurs zum Selbstkostenbeitrag zur Verfügung.
URL:https://www.haus-der-stille.at/veranstaltung/lebens-muster-ueberraschende-geschenke-der-natur/
CATEGORIES:Kurs
ATTACH;FMTTYPE=image/jpeg:https://www.haus-der-stille.at/wp-content/uploads/2024/10/IMG_6118-2-002.jpeg
END:VEVENT
END:VCALENDAR