BEGIN:VCALENDAR
VERSION:2.0
PRODID:-//HAUS DER STILLE - ECPv6.15.20//NONSGML v1.0//EN
CALSCALE:GREGORIAN
METHOD:PUBLISH
X-WR-CALNAME:HAUS DER STILLE
X-ORIGINAL-URL:https://www.haus-der-stille.at
X-WR-CALDESC:Veranstaltungen für HAUS DER STILLE
REFRESH-INTERVAL;VALUE=DURATION:PT1H
X-Robots-Tag:noindex
X-PUBLISHED-TTL:PT1H
BEGIN:VTIMEZONE
TZID:Europe/Vienna
BEGIN:DAYLIGHT
TZOFFSETFROM:+0100
TZOFFSETTO:+0200
TZNAME:CEST
DTSTART:20240331T010000
END:DAYLIGHT
BEGIN:STANDARD
TZOFFSETFROM:+0200
TZOFFSETTO:+0100
TZNAME:CET
DTSTART:20241027T010000
END:STANDARD
BEGIN:DAYLIGHT
TZOFFSETFROM:+0100
TZOFFSETTO:+0200
TZNAME:CEST
DTSTART:20250330T010000
END:DAYLIGHT
BEGIN:STANDARD
TZOFFSETFROM:+0200
TZOFFSETTO:+0100
TZNAME:CET
DTSTART:20251026T010000
END:STANDARD
BEGIN:DAYLIGHT
TZOFFSETFROM:+0100
TZOFFSETTO:+0200
TZNAME:CEST
DTSTART:20260329T010000
END:DAYLIGHT
BEGIN:STANDARD
TZOFFSETFROM:+0200
TZOFFSETTO:+0100
TZNAME:CET
DTSTART:20261025T010000
END:STANDARD
END:VTIMEZONE
BEGIN:VEVENT
DTSTART;TZID=Europe/Vienna:20251109T170000
DTEND;TZID=Europe/Vienna:20251109T190000
DTSTAMP:20260423T190422
CREATED:20260414T220300Z
LAST-MODIFIED:20260415T171332Z
UID:33199-1762707600-1762714800@www.haus-der-stille.at
SUMMARY:Konzertreihe: Musik der Stille
DESCRIPTION:Musik und Stille – passt das zusammen?\n \n\nWir meinen: Ja. Es gibt Musik\, die in die Stille führt\, die sie sogar vertieft.\n\n \n\nIn unserer neuen Konzertreihe „Musik der Stille“ laden wir Musiker:innen verschiedener Genres ein\, den Zusammenhang zwischen Stille und Musik auf ihre Weise zu erkunden und mit uns zu teilen. Ergänzt wird die Musik durch meditative Texte.\n\n \nGospelysium – Wie bitte?\n \n\n\n\nNun ja\, in der antiken Mythologie steht das Elysium für einen himmlischen Ort\, eine Insel der Seligen. So ist der Name Gospelysium bereits Programm: Der erste Teil „Gospel“ steht für die musikalischen Wurzeln des Ensembles\, während der zweite Teil „Elysium“ den Anspruch verrät\, über das gemeinsame Singen ein Stück Himmel auf Erden zu verbreiten.\n\n \n\nDie Zusammensetzung der aktuell 20 Sänger und Sängerinnen aus Heiligenkreuz am Waasen ist bunt:\nVon Krankenschwester und Jurist über Landwirt und Lehrer bis hin zu Trafikantin und Chemikerin ist alles vorhanden. Musikalisches Bindeglied dieser bunten Konstellation: Die Freude am gemeinsamen Singen…\n\n \n\nDie musikalischen Wurzeln von Gospelysium liegen – Richtig geraten! – im Gospel. Im Laufe der Jahre wurde das Repertoire jedoch immer vielfältiger\, sodass sich heute darin neben Gospels und Spirituals auch klassische Literatur und moderne Nummern aus Rock\, Pop und Jazz finden. Und auch das eine oder andere Volkslied hat sich schon ins Repertoire geschummelt. Am besten: Ohren spitzen und sich bei einem Konzert selbst überzeugen.\n\n \n\nSonntag\, 9. November 2025\, Konzert „Gospelysium“ 17:00 – ca. 18:00 Uhr\, anschließend Buffet\n \n\nAls Benefizkonzert für den Umbau und die Sanierung des Hauses bitten wir um deine großzügige freiwillige Spende für das Konzert und um Anmeldung zum Buffet\, bei dem du um 15 € dabei sein kannst\, unter info@haus-der-stille.at.\n\n \nWeitere Termine\n \n\nSamstag 4. Oktober 2025 17.00 – ca. 18.00\nEnsemble Hrozny-Kügerl\nim Anschluss Benefizbuffet (15\,- Euro\, Anmeldung erbeten unter info@haus-der-stille.at)\n\n \n\nSonntag\, 14.12.2025 16.30\nWeisenbläser „Quartett Steirische Blas“\nab 17.00 Offenes Adventsingen – ca. 18.15\nim Anschluss Benefizbuffet (15\,- Euro\, Anmeldung erbeten unter info@haus-der-stille.at)
URL:https://www.haus-der-stille.at/veranstaltung/konzertreihe-musik-der-stille/
CATEGORIES:Sonderveranstaltung
ATTACH;FMTTYPE=image/jpeg:https://www.haus-der-stille.at/wp-content/uploads/2025/09/Gospelysium-Copyright-Gospelysium-scaled.jpg
END:VEVENT
END:VCALENDAR