BEGIN:VCALENDAR
VERSION:2.0
PRODID:-//HAUS DER STILLE - ECPv6.15.20//NONSGML v1.0//EN
CALSCALE:GREGORIAN
METHOD:PUBLISH
X-WR-CALNAME:HAUS DER STILLE
X-ORIGINAL-URL:https://www.haus-der-stille.at
X-WR-CALDESC:Veranstaltungen für HAUS DER STILLE
REFRESH-INTERVAL;VALUE=DURATION:PT1H
X-Robots-Tag:noindex
X-PUBLISHED-TTL:PT1H
BEGIN:VTIMEZONE
TZID:Europe/Vienna
BEGIN:DAYLIGHT
TZOFFSETFROM:+0100
TZOFFSETTO:+0200
TZNAME:CEST
DTSTART:20240331T010000
END:DAYLIGHT
BEGIN:STANDARD
TZOFFSETFROM:+0200
TZOFFSETTO:+0100
TZNAME:CET
DTSTART:20241027T010000
END:STANDARD
BEGIN:DAYLIGHT
TZOFFSETFROM:+0100
TZOFFSETTO:+0200
TZNAME:CEST
DTSTART:20250330T010000
END:DAYLIGHT
BEGIN:STANDARD
TZOFFSETFROM:+0200
TZOFFSETTO:+0100
TZNAME:CET
DTSTART:20251026T010000
END:STANDARD
BEGIN:DAYLIGHT
TZOFFSETFROM:+0100
TZOFFSETTO:+0200
TZNAME:CEST
DTSTART:20260329T010000
END:DAYLIGHT
BEGIN:STANDARD
TZOFFSETFROM:+0200
TZOFFSETTO:+0100
TZNAME:CET
DTSTART:20261025T010000
END:STANDARD
END:VTIMEZONE
BEGIN:VEVENT
DTSTART;TZID=Europe/Vienna:20251004T170000
DTEND;TZID=Europe/Vienna:20251004T190000
DTSTAMP:20260420T001312
CREATED:20260415T140030Z
LAST-MODIFIED:20260415T140030Z
UID:33299-1759597200-1759604400@www.haus-der-stille.at
SUMMARY:Konzertreihe: Musik der Stille
DESCRIPTION:Musik und Stille – passt das zusammen?\n \nWir meinen: Ja. Es gibt Musik\, die in die Stille führt\, die sie sogar vertieft.\n \nIn unserer neuen Konzertreihe „Musik der Stille“ laden wir Musiker:innen verschiedener Genres ein\, den Zusammenhang zwischen Stille und Musik auf ihre Weise zu erkunden und mit uns zu teilen. Ergänzt wird die Musik durch meditative Texte.\n\n \n\nAm 4. Oktober begehen wir anlässlich des Franziskusfestes auch das Jubiläum „800 Jahre Sonnengesang des Heiligen Franz von Assisi“.\n\n \n\nMittelalterliche Musik vom Ensemble Hrozny-Kügerl versetzt uns in die Welt des Heiligen Franz\, Marlies Prettenthaler-Heckel liest eigene Meditationen zum Sonnengesang.\n\n \n\nSamstag\, 4.10.2025\, Konzert „Sonnengesang“ 17:00 – 18:00 Uhr\, anschließend Buffet\n \n\nAls Benefizkonzert für den Umbau und die Sanierung des Hauses bitten wir um deine großzügige freiwillige Spende für das Konzert und um Anmeldung zum Buffet\, bei dem du um 15 € dabei sein kannst\, unter info@haus-der-stille.at.\n\n \nWeitere Termine\n \n\nSonntag\, 9.11.2025 17.00 – ca. 18.15\nGOSPELYSIUM\nim Anschluss Benefizbuffet (15\,- Euro\, Anmeldung erbeten unter info@haus-der-stille.at)\n\n \n\nSonntag\, 14.12.2025 16.30\nWeisenbläser „Quartett Steirische Blas“\nab 17.00 Offenes Adventsingen – ca. 18.15\nim Anschluss Benefizbuffet (15\,- Euro\, Anmeldung erbeten unter info@haus-der-stille.at)
URL:https://www.haus-der-stille.at/veranstaltung/konzertreihe-musik-der-stille-2/
CATEGORIES:Sonderveranstaltung
ATTACH;FMTTYPE=image/jpeg:https://www.haus-der-stille.at/wp-content/uploads/2025/08/sunset-cowins-pixabay-e1756966334189.jpg
END:VEVENT
END:VCALENDAR