BEGIN:VCALENDAR
VERSION:2.0
PRODID:-//HAUS DER STILLE - ECPv6.15.20//NONSGML v1.0//EN
CALSCALE:GREGORIAN
METHOD:PUBLISH
X-WR-CALNAME:HAUS DER STILLE
X-ORIGINAL-URL:https://www.haus-der-stille.at
X-WR-CALDESC:Veranstaltungen für HAUS DER STILLE
REFRESH-INTERVAL;VALUE=DURATION:PT1H
X-Robots-Tag:noindex
X-PUBLISHED-TTL:PT1H
BEGIN:VTIMEZONE
TZID:Europe/Vienna
BEGIN:DAYLIGHT
TZOFFSETFROM:+0100
TZOFFSETTO:+0200
TZNAME:CEST
DTSTART:20240331T010000
END:DAYLIGHT
BEGIN:STANDARD
TZOFFSETFROM:+0200
TZOFFSETTO:+0100
TZNAME:CET
DTSTART:20241027T010000
END:STANDARD
BEGIN:DAYLIGHT
TZOFFSETFROM:+0100
TZOFFSETTO:+0200
TZNAME:CEST
DTSTART:20250330T010000
END:DAYLIGHT
BEGIN:STANDARD
TZOFFSETFROM:+0200
TZOFFSETTO:+0100
TZNAME:CET
DTSTART:20251026T010000
END:STANDARD
BEGIN:DAYLIGHT
TZOFFSETFROM:+0100
TZOFFSETTO:+0200
TZNAME:CEST
DTSTART:20260329T010000
END:DAYLIGHT
BEGIN:STANDARD
TZOFFSETFROM:+0200
TZOFFSETTO:+0100
TZNAME:CET
DTSTART:20261025T010000
END:STANDARD
END:VTIMEZONE
BEGIN:VEVENT
DTSTART;TZID=Europe/Vienna:20250305T000000
DTEND;TZID=Europe/Vienna:20250319T000000
DTSTAMP:20260420T065703
CREATED:20260415T160724Z
LAST-MODIFIED:20260415T165958Z
UID:33411-1741132800-1742342400@www.haus-der-stille.at
SUMMARY:In Liebe zur Welt und zum Leben
DESCRIPTION:Zeitgemäße Wege des Christseins sind immer wieder neu ein Thema\, weil sich die Zeiten ständig wandeln. Aus biblischen und anderen Quellen Anregungen finden in Liebe zur Welt und zum Leben\, das ist der Versuch\, zwei Wochen ab dem Aschermittwoch auf Ostern hin geistliche Vertiefung und Erneuerung zu finden.\n\n \n\nOnline-Exerzitien bedeuten: Jeden Tag wird ein kurzer Impuls per Email zugesendet\, so kurz\, dass man ihn in den Tag mitnehmen kann. Jeden Tag hält man zu Hause oder anderswo eine kurze Zeit des Gebets (20 bis 30 Min)\, individuelle Begleitung per Email ist möglich\, 2 online-Gespräche in der Gruppe werden angeboten.\n\n \nLeitung\n \n\nBrigitte Proksch\, Theologin\, Seelsorgerin\, Exerzitienbegleiterin\n\n \nKursbeitrag\n \n\n € 40\,- \n\n \n\nMit der Überweisung des Beitrages an\nHaus der Stille\,\nIBAN: AT23 3817 0000 0101 2442\,\nist deine Anmeldung fixiert.
URL:https://www.haus-der-stille.at/veranstaltung/in-liebe-zur-welt-und-zum-leben/
CATEGORIES:Kurs
ATTACH;FMTTYPE=image/jpeg:https://www.haus-der-stille.at/wp-content/uploads/2024/02/sunset-pixabay_kanenori.jpg
END:VEVENT
END:VCALENDAR