BEGIN:VCALENDAR
VERSION:2.0
PRODID:-//HAUS DER STILLE - ECPv6.15.20//NONSGML v1.0//EN
CALSCALE:GREGORIAN
METHOD:PUBLISH
X-WR-CALNAME:HAUS DER STILLE
X-ORIGINAL-URL:https://www.haus-der-stille.at
X-WR-CALDESC:Veranstaltungen für HAUS DER STILLE
REFRESH-INTERVAL;VALUE=DURATION:PT1H
X-Robots-Tag:noindex
X-PUBLISHED-TTL:PT1H
BEGIN:VTIMEZONE
TZID:Europe/Vienna
BEGIN:DAYLIGHT
TZOFFSETFROM:+0100
TZOFFSETTO:+0200
TZNAME:CEST
DTSTART:20240331T010000
END:DAYLIGHT
BEGIN:STANDARD
TZOFFSETFROM:+0200
TZOFFSETTO:+0100
TZNAME:CET
DTSTART:20241027T010000
END:STANDARD
BEGIN:DAYLIGHT
TZOFFSETFROM:+0100
TZOFFSETTO:+0200
TZNAME:CEST
DTSTART:20250330T010000
END:DAYLIGHT
BEGIN:STANDARD
TZOFFSETFROM:+0200
TZOFFSETTO:+0100
TZNAME:CET
DTSTART:20251026T010000
END:STANDARD
BEGIN:DAYLIGHT
TZOFFSETFROM:+0100
TZOFFSETTO:+0200
TZNAME:CEST
DTSTART:20260329T010000
END:DAYLIGHT
BEGIN:STANDARD
TZOFFSETFROM:+0200
TZOFFSETTO:+0100
TZNAME:CET
DTSTART:20261025T010000
END:STANDARD
END:VTIMEZONE
BEGIN:VEVENT
DTSTART;TZID=Europe/Vienna:20250110T180000
DTEND;TZID=Europe/Vienna:20250112T140000
DTSTAMP:20260420T082658
CREATED:20260415T162349Z
LAST-MODIFIED:20260415T165843Z
UID:33429-1736532000-1736690400@www.haus-der-stille.at
SUMMARY:Ich sing dir mein Lied
DESCRIPTION:Unser Liederbuch „du mit uns 2“ enthält viele Lieder\, die noch immer wenig bekannt sind. Der Schwerpunkt an diesem Wochenende wird daher neben dem Kennenlernen einiger neuer Lieder von Hans Waltersdorfer wieder das gemeinsame Singen aus dem Liederbuch sein. Dabei wird auf die Wünsche der Teilnehmer*innen eingegangen.\n\n \n\n-> Nach Möglichkeit bitte gerne eigene Instrumente mitnehmen!\n\n \nLeitung\n \n\nHans Waltersdorfer\nTheologe\, christlicher Liedermacher\, Foto-Kunsthandwerker\n\n \nKursbeitrag\n \n\n€ 40\,-\nexkl. Aufenthaltskosten
URL:https://www.haus-der-stille.at/veranstaltung/ich-sing-dir-mein-lied/
CATEGORIES:Kurs
ATTACH;FMTTYPE=image/jpeg:https://www.haus-der-stille.at/wp-content/uploads/2021/10/Singen-e1708272440139.jpg
END:VEVENT
END:VCALENDAR