BEGIN:VCALENDAR
VERSION:2.0
PRODID:-//HAUS DER STILLE - ECPv6.15.20//NONSGML v1.0//EN
CALSCALE:GREGORIAN
METHOD:PUBLISH
X-WR-CALNAME:HAUS DER STILLE
X-ORIGINAL-URL:https://www.haus-der-stille.at
X-WR-CALDESC:Veranstaltungen für HAUS DER STILLE
REFRESH-INTERVAL;VALUE=DURATION:PT1H
X-Robots-Tag:noindex
X-PUBLISHED-TTL:PT1H
BEGIN:VTIMEZONE
TZID:Europe/Vienna
BEGIN:DAYLIGHT
TZOFFSETFROM:+0100
TZOFFSETTO:+0200
TZNAME:CEST
DTSTART:20240331T010000
END:DAYLIGHT
BEGIN:STANDARD
TZOFFSETFROM:+0200
TZOFFSETTO:+0100
TZNAME:CET
DTSTART:20241027T010000
END:STANDARD
BEGIN:DAYLIGHT
TZOFFSETFROM:+0100
TZOFFSETTO:+0200
TZNAME:CEST
DTSTART:20250330T010000
END:DAYLIGHT
BEGIN:STANDARD
TZOFFSETFROM:+0200
TZOFFSETTO:+0100
TZNAME:CET
DTSTART:20251026T010000
END:STANDARD
BEGIN:DAYLIGHT
TZOFFSETFROM:+0100
TZOFFSETTO:+0200
TZNAME:CEST
DTSTART:20260329T010000
END:DAYLIGHT
BEGIN:STANDARD
TZOFFSETFROM:+0200
TZOFFSETTO:+0100
TZNAME:CET
DTSTART:20261025T010000
END:STANDARD
END:VTIMEZONE
BEGIN:VEVENT
DTSTART;TZID=Europe/Vienna:20250814T150000
DTEND;TZID=Europe/Vienna:20250817T140000
DTSTAMP:20260420T015018
CREATED:20260415T144137Z
LAST-MODIFIED:20260415T170806Z
UID:33331-1755183600-1755439200@www.haus-der-stille.at
SUMMARY:Hinterm Horizont geht's weiter
DESCRIPTION:Neu hoffen und sich verbinden \nAngelehnt an den Song-Titel von Udo Lindenberg hoffen und wissen wir: Es geht immer neu weiter! \nDie Entwicklungstage bieten einen Erfahrungsraum für Menschen\, die ihre christliche Spiritualität lebensnah\, tiefgehend und in Verbindung mit den Herausforderungen unserer Zeit erleben möchten. Im Mittelpunkt steht eine Hoffnung\, die sich nicht in Vertröstungen erschöpft\, sondern inmitten von Wandel\, Verlust und Unsicherheit neue Perspektiven eröffnet. Es geht um ein Hoffen\, das annimmt\, was ist – und daraus Kraft schöpft\, sich zu verbinden\, sich neu auszurichten und gemeinsam aufzubrechen. \nInhaltliche Schwerpunkte: \n\n\nIm Reich Gottes mitgehen lernen: Der Prozess des Werdens.\n\n\nVerlust als Teil des Wandels verstehen und daraus frische Lebensvisionen entwickeln.\n\n\nIm Dialog und in der Natur auf mich\, auf andere\, in die Stille hören.\n\n\nElemente der Tage:Do: einsteigen\, sehen/hören/spüren\, tiefen\, austauschenFr: erleben\, erfahren\, üben\, austauschen\, kreativ seinSa: selbst aktiv sein\, erleben\, weiten\, stärken So: vertiefen\, ernten\, erfüllt weitergehen \nMethoden und Formate: \nEin vielfältiges Zusammenspiel aus  Verkörperungen / Impulse / Dialog zu zweit\, in Kleingruppen und in der Großgruppe / Workshops / Offene Räume / Rituale / Übungen / Kreativität … \nRegionale Entwicklungstage: \nsinnen-reich erlebend & denkend\, sprechend\, handelndexperimentell & behutsam Grenzen achtendpartizipativ & neugierig: was ich lernen und wozu ich vielleicht einladen werdevernetzend & verbindend: Menschen in der Region und darüber hinaus kennenlernen \nImpulsvortrag: „Wandel heißt Werden und Vergehen – doch: Hinter’m Horizont geht’s weiter!“ Dr. Hans-Peter Eggerl (Theologe\, Künstler\, spiritueller Entwickler)\nWorkshops:\n\n\nVon christlichen Quellen ins Weite MEHR (Hans-Peter Eggerl)\n\n\nVertrauen gibt mir Hoffnung. – Viel geht\, wenn nichts mehr geht. (Eric Nsengumukiza\, Andreas Schulz)\n\n\nWie können wir Hoffnung in die Welt bringen? (Barbara Buchinger)\n\n\nHospicing: Verlust als Teil des Wandels (Bernhard Possert)\n\n\nBewegte Worte – lebendige Hoffnung (Moritz Obenaus\, Sarah Straßnig)\n\n\nTrotzdem hoffen – Viktor E. Frankls Vermächtnis (Birgit Prochazka)\n\n\nAusführliche Beschreibung der Workshops \nLeitung\nSarah StraßnigPsychologin\, Studentin der Theologie\, in Ausbildung zur Logotherapeutin und Existenzanalytikerin \nAndreas SchulzEhrenamtliche Mitarbeit in der evangelischen Kirche\, viel ökumenisch unterwegs.  Verschiedene Ausbildungen wie Art of hosting\, Umgang mit Komplexität\, Gott 9.0 … \nBarbara BuchingerErwachsenenbildnerin\, Mitarbeiterin im Bereich Gemeindepastoral der Diözese Eisenstadt \nSusanne NoffkePastoralreferentin Diözese Graz-Seckau\, freiberufliche Coach/Supervisorin \nBernhard Possertu.a. Coach; intensive Beschäftigung mit Entwicklungspsychologie\, Dialektischem Denken und Integraler Spiritualität \nMoritz ObenausTheologe\, Eurythmist \n… und weitere Referenten/Referentinnen \nKursbeitrag\n€ 190\,-exkl. Aufenthaltskosten \nIn Kooperation mit der Diözese Eisenstadt und CO-Net.
URL:https://www.haus-der-stille.at/veranstaltung/hinterm-horizont-gehts-weiter/
CATEGORIES:Kurs
ATTACH;FMTTYPE=image/jpeg:https://www.haus-der-stille.at/wp-content/uploads/2024/12/mountains-190055_1280_danfador_pixabay.jpg
END:VEVENT
END:VCALENDAR