BEGIN:VCALENDAR
VERSION:2.0
PRODID:-//HAUS DER STILLE - ECPv6.15.20//NONSGML v1.0//EN
CALSCALE:GREGORIAN
METHOD:PUBLISH
X-WR-CALNAME:HAUS DER STILLE
X-ORIGINAL-URL:https://www.haus-der-stille.at
X-WR-CALDESC:Veranstaltungen für HAUS DER STILLE
REFRESH-INTERVAL;VALUE=DURATION:PT1H
X-Robots-Tag:noindex
X-PUBLISHED-TTL:PT1H
BEGIN:VTIMEZONE
TZID:Europe/Vienna
BEGIN:DAYLIGHT
TZOFFSETFROM:+0100
TZOFFSETTO:+0200
TZNAME:CEST
DTSTART:20240331T010000
END:DAYLIGHT
BEGIN:STANDARD
TZOFFSETFROM:+0200
TZOFFSETTO:+0100
TZNAME:CET
DTSTART:20241027T010000
END:STANDARD
BEGIN:DAYLIGHT
TZOFFSETFROM:+0100
TZOFFSETTO:+0200
TZNAME:CEST
DTSTART:20250330T010000
END:DAYLIGHT
BEGIN:STANDARD
TZOFFSETFROM:+0200
TZOFFSETTO:+0100
TZNAME:CET
DTSTART:20251026T010000
END:STANDARD
BEGIN:DAYLIGHT
TZOFFSETFROM:+0100
TZOFFSETTO:+0200
TZNAME:CEST
DTSTART:20260329T010000
END:DAYLIGHT
BEGIN:STANDARD
TZOFFSETFROM:+0200
TZOFFSETTO:+0100
TZNAME:CET
DTSTART:20261025T010000
END:STANDARD
END:VTIMEZONE
BEGIN:VEVENT
DTSTART;TZID=Europe/Vienna:20250322T143000
DTEND;TZID=Europe/Vienna:20250323T140000
DTSTAMP:20260420T065502
CREATED:20260415T160042Z
LAST-MODIFIED:20260415T170052Z
UID:33403-1742653800-1742738400@www.haus-der-stille.at
SUMMARY:Gott meiner Sehnsucht
DESCRIPTION:Die Psalmen – dieses seit Jahrtausenden gebetete Liedgut der Menschheit gilt Vielen heute als schwer verständlich\, anstößig und überholt. In einer Spurensuche nach ihrer Faszination nähern wir uns einigen dieser Texte in der Form des Bibliologs und im Singen. (Bibliolog siehe: www.bibliolog.at\, www.bibliolognetzwerk.org ) \n\n\n\nVoraussetzung\n\n\n\nInteresse an biblischen Texten \n\n\n\nLeitung\n\n\n\nHedi Mislik Institut für Hort- und Heimerziehung der Gemeinde Wien\, Schule für Gymnastik und Tanz Grete Bieberbach\, ChoRa Kreistanzleiterin\, Tanz- und Ausdruckspädagogin \n\n\n\nKurt Schmidl Bibliologe \n\n\n\nKursbeitrag\n\n\n\n€ 50\,- exkl. Aufenthaltskosten
URL:https://www.haus-der-stille.at/veranstaltung/gott-meiner-sehnsucht/
CATEGORIES:Kurs
ATTACH;FMTTYPE=image/png:https://www.haus-der-stille.at/wp-content/uploads/2023/06/Umschlag-Kantorenheft-Hoefer-Psalmen-erleben-e1707904045340.png
END:VEVENT
END:VCALENDAR