BEGIN:VCALENDAR
VERSION:2.0
PRODID:-//HAUS DER STILLE - ECPv6.15.20//NONSGML v1.0//EN
CALSCALE:GREGORIAN
METHOD:PUBLISH
X-WR-CALNAME:HAUS DER STILLE
X-ORIGINAL-URL:https://www.haus-der-stille.at
X-WR-CALDESC:Veranstaltungen für HAUS DER STILLE
REFRESH-INTERVAL;VALUE=DURATION:PT1H
X-Robots-Tag:noindex
X-PUBLISHED-TTL:PT1H
BEGIN:VTIMEZONE
TZID:Europe/Vienna
BEGIN:DAYLIGHT
TZOFFSETFROM:+0100
TZOFFSETTO:+0200
TZNAME:CEST
DTSTART:20240331T010000
END:DAYLIGHT
BEGIN:STANDARD
TZOFFSETFROM:+0200
TZOFFSETTO:+0100
TZNAME:CET
DTSTART:20241027T010000
END:STANDARD
BEGIN:DAYLIGHT
TZOFFSETFROM:+0100
TZOFFSETTO:+0200
TZNAME:CEST
DTSTART:20250330T010000
END:DAYLIGHT
BEGIN:STANDARD
TZOFFSETFROM:+0200
TZOFFSETTO:+0100
TZNAME:CET
DTSTART:20251026T010000
END:STANDARD
BEGIN:DAYLIGHT
TZOFFSETFROM:+0100
TZOFFSETTO:+0200
TZNAME:CEST
DTSTART:20260329T010000
END:DAYLIGHT
BEGIN:STANDARD
TZOFFSETFROM:+0200
TZOFFSETTO:+0100
TZNAME:CET
DTSTART:20261025T010000
END:STANDARD
END:VTIMEZONE
BEGIN:VEVENT
DTSTART;TZID=Europe/Vienna:20250919T160000
DTEND;TZID=Europe/Vienna:20250921T140000
DTSTAMP:20260420T000255
CREATED:20260415T141655Z
LAST-MODIFIED:20260415T170933Z
UID:33313-1758297600-1758463200@www.haus-der-stille.at
SUMMARY:Frauenkraft-Seminar
DESCRIPTION:Vertraust du deiner Intuition\, deiner natürlichen Feinspürigkeit\, deinem Herzen? Folgst du deinen Träumen und Sehnsüchten? Weißt du\, wie vielschichtig und begabt du als Frau bist?\n\nFrauen haben das Potential liebende Herzenswesen\, Heldinnen\, Rebellinnen\, Feministinnen\, Impulsgeberinnen\, Über-Lebens-Künstlerinnen\, Metamorphosen-Meisterinnen\, kreative Schöpferinnen\, Friedensbotschafterinnen\, weise Heilerinnen und noch vieles mehr zu sein.\n\nAn diesem Wochenende ehren\, stärken und feiern wir unsere Weiblichkeit. Wir laden die Energie unserer Ahninnen und weiblichen Archetypen ein. Achtsam und wohlwollend begegnen wir uns selbst und den anderen Frauen\, spüren die Verbundenheit. Wir nähern uns mit viel Selbstmitgefühl alten Verletzungen/Blockaden\, befrieden\, transformieren. Wir lauschen dem weisen Herzen\, lassen uns freudig inspirieren und spüren Lust auf die pulsierende weibliche Urkraft des Lebens\, die sich durch uns ausdrücken möchte.\n\nDurch das Seminar begleiten uns ressourcenorientierte\, achtsame und meditative Übungen\, kraftvolle Herzenslieder\, Blockaden-lösende Körperübungen\, Tänze\, Naturerleben und Stille\, intuitives Schreiben\, heilsame Rituale und die tragende Kraft und Magie des Frauenkreises.\n\nGrafik ©unterrichtmitspass\n\n\nBitte mitbringen:\n \n\nBequeme Kleidung\, Decke\, ein Lieblingstuch\, 3 persönliche Lieblingsgegenstände\, Stift und Papier.\n\n \nLeitung\n \n\nRomana Ondra\nKlinische und Gesundheitspsychologin\, Trauma-Behandlerin\, Herzensmeditationslehrerin\n\n \nKursbeitrag\n \n\n€ 230\,- \nexkl. Aufenthaltskosten
URL:https://www.haus-der-stille.at/veranstaltung/frauenkraft-seminar-2/
CATEGORIES:Kurs
ATTACH;FMTTYPE=image/png:https://www.haus-der-stille.at/wp-content/uploads/2024/03/Bild.png
END:VEVENT
END:VCALENDAR