BEGIN:VCALENDAR
VERSION:2.0
PRODID:-//HAUS DER STILLE - ECPv6.15.20//NONSGML v1.0//EN
CALSCALE:GREGORIAN
METHOD:PUBLISH
X-WR-CALNAME:HAUS DER STILLE
X-ORIGINAL-URL:https://www.haus-der-stille.at
X-WR-CALDESC:Veranstaltungen für HAUS DER STILLE
REFRESH-INTERVAL;VALUE=DURATION:PT1H
X-Robots-Tag:noindex
X-PUBLISHED-TTL:PT1H
BEGIN:VTIMEZONE
TZID:Europe/Vienna
BEGIN:DAYLIGHT
TZOFFSETFROM:+0100
TZOFFSETTO:+0200
TZNAME:CEST
DTSTART:20240331T010000
END:DAYLIGHT
BEGIN:STANDARD
TZOFFSETFROM:+0200
TZOFFSETTO:+0100
TZNAME:CET
DTSTART:20241027T010000
END:STANDARD
BEGIN:DAYLIGHT
TZOFFSETFROM:+0100
TZOFFSETTO:+0200
TZNAME:CEST
DTSTART:20250330T010000
END:DAYLIGHT
BEGIN:STANDARD
TZOFFSETFROM:+0200
TZOFFSETTO:+0100
TZNAME:CET
DTSTART:20251026T010000
END:STANDARD
BEGIN:DAYLIGHT
TZOFFSETFROM:+0100
TZOFFSETTO:+0200
TZNAME:CEST
DTSTART:20260329T010000
END:DAYLIGHT
BEGIN:STANDARD
TZOFFSETFROM:+0200
TZOFFSETTO:+0100
TZNAME:CET
DTSTART:20261025T010000
END:STANDARD
END:VTIMEZONE
BEGIN:VEVENT
DTSTART;TZID=Europe/Vienna:20250706T180000
DTEND;TZID=Europe/Vienna:20250711T190000
DTSTAMP:20260420T034453
CREATED:20260415T150413Z
LAST-MODIFIED:20260415T170603Z
UID:33352-1751824800-1752260400@www.haus-der-stille.at
SUMMARY:Einzelexerzitien nach Ignatius von Loyola
DESCRIPTION:Innehalten\, das Leben ordnen\, den eigenen Weg reflektieren und die Ausrichtung suchen oder vergewissern\, eventuell Entscheidungen treffen – Vertiefung und Schriftmeditation in Stille. \n\n\nNach einem gemeinsamen Anfangsimpuls am 1. Tag durchgängiges Schweigen\n\n\nindividuelle Gebetszeiten (etwa 3 Std pro Tag\, wird je persönlich besprochen)\n\n\nTägliches Gespräch mit der Begleitung (als Angebot)\n\n\nMöglichkeit zur Teilnahme an der Liturgie im Haus der Stille\n\n\nGerne kann der Sonntag zum Ausklingen genutzt werden. \nVoraussetzungen\nBereitschaft zu durchgängigem Schweigen. \nLeitung\nBrigitte ProkschTheologin\, Exerzitienbegleiterin und Seelsorgerin \nKursbeitrag\n€ 150\,-exkl. Aufenthaltskosten (5x Vollpension und ein zusätzliches Abendessen)
URL:https://www.haus-der-stille.at/veranstaltung/einzelexerzitien-nach-ignatius-von-loyola/
CATEGORIES:Kurs
ATTACH;FMTTYPE=image/png:https://www.haus-der-stille.at/wp-content/uploads/2023/03/Sanduhr-Pitiphothivichit-Getty-Images-e1708271351775.png
END:VEVENT
END:VCALENDAR